Workbook
Name \0: #REF!
Name \a: #N/A
Name \b: #N/A
Name \C: #REF!
Name \D: #REF!
Name \E: #REF!
Name \E1: #REF!
Name \F: #REF!
Name \G: #REF!
Name \H: #REF!
Name \I: #REF!
Name \J: #REF!
Name \K: #REF!
Name \L: #REF!
Name \M: #REF!
Name \N: #REF!
Name \O: #REF!
Name \p: #N/A
Name \q: #REF!
Name \R: #REF!
Name \S: #REF!
Name \T: #REF!
Name \U: #REF!
Name \V: #REF!
Name \W: #REF!
Name \WQ: #REF!
Name \x: #REF!
Name \Y: #REF!
Name \Z: #REF!
Name _: #REF!
Name __: STOP2:STOP2E
Name ___________________________MMM19: #REF!
Name __________________________MMM19: #REF!
Name _________________________DIV1: #REF!
Name _________________________DIV10: #REF!
Name _________________________DIV2: #REF!
Name _________________________DIV5: #REF!
Name _________________________DIV7: #REF!
Name _________________________DIV8: #REF!
Name _________________________DIV9: #REF!
Name _________________________EEE06: #REF!
Name _________________________EEE07: #REF!
Name _________________________EEE08: #REF!
Name _________________________EEE10: #REF!
Name _________________________EEE13: #REF!
Name _________________________EEE22: #REF!
Name _________________________EEE23: #REF!
Name _________________________LLL01: #REF!
Name _________________________LLL03: #REF!
Name _________________________MMM10: #REF!
Name _________________________MMM12: #REF!
Name _________________________MMM16: #REF!
Name _________________________MMM18: #REF!
Name _________________________MMM19: #REF!
Name _________________________MMM26: #REF!
Name _________________________MMM27: #REF!
Name _________________________MMM37: #REF!
Name _________________________MMM39: #REF!
Name _________________________MMM44: #REF!
Name _________________________MMM47: #REF!

Sheet REKAP 
A1: REKAPITULASI
A2: BILL OF QUANTITY (BOQ)
B4: PEKERJAAN | D4: : PEMBANGUNAN RUMAH SEHAT BAZNAS
B5: LOKASI | D5: : KOTA JAKARTA TIMUR, DAERAH KHUSUS IBUKOTA JAKARTA
B6: TAHUN | D6: : 2025
E8: VO;UME
A9: NO | B9: JENIS PEKERJAAN | E9: JUMLAH
E10: HARGA
A12: A | B12: PEKERJAAN PERSIAPAN | E12: ='3.BOQ STR'!I16 -> 0
A14: B | B14: PEKERJAAN SMK3 | E14: ='3.BOQ STR'!I36 -> 0
A16: A | B16: PEKERJAAN STRUKTUR DAN ATAP DAN TALUD BETON | E16: =+SUM(E17:E22) -> 0
B17: I. PEKERJAAN TANAH | E17: ='3.BOQ STR'!I45 -> 0
B18: II. PEKERJAAN PONDASI BATU BELAH | E18: ='3.BOQ STR'!I51 -> 0
B19: III. PEKERJAAN STRUKTUR LANTAI 01 DAN DAK ATAP | E19: ='3.BOQ STR'!I92 -> 0
B20: IV. PEKERJAAN BAK PENAMPUNG | E20: =+'3.BOQ STR'!I115 -> 0
B21: V. PEKERJAAN PONDASI GENSET | E21: =+'3.BOQ STR'!I126 -> 0
B22: V. PEKERJAAN TALUD DINDING BETON STRUKTUR | E22: =+'3.BOQ STR'!I151 -> 0
A24: B | B24: PEKERJAAN ARSITEKTUR | E24: =+SUM(E25:E25) -> 0
B25: I. PEKERJAAN ARSITEKTUR LANTAI 01 | E25: ='4. BOQ ARS'!I104 -> 0
A27: C | B27: PEKERJAAN MEKANIKAL ELEKTRIKAL | E27: =+SUM(E28:E40) -> 0
B28: I. Pekerjaan Penyambungan Listrik Panel Eksisting (Kawasan Istiqlal) | E28: ='5. BOQ ME'!I13 -> 0
B29: II. Pekerjaan Generator Set (Genset) | E29: ='5. BOQ ME'!I22 -> 0
B30: III. Pekerjaan Panel | E30: ='5. BOQ ME'!I29 -> 0
B31: IV. Pekerjaan Grounding | E31: ='5. BOQ ME'!I33 -> 0
B32: V. Pekerjaan Kabel Feeder | E32: ='5. BOQ ME'!I41 -> 0
B33: VI. Pekerjaan instalasi Penerangan dan stop kontak | E33: ='5. BOQ ME'!I60 -> 0
B34: VII. Pekerjaan CCTV | E34: ='5. BOQ ME'!I68 -> 0
B35: VIII. Pekerjaaan IP Phone dan Wifi | E35: ='5. BOQ ME'!I84 -> 0
B36: IX. Pekerjaan Air Condisioning (AC) | E36: ='5. BOQ ME'!I98 -> 0
B37: X. Pekerjaan Air Bersih | E37: ='5. BOQ ME'!I114 -> 0
B38: XI.Pekerjaan Air Kotor dan air bekas | E38: ='5. BOQ ME'!I127 -> 0
B39: XII. Pekerjaan Air Hujan | E39: ='5. BOQ ME'!I142 -> 0
B40: XIII. Pekerjaan Gas medis | E40: ='5. BOQ ME'!I161 -> 0
D43: TOTAL | E43: =+E12+E14+E16+E24+E27 -> 0
D44: PPN 11% | E44: =+E43*0.11 -> 0
D45: JUMLAH TOTAL | E45: =+E44+E43 -> 0
D46: PEMBULATAN | E46: =ROUND(E45,-6) -> 0
B95: - Tanaman dolar rambat

Sheet 3.BOQ STR
A1: BILL OF QUANTITY (BOQ) PEKERJAAN STRUKTUR
B3: PEKERJAAN | D3: : PEMBANGUNAN RUMAH SEHAT BAZNAS
B4: LOKASI | D4: : MASJID IQTIQLAL JAKARTA
B5: TAHUN | D5: : 2025
A8: NO | B8: JENIS PEKERJAAN | E8: VOLUME | G8: ANALISA | H8: HARGA | I8: JUMLAH
H9: SATUAN | I9: HARGA
A10: A. | B10: PEKERJAAN PERSIAPAN
A11: 1 | B11: Biaya Administrasi dan Dokumentasi | E11: 1 | F11: Ls | G11: Taksir | H11: 0 | I11: =+E11*H11 -> 0
A12: =+A11+1 -> 2 | B12: Pengukuran dan pasang bouwplank | E12: =12+12+24+24 -> 72 | F12: m' | G12: =HSP!C10 -> A.2.2.1.4. | H12: =HSP!F10 -> 0 | I12: =+E12*H12 -> 0
A13: 3 | B13: (K3) Pembersihan 1 m2 lapangan dan perataan | E13: =24*12 -> 288 | F13: m2 | G13: =HSP!C15 -> A.2.2.1.9. | H13: =HSP!F15 -> 0 | I13: =+E13*H13 -> 0
A14: =+A13+1 -> 4 | B14: Air & listrik kerja | E14: 1 | F14: Ls | G14: =+G11 -> Taksir | H14: 0 | I14: =+E14*H14 -> 0
I16: =+SUM(I11:I14) -> 0
A17: B. | B17: PEKERJAAN SMK3
A18: 1 | B18: Biaya SMK3 :
B19: Alat Pelindung Kerja dan Alat Pelindung Diri Khusus
B20: APK (Alat Pelindung Kerja) :
B21: a. Pembatas area / safety line | E21: 1 | F21: ls | G21: Taksir | H21: 0 | I21: =+E21*H21 -> 0
B22: b. Jaring pengaman / safety net | E22: 1 | F22: ls | G22: Taksir | H22: 0 | I22: =+E22*H22 -> 0
B23: APD (Alat Pelindung Diri) : | G23: Taksir
B24: a. Tali pengaman dan pelengkap jatuh perorangan full body harness | E24: 20 | F24: bh | G24: Taksir | H24: 0 | I24: =+E24*H24 -> 0
B25: b. Helm safety | E25: 20 | F25: bh | G25: Taksir | H25: 0 | I25: =+E25*H25 -> 0
B26: c. Sepatu safety | E26: 20 | F26: psg | G26: Taksir | H26: 0 | I26: =+E26*H26 -> 0
B27: Rambu-rambu yang diperlukan
B28: a. Rambu peringatan | E28: 5 | F28: bh | G28: Taksir | H28: 0 | I28: =+E28*H28 -> 0
B29: b. Rambu informasi | E29: 5 | F29: bh | G29: Taksir | H29: 0 | I29: =+E29*H29 -> 0
B30: c. Jalur evakuasi | E30: 1 | F30: ls | G30: Taksir | H30: 0 | I30: =+E30*H30 -> 0
A31: 2 | B31: Lain-lain terkait pengendalian resiko keselamatan konstruksi :
B32: a. Alat Pemadam Api Ringan (APAR) | E32: 3 | F32: bh | G32: Taksir | H32: 0 | I32: =+E32*H32 -> 0
B33: b.Bendera K3 | E33: 2 | F33: bh | G33: Taksir | H33: 0 | I33: =+E33*H33 -> 0
B34: c. Lampu darurat | E34: 4 | F34: bh | G34: Taksir | H34: 0 | I34: =+E34*H34 -> 0
I36: =SUM(I21:I35) -> 0
A37: C. | B37: PEKERJAAN STRUKTUR DAN ATAP
A38: I. | B38: Pekerjaan Tanah
A39: 1 | B39: Pekerjaan bongkar beton eksisting | E39: ='VOL STR'!V31 -> 14.4 | F39: m3 | G39: =+HSP!C19 -> A.2.2.1.13. | H39: =+HSP!F19 -> 0 | I39: =+E39*H39 -> 0
A40: 2 | B40: Pekerjaan Galian tanah pondasi struktur & batu belah | E40: ='VOL STR'!T33+'VOL STR'!T34 -> 192.384 | F40: m3 | G40: A.2.3.1.1. | H40: =+HSP!F25 -> 0 | I40: =+E40*H40 -> 0
A41: =A40+1 -> 3 | B41: Pekerjaan Galian ramp dan parkir | E41: ='VOL STR'!T35 -> 42.24 | F41: m3 | G41: =+G40 -> A.2.3.1.1. | H41: =+H40 -> 0 | I41: =+E41*H41 -> 0
A42: =A41+1 -> 4 | B42: Pengurugan kembali galian tanah | E42: ='VOL STR'!V40 -> 78.208 | F42: m3 | G42: =+HSP!C33 -> A.2.3.1.9. | H42: =+HSP!F33 -> 0 | I42: =+E42*H42 -> 0
A43: =A42+1 -> 5 | B43: Tanah Urug untuk taman | E43: =4.9*12*1 -> 58.8 | F43: m3 | G43: =+HSP!C39 -> A.2.3.1.14. | H43: =+HSP!F39 -> 0 | I43: =+E43*H43 -> 0
A44: =A43+1 -> 6 | B44: Pemadatan tanah urug | E44: =(+E43+E42)/4 -> 34.252 | F44: m3 | G44: =+HSP!C36 -> A.2.3.1.11.a | H44: =+HSP!F36 -> 0 | I44: =+E44*H44 -> 0
I45: =SUM(I39:I44) -> 0
A46: II. | B46: Pekerjaan Pondasi Batu Belah
A47: 1 | B47: Pasangan pondasi batu belah 1Pc : 5PS | E47: ='VOL STR'!V77 -> 95.392 | F47: m3 | G47: =HSP!C44 -> A.3.2.1.3. | H47: =HSP!F44 -> 0 | I47: =+E47*H47 -> 0
A48: 2 | B48: Pasangan Batu Kosong/Anstamping | E48: ='VOL STR'!V74 -> 34.688 | F48: m3 | G48: =HSP!C50 -> A.3.2.1.9. | H48: =HSP!F50 -> 0 | I48: =+E48*H48 -> 0
A49: 3 | B49: Pasang Angkur Ø10 cm | E49: ='VOL STR'!V80 -> 8.68 | F49: kg | G49: =HSP!C76 -> A.4.1.1.17 | H49: =HSP!F76/10 -> 0 | I49: =+E49*H49 -> 0
A50: 4 | B50: pasir urug | E50: ='VOL STR'!V63 -> 8.928 | F50: m3 | G50: =HSP!C35 -> A.2.3.1.11. | H50: =HSP!F35 -> 0 | I50: =+E50*H50 -> 0
I51: =SUM(I47:I50) -> 0
A52: III. | B52: Pekerjaan Struktur
B53: Lantai 1 dan Atap
A54: 1 | B54: Pekerjaan Pondasi F1 uk. 160x160 cm
B55: a. Beton mutu f’c = 20,75 MPa (K 250) | E55: ='VOL STR'!V97 -> 25.088 | F55: m3 | G55: A.4.1.1.8.a | H55: =+HSP!F67 -> 0 | I55: =+E55*H55 -> 0
B56: b. Pekerjaan Pembesian | E56: ='VOL STR'!V100 -> 4676.8758 | F56: kg | G56: =G49 -> A.4.1.1.17 | H56: =H49 -> 0 | I56: =+E56*H56 -> 0
B57: c. Pemasangan bekisting | E57: ='VOL STR'!V105 -> 62.72 | F57: m2 | G57: =HSP!C79 -> A.4.1.1.20 | H57: =HSP!F79 -> 0 | I57: =+E57*H57 -> 0
B58: d. Lantai kerja beton fc' = 7,4 MPa (K 100) | E58: ='VOL STR'!V89 -> 3.584 | F58: m3 | G58: A.4.1.1.4 | H58: =+HSP!F62 -> 0 | I58: =+E58*H58 -> 0
B59: e. pasir urug | E59: ='VOL STR'!V109 -> 7.168 | F59: m3 | G59: =G50 -> A.2.3.1.11. | H59: =H50 -> 0 | I59: =+E59*H59 -> 0
A60: 2 | B60: Membuat Sloof S1 uk. 25x30 cm
B61: a. Beton mutu f’c = 20,75 MPa (K 250) | E61: ='VOL STR'!V116 -> 13.5 | F61: m3 | G61: =G55 -> A.4.1.1.8.a | H61: =H55 -> 0 | I61: =+E61*H61 -> 0
B62: b. Pekerjaan Pembesian | E62: ='VOL STR'!V119 -> 1924.16 | F62: kg | G62: =G56 -> A.4.1.1.17 | H62: =H56 -> 0 | I62: =+E62*H62 -> 0
B63: c. Pemasangan bekisting (2xpakai) | E63: ='VOL STR'!V128 -> 108 | F63: m2 | G63: =HSP!C80 -> A.4.1.1.21 | H63: =HSP!F80 -> 0 | I63: =+E63*H63 -> 0
A64: 3 | B64: Membuat Sloof Praktis uk.15x20 cm
B65: a. Beton mutu f'c = 14,5 MPa (K 175) | E65: ='VOL STR'!V135 -> 1.104 | F65: m3 | G65: =G61 -> A.4.1.1.8.a | H65: =H61 -> 0 | I65: =+E65*H65 -> 0
B66: b. Pekerjaan Pembesian | E66: ='VOL STR'!V138 -> 205.6384 | F66: kg | G66: =G62 -> A.4.1.1.17 | H66: =H62 -> 0 | I66: =+E66*H66 -> 0
B67: c. Pemasangan bekisting (2xpakai) | E67: ='VOL STR'!V147 -> 14.72 | F67: m2 | G67: =G63 -> A.4.1.1.21 | H67: =H63 -> 0 | I67: =+E67*H67 -> 0
A68: 4 | B68: Membuat Kolom K1 uk.35x35 cm
B69: a. Beton mutu f’c = 20,75 MPa (K 250) | E69: ='VOL STR'!V154 -> 17.6645 | F69: m3 | G69: =G65 -> A.4.1.1.8.a | H69: =H65 -> 0 | I69: =+E69*H69 -> 0
B70: b. Pekerjaan Pembesian | E70: ='VOL STR'!V157 -> 2836.9453 | F70: kg | G70: =G66 -> A.4.1.1.17 | H70: =H66 -> 0 | I70: =+E70*H70 -> 0
B71: c. Pemasangan bekisting (2xpakai) | E71: ='VOL STR'!V165 -> 201.88 | F71: m2 | G71: =HSP!C81 -> A.4.1.1.22 | H71: =HSP!F81 -> 0 | I71: =+E71*H71 -> 0
A72: 4 | B72: Membuat Kolom Praktis K1 uk.15x15 cm
B73: a. Beton mutu f’c = 14,5 MPa (K 175) | E73: ='VOL STR'!V171 -> 1.62 | F73: m3 | G73: =G69 -> A.4.1.1.8.a | H73: =H69 -> 0 | I73: =+E73*H73 -> 0
B74: b. Pekerjaan Pembesian | E74: ='VOL STR'!V174 -> 295.248 | F74: kg | G74: =G70 -> A.4.1.1.17 | H74: =H70 -> 0 | I74: =+E74*H74 -> 0
B75: c. Pemasangan bekisting (2xpakai) | E75: ='VOL STR'!V182 -> 43.2 | F75: m2 | G75: =HSP!C85 -> A.4.1.1.26 | H75: =HSP!F85 -> 0 | I75: =+E75*H75 -> 0
A76: 5 | B76: Membuat Balok B1 uk.25x40 cm
B77: a. Beton mutu f’c = 20,75 MPa (K 250) | E77: ='VOL STR'!V189 -> 20.64 | F77: m3 | G77: =G69 -> A.4.1.1.8.a | H77: =H69 -> 0 | I77: =+E77*H77 -> 0
B78: b. Pekerjaan Pembesian | E78: ='VOL STR'!V193 -> 3093.9735 | F78: kg | G78: =G70 -> A.4.1.1.17 | H78: =H70 -> 0 | I78: =+E78*H78 -> 0
B79: c. Pemasangan bekisting (2xpakai) | E79: ='VOL STR'!V203 -> 216.72 | F79: m2 | G79: =HSP!C82 -> A.4.1.1.23 | H79: =HSP!F82 -> 0 | I79: =+E79*H79 -> 0
A80: 6 | B80: Membuat Balok B2 uk.25x30 cm
B81: a. Beton mutu f’c = 20,75 MPa (K 250) | E81: ='VOL STR'!V211 -> 6.12 | F81: m3 | G81: =G77 -> A.4.1.1.8.a | H81: =H77 -> 0 | I81: =+E81*H81 -> 0
B82: b. Pekerjaan Pembesian | E82: ='VOL STR'!V215 -> 972.98027 | F82: kg | G82: =G78 -> A.4.1.1.17 | H82: =H78 -> 0 | I82: =+E82*H82 -> 0
B83: c. Pemasangan bekisting (2xpakai) | E83: ='VOL STR'!V225 -> 69.36 | F83: m2 | G83: =G79 -> A.4.1.1.23 | H83: =H79 -> 0 | I83: =+E83*H83 -> 0
A84: 7 | B84: Membuat Pelat Lantai atap T=12 cm elev.2,55
B85: a. Beton mutu f’c = 20,75 MPa (K 250) | E85: ='VOL STR'!V233 -> 3.3567 | F85: m3 | G85: =G77 -> A.4.1.1.8.a | H85: =H77 -> 0 | I85: =+E85*H85 -> 0
B86: b. Pekerjaan Pembesian | E86: ='VOL STR'!V237 -> 460.24087 | F86: kg | G86: =G78 -> A.4.1.1.17 | H86: =H78 -> 0 | I86: =+E86*H86 -> 0
B87: c. Pemasangan bekisting (2xpakai) | E87: ='VOL STR'!V242 -> 27.9725 | F87: m2 | G87: =HSP!C79 -> A.4.1.1.20 | H87: =+H91 -> 0 | I87: =+E87*H87 -> 0
A88: 8 | B88: Membuat Pelat Lantai atap T=12 cm
B89: a. Beton mutu f’c = 20,75 MPa (K 250) | E89: ='VOL STR'!V248 -> 45.6192 | F89: m3 | G89: =G81 -> A.4.1.1.8.a | H89: =H81 -> 0 | I89: =+E89*H89 -> 0
B90: b. Pekerjaan Pembesian | E90: ='VOL STR'!V252 -> 5361.3422 | F90: kg | G90: =G82 -> A.4.1.1.17 | H90: =H82 -> 0 | I90: =+E90*H90 -> 0
B91: c. Pemasangan bekisting (2xpakai) | E91: ='VOL STR'!V257 -> 380.16 | F91: m2 | G91: =HSP!C83 -> A.4.1.1.24 | H91: =HSP!F83 -> 0 | I91: =+E91*H91 -> 0
I92: =SUM(I53:I91) -> 0
A93: IV. | B93: PEKERJAAN BAK PENAMPUNG
A94: 1 | B94: Galian Tanah | E94: =+'VOL STR'!V363+'VOL STR'!V469 -> 45.995 | F94: m3 | G94: =+G129 -> A.2.3.1.1. | H94: =+H129 -> 0 | I94: =+E94*H94 -> 0
A95: =+A94+1 -> 2 | B95: - Tanaman dolar rambat | E95: =+'VOL STR'!V370+'VOL STR'!V475 -> 9.68 | F95: m3 | G95: =G47 -> A.3.2.1.3. | H95: =H47 -> 0 | I95: =+E95*H95 -> 0
A96: =+A95+1 -> 3 | B96: Pasangan Batu Kosong/Anstamping | E96: =+'VOL STR'!V368+'VOL STR'!V472 -> 3.388 | F96: m3 | G96: A.3.2.1.9. | H96: =H48 -> 0 | I96: =+E96*H96 -> 0
A97: =+A96+1 -> 4 | B97: Pekerjaan Pasir urug | E97: =+'VOL STR'!V373+'VOL STR'!V455+'VOL STR'!V478+'VOL STR'!V561 -> 2.367 | F97: m3 | G97: A.2.3.1.11. | H97: =H50 -> 0 | I97: =+E97*H97 -> 0
A98: =+A97+1 -> 5 | B98: Membuat Sloof Praktis uk.15x20 cm
B99: a. Beton mutu f'c = 20,75 MPa (K 250) | E99: =+'VOL STR'!V381+'VOL STR'!V486 -> 0.726 | F99: m3 | G99: A.4.1.1.8.a | H99: =H61 -> 0 | I99: =+E99*H99 -> 0
B100: b. Pekerjaan Pembesian | E100: =+'VOL STR'!V384+'VOL STR'!V489 -> 196.23296 | F100: kg | G100: A.4.1.1.17 | H100: =H62 -> 0 | I100: =+E100*H100 -> 0
B101: c. Pemasangan bekisting (2xpakai) | E101: =+'VOL STR'!V393+'VOL STR'!V498 -> 9.68 | F101: m2 | G101: A.4.1.1.21 | H101: =H63 -> 0 | I101: =+E101*H101 -> 0
A102: 6 | B102: Membuat kolom Praktis uk.15x20 cm
B103: a. Beton mutu f’c = 20,75 MPa (K 250) | E103: =+'VOL STR'!V400+'VOL STR'!V505 -> 0.54 | F103: m3 | G103: A.4.1.1.8.a | H103: =H99 -> 0 | I103: =+E103*H103 -> 0
B104: b. Pekerjaan Pembesian | E104: =+'VOL STR'!V403+'VOL STR'!V508 -> 159.7056 | F104: kg | G104: =G96 -> A.3.2.1.9. | H104: =H100 -> 0 | I104: =+E104*H104 -> 0
B105: c. Pemasangan bekisting (2xpakai) | E105: =+'VOL STR'!V411+'VOL STR'!V516 -> 10.8 | F105: m2 | G105: =HSP!C112 -> A.4.1.2.17. | H105: =+H71 -> 0 | I105: =+E105*H105 -> 0
...

Sheet 4. BOQ ARS
A1: BILL OF QUANTITY (BOQ) PEKERJAAN ARSITEKTUR
B3: PEKERJAAN | D3: : PEMBANGUNAN RUMAH SEHAT BAZNAS
B4: LOKASI | D4: : MASJID IQTIQLAL JAKARTA
B5: TAHUN | D5: : 2025
A8: NO | B8: JENIS PEKERJAAN | E8: VOLUME | G8: ANALISA | H8: HARGA | I8: JUMLAH
H9: SATUAN | I9: HARGA
A10: B | B10: PEKERJAAN ARSITEKTUR LT.01
A11: I. | B11: Pekerjaan Beton Praktis | K11: Ket V = Sudah update gambar terbaru tgl 24/03/25
A12: 1 | B12: Pembuatan Kolom Praktis Beton Bertulang (11x11) | E12: =VOL.ARS!I227 -> 79 | F12: m' | G12: =HSP!C94 -> A.4.1.1.35 | H12: =HSP!F94 -> 0 | I12: =E12*H12 -> 0 | J12: v | K12: S
A13: 2 | B13: Pembuatan Balok Praktis Beton Bertulang (10x15) | E13: =VOL.ARS!E222 -> 41.769 | F13: m' | G13: =HSP!C95 -> A.4.1.1.36 | H13: =HSP!F95 -> 0 | I13: =E13*H13 -> 0 | J13: v
A15: II. | B15: Pekerjaan Pasangan Dinding
A16: 1 | B16: Pemasangan Dinding Bata Ringan tebal 10 cm dengan mortar siap pakai | E16: =VOL.ARS!I45 -> 659.87105 | F16: m2 | G16: =HSP!C174 -> A.4.4.1.26 | H16: =HSP!F174 -> 0 | I16: =E16*H16 -> 0 | J16: v
T17: =+E23+E86 -> 305.627
A18: III. | B18: Pekerjaan Plesteran & Acian
A19: 1 | B19: Pemasangan Plesteran Mortar | E19: =VOL.ARS!I47 -> 1518.9423 | F19: m2 | G19: =HSP!C204 -> A.4.4.2.28. | H19: =HSP!F204 -> 0 | I19: =E19*H19 -> 0 | J19: v
A20: 2 | B20: Pemasangan Acian Mortar | E20: =E49+E50 -> 1711.771 | F20: m2 | G20: =HSP!C205 -> A.4.4.2.29. | H20: =HSP!F205 -> 0 | I20: =E20*H20 -> 0
A22: IV. | B22: Pekerjaan Finishing Lantai
A23: 1 | B23: Pasang Lantai Marmer Tulung Agung uk.600mmx600mm - F1 | E23: =+((24*12)+(3*8))-E24 -> 302 | F23: m2 | G23: A.4.4.3.43. | H23: =+HSP!F254 -> 0 | I23: =E23*H23 -> 0 | J23: v
A24: =+A23+1 -> 2 | B24: Pasang Lantai Beton + Scred 5 cm | E24: =2.5*4 -> 10 | F24: m2 | G24: =HSP!C209 -> A.4.4.3.2. | H24: =+H19 -> 0 | I24: =E24*H24 -> 0 | J24: v
A25: 3 | B25: Waterprofing area basah | E25: =VOL.ARS!I89 -> 408.8176 | F25: m2 | G25: A.4.7.1.22.a | H25: =HSP!F435 -> 0 | I25: =E25*H25 -> 0 | J25: v
A27: V. | B27: Pekerjaan Penutup Dinding
A28: 1 | B28: Pasang Dinding marmer tulungagung uk.600 mm x 600 mm | E28: =VOL.ARS!I121 -> 82.16 | F28: m2 | G28: A.4.4.3.43. | H28: =+H23 -> 0 | I28: =E28*H28 -> 0 | J28: v
A29: 2 | B29: Pasang dinding batu andesit uk.15x30 cm - w3 dan c2 | E29: =+(((24+12+24)*3.5)-'AHS KUSEN'!M106)+(0.35*4*4*3.5) -> 229.6 | F29: m2 | G29: A.4.4.3.35.a | H29: =+HSP!F269 -> 0 | I29: =E29*H29 -> 0
A30: 3 | B30: Pasang dinding Parapet + rangka hollow uk.40x40 fin plat stainlesteel | E30: =+(14.65+14.65+26.65+26.65)*0.1 -> 8.26 | F30: m2 | G30: Hitung | H30: =+H16+H45 -> 0 | I30: =E30*H30 -> 0
A32: VI. | B32: Pekerjaan Pintu dan Jendela
A33: 1 | B33: Pasang Pintu P1 | E33: 2 | F33: unit | G33: =HSP!C401 -> Anls.1 | H33: =+HSP!F401 -> 0 | I33: =E33*H33 -> 0 | J33: v
A34: =+A33+1 -> 2 | B34: Pasang Pintu P2 | E34: 11 | F34: unit | G34: =HSP!C402 -> Anls.2 | H34: =HSP!F402 -> 0 | I34: =E34*H34 -> 0 | J34: v
A35: =+A34+1 -> 3 | B35: Pasang Pintu P3 | E35: 1 | F35: unit | G35: Anls.3 | H35: =+HSP!F403 -> 0 | I35: =E35*H35 -> 0 | J35: v
A36: =+A34+1 -> 3 | B36: Pasang Pintu PB1 | E36: 2 | F36: unit | G36: Anls.5 | H36: =+HSP!F405 -> 0 | I36: =E36*H36 -> 0 | J36: v
A37: =+A36+1 -> 4 | B37: pasang Pintu PT1 | E37: 3 | F37: unit | G37: Anls.4 | H37: =+HSP!F404 -> 0 | I37: =E37*H37 -> 0 | J37: v
A38: =+A37+1 -> 5 | B38: Pasang Jendela J1 | E38: 5 | F38: unit | G38: =HSP!C406 -> Anls.6 | H38: =HSP!F406 -> 0 | I38: =E38*H38 -> 0 | J38: v
A39: =+A38+1 -> 6 | B39: Pasang Jendela BV1 | E39: 3 | F39: unit | G39: Anls.7 | H39: =+HSP!F407 -> 0 | I39: =E39*H39 -> 0 | J39: v
A41: VII. | B41: Pekerjaan Langit-langit (plafond)
A42: 1 | B42: Pekerjaan Gypsum Board 9 mm (L1) | E42: =VOL.ARS!I137 -> 226.459 | F42: m2 | G42: =HSP!C288 -> A.4.5.1.7. | H42: =HSP!F288 -> 0 | I42: =E42*H42 -> 0 | J42: v
A43: =+A42+1 -> 2 | B43: Pekerjaan Kalsium Silica Board 4,5 mm (L2) | E43: =VOL.ARS!I142 -> 12.570675 | F43: m2 | G43: A.4.5.1.7.a | H43: =HSP!F289 -> 0 | I43: =E43*H43 -> 0 | J43: v
A44: =+A43+1 -> 3 | B44: Pekerjaan Aluminium Spandrel uk. 200mm | E44: =VOL.ARS!I145 -> 114.37505 | F44: m2 | G44: A.4.2.1.12. | H44: =HSP!F134 -> 0 | I44: =E44*H44 -> 0 | J44: v
A45: =+A44+1 -> 4 | B45: Pekerjaan Rangka besi hollow galvanish uk.40x40x0,35 mm | E45: =E42+E43+E44 -> 353.40472 | F45: m2 | G45: =HSP!C143 -> A.4.2.1.21. | H45: =HSP!F143 -> 0 | I45: =E45*H45 -> 0 | J45: v
A46: =+A45+1 -> 5 | B46: Pekerjaan Shadow Line | E46: =VOL.ARS!I164 -> 230.701 | F46: m' | G46: =HSP!C296 -> A.4.5.1.10.a | H46: =HSP!F296 -> 0 | I46: =E46*H46 -> 0 | J46: v
A48: VIII. | B48: Pekerjaan Pengecatan
A49: 1 | B49: Pengecatan 1 m2 tembok baru Interior ( 1 lapis cat dasar, 2 lapis cat penutup) | E49: =VOL.ARS!I206 -> 846.42469 | F49: m2 | G49: =HSP!C420 -> A.4.7.1.10.a | H49: =HSP!F420 -> 0 | I49: =E49*H49 -> 0 | J49: v
A50: =+A49+1 -> 2 | B50: Pengecatan 1 m2 tembok baru Eksterior ( 1 lapis cat dasar, 2 lapis cat penutup) | E50: =+VOL.ARS!I210 -> 865.34629 | F50: m2 | G50: A.4.7.1.10.b | H50: =HSP!F421 -> 0 | I50: =E50*H50 -> 0 | J50: v
A51: =+A50+1 -> 3 | B51: Pengecatan Plafond | E51: =E42+E43 -> 239.02967 | F51: m2 | G51: A.4.7.1.10.c | H51: =HSP!F422 -> 0 | I51: =E51*H51 -> 0 | J51: v
A52: =+A51+1 -> 4 | B52: Pengecatan Beton Expose | E52: =VOL.ARS!I88+VOL.ARS!I66 -> 21.54385 | F52: m2 | G52: Dihitung | H52: =+H49+H20 -> 0 | I52: =E52*H52 -> 0 | J52: v
A54: IX. | B54: Pekerjaan Sanitair
A55: 1 | B55: Closet Duduk Monoblock | E55: 3 | F55: bh | G55: =HSP!C438 -> A.5.1.1.1. | H55: =HSP!F438 -> 0 | I55: =E55*H55 -> 0 | J55: v | T55: =2.15+1.38 -> 3.53
A56: =+A55+1 -> 2 | B56: Jet Washer | E56: 3 | F56: bh | G56: =HSP!C439 -> A.5.1.1.1.a | H56: =HSP!F439 -> 0 | I56: =E56*H56 -> 0 | J56: v | T56: =+T55/2 -> 1.765
A57: =+A56+1 -> 3 | B57: Floor Drain | E57: 3 | F57: bh | G57: =HSP!C456 -> A.5.1.1 14. | H57: =HSP!F456 -> 0 | I57: =E57*H57 -> 0 | J57: v
A58: =+A57+1 -> 4 | B58: Tissu Holder | E58: 3 | F58: bh | G58: =HSP!C440 -> A.5.1.1.1.b | H58: =HSP!F440 -> 0 | I58: =E58*H58 -> 0 | J58: v
A59: =+A58+1 -> 5 | B59: Urinoir | E59: 1 | F59: bh | G59: =HSP!C446 -> A.5.1.1 4. | H59: =HSP!F446 -> 0 | I59: =E59*H59 -> 0 | J59: v
A60: =+A59+1 -> 6 | B60: Hand Shower + Kran | E60: 1 | F60: bh | G60: A.5.1.1.1.c | H60: =HSP!F441 -> 0 | I60: =E60*H60 -> 0 | J60: v
A61: =+A60+1 -> 7 | B61: Wastafel gantung + Kran | E61: 7 | F61: bh | G61: A.5.1.1 5. | H61: =HSP!F447 -> 0 | I61: =E61*H61 -> 0 | J61: v
A62: =+A61+1 -> 8 | B62: Kitchen Zinc + Kran | E62: 1 | F62: bh | G62: A.5.1.1 12. | H62: =HSP!F444 -> 0 | I62: =E62*H62 -> 0 | J62: v
A63: =+A62+1 -> 9 | B63: Meja Beton Kitchen Zink | J63: v
B64: - Pekerjaan Beton K-175 | E64: =+(2.728*0.6*0.09) -> 0.147312 | F64: m3 | G64: A.4.1.1.5. | H64: =HSP!F63 -> 0 | I64: =E64*H64 -> 0 | J64: v
B65: - Pembesian | E65: =+((2.728/0.2)+(0.6/0.15))*2*0.67 -> 23.6376 | F65: kg | G65: A.4.1.1.17 | H65: =+HSP!F76/10 -> 0 | I65: =E65*H65 -> 0 | J65: v
B66: - Bekisting | E66: =(2.728*0.6)+(0.09*0.6*2)+(2.728*0.09) -> 1.99032 | F66: m2 | G66: A.4.1.1.24 | H66: =H85 -> 0 | I66: =E66*H66 -> 0 | J66: v
B67: - Finishing HT 60x60 | E67: =E66 -> 1.99032 | F67: m2 | G67: A.4.4.3.33.a | H67: =HSP!F241 -> 0 | I67: =E67*H67 -> 0 | J67: v
A69: X. | B69: Pekerjaan Furniture
A70: 1 | B70: Pek. Pasang Meja Registrasi | E70: 4.72 | F70: m1 | G70: Taksir | H70: 0 | I70: =E70*H70 -> 0
A71: 2 | B71: Pek. Pasang Dinding Backdrop | E71: =+E70*3.5 -> 16.52 | F71: m2 | G71: Taksir | H71: 0 | I71: =E71*H71 -> 0
A72: 3 | B72: Pek. Lemari bawah Pantry | E72: =2.72*1 -> 2.72 | F72: m2 | G72: Taksir | H72: 0 | I72: =E72*H72 -> 0
A74: XI. | B74: Pekerjaan Bak Penambpung
A75: 1 | B75: Pemasangan Dinding Bata Ringan tebal 10 cm dengan mortar siap pakai | E75: =+'VOL STR'!V453+'VOL STR'!V558 -> 34.5 | F75: m2 | G75: A.4.4.1.26 | H75: =H16 -> 0 | I75: =E75*H75 -> 0
A76: =+A75+1 -> 2 | B76: Pemasangan Plesteran Mortar | E76: =+E75*2 -> 69 | F76: m2 | G76: A.4.4.2.28. | H76: =H19 -> 0 | I76: =E76*H76 -> 0
A77: =+A76+1 -> 3 | B77: Pemasangan Acian Mortar | E77: =+E76 -> 69 | F77: m2 | G77: A.4.4.2.29. | H77: =H20 -> 0 | I77: =E77*H77 -> 0
A78: =+A77+1 -> 4 | B78: Pekerjaan Lantai Rabat Beton fc'75 | E78: =+'VOL STR'!V456+'VOL STR'!V561 -> 1.52 | F78: m3 | G78: A.4.1.1.4 | H78: =+HSP!F62 -> 0 | I78: =E78*H78 -> 0
A79: =+A78+1 -> 5 | B79: Pekerjaan Waterprofing Semen Based | E79: =+'VOL STR'!V562+'VOL STR'!V563 -> 26 | F79: m2 | G79: A.4.7.1.22.a | H79: =+HSP!F435 -> 0 | I79: =E79*H79 -> 0
A81: XII. | B81: Pekerjaan Lain-Lain
A82: 1 | B82: Meja + Kursi Beton Pos Jaga | J82: v
B83: - Pekerjaan Beton K-175 | E83: =+(5.1*0.6*0.09) -> 0.2754 | F83: m3 | G83: A.4.1.1.5. | H83: =HSP!F63 -> 0 | I83: =E83*H83 -> 0 | J83: v
B84: - Pembesian | E84: =+((5.1/2)+(0.6/0.15))*2*0.67 -> 8.777 | F84: kg | G84: A.4.1.1.17 | H84: =HSP!F76/10 -> 0 | I84: =E84*H84 -> 0 | J84: v
B85: - Bekisting | E85: =(5.1*0.6)+(0.09*0.6*2)+(5.1*0.09) -> 3.627 | F85: m2 | G85: A.4.1.1.24 | H85: =HSP!F83 -> 0 | I85: =E85*H85 -> 0 | J85: v
B86: - Finishing HT 60x60 | E86: =E85 -> 3.627 | F86: m2 | G86: A.4.4.3.33.a | H86: =H67 -> 0 | I86: =E86*H86 -> 0 | J86: v
A87: 2 | B87: Pemasangan Saluran Buis beton Ø 20 cm | E87: =14.7+12.15 -> 26.85 | F87: m' | G87: Dihitung | H87: =HSP!F706 -> 0 | I87: =E87*H87 -> 0 | J87: v
A88: =+A87+1 -> 3 | B88: Pemasangan Saluran Buis beton Ø 40 cm | E88: =4.88+2.99+2.99 -> 10.86 | F88: m' | G88: Dihitung | H88: =HSP!F707 -> 0 | I88: =E88*H88 -> 0 | J88: v
A89: =+A88+1 -> 4 | B89: Pemasangan Penutup Griil Besi saluran | E89: =+(E87*0.2)+(E88*0.4) -> 9.714 | F89: m2 | G89: Taksir | H89: 0 | I89: =E89*H89 -> 0 | J89: v
A90: =+A89+1 -> 5 | B90: Pemasangan Bak Kontrol + penutup grill besi | E90: 6 | F90: bh | G90: Dihitung | H90: =+HSP!F709 -> 0 | I90: =E90*H90 -> 0 | J90: v
A91: =+A90+1 -> 6 | B91: Pemasangan Kansteen 40x20x10cm | E91: =31.729+6 -> 37.729 | F91: m' | G91: Dihitung | H91: =+HSP!F704 -> 0 | I91: =E91*H91 -> 0 | J91: v
A92: =+A91+1 -> 7 | B92: Pemasangan batu Andesit Bakar uk.40x40x2 cm | E92: 341.7 | F92: m2 | G92: =+HSP!C269 -> A.4.4.3.58. | H92: =+HSP!F269 -> 0 | I92: =E92*H92 -> 0
A93: =+A92+1 -> 8 | B93: Pemasangan Paving Block t= 8 cm, K300 + topi uskup | E93: 143.58 | F93: m2 | G93: =+HSP!C278 -> A.4.4.3.67. | H93: =+HSP!F276 -> 0 | I93: =E93*H93 -> 0 | J93: v
A94: =+A93+1 -> 9 | B94: Pemasangan Rumput Gajah Area Taman | E94: 660.9 | F94: m2 | G94: Taksir | H94: 0 | I94: =E94*H94 -> 0 | J94: v
A95: =+A94+1 -> 10 | B95: Vertikal Garden
B96: - Pasangan Dinding bata ringan | E96: =28.72*(2.8+0.5) -> 94.776 | F96: m2 | G96: A.4.4.1.26 | H96: =+HSP!F174 -> 0 | I96: =E96*H96 -> 0
B97: - Pasangan plesteran Kamprot | E97: =28.72*(2.8+0.5) -> 94.776 | F97: m2 | G97: A.4.4.2.23. | H97: =+HSP!F199 -> 0 | I97: =E97*H97 -> 0
B98: - Media tanam | E98: =28.72*(0.3*0.3*1) -> 2.5848 | F98: m3 | G98: Taksir | H98: 0 | I98: =E98*H98 -> 0 | J98: cek ya mba
B99: - Tanaman dolar rambat | E99: 30 | F99: bh | G99: Taksir | H99: 0 | I99: =E99*H99 -> 0 | J99: cek ya mba
A100: 11 | B100: Pemasangan Huruf Signage Tulisan "RUMAH SEHAT BAZNAS" Tinggi 15 cm | E100: =2*16 -> 32 | F100: bh | G100: Taksir | H100: 0 | I100: =E100*H100 -> 0 | J100: v
A101: 12 | B101: Pemasangan Huruf Signage Tulisan "MASJID ISTIQLAL" Tinggi 20 cm | E101: =14*2 -> 28 | F101: bh | G101: Taksir | H101: 0 | I101: =E101*H101 -> 0 | J101: v
A102: 13 | B102: Signage Titik Kumpul Aluminium 45x30 | E102: 2 | F102: bh | G102: Taksir | H102: 0 | I102: =E102*H102 -> 0 | J102: v
E104: Sub Jumlah | I104: =+SUM(I12:I103) -> 0

Sheet VOL.STR
B1: lantai kerja
S2: Hitungan Berat Tulangan
B3: # | C3: pondasi tiang pancang | F3: qty | G3: depth
E4: P1 | F4: =2*26 -> 52 | G4: 9 | H4: =F4*G4 -> 468 | S4: Tulangan Baja | U4: Diameter Nominal | V4: Luas Nominal | W4: Berat Nominal
E5: P2 | F5: 10 | G5: 9 | H5: =F5*G5 -> 90 | S5: Polos | T5: Deform | U5: (mm) | V5: (cm2) | W5: (Kg/m)
F7: =SUM(F4:F5) -> 62 | G7: titik | H7: =SUM(H4:H6) -> 558 | I7: m | S7: P 6 | T7: D 6 | U7: 6 | V7: =(0.25*22/7*(U7/10)^2) -> 0.28285714 | W7: =7850*22/7*0.25*(U7/1000)^2 -> 0.22204286
S8: P 8 | T8: D 8 | U8: 8 | V8: =(0.25*22/7*(U8/10)^2) -> 0.50285714 | W8: =7850*22/7*0.25*(U8/1000)^2 -> 0.39474286
B9: # | C9: pilecap | S9: P 9 | T9: D 9 | U9: 9 | V9: =(0.25*22/7*(U9/10)^2) -> 0.63642857 | W9: =7850*22/7*0.25*(U9/1000)^2 -> 0.49959643
C10: p1 | D10: beton | E10: lb | F10: lb | G10: tbl | H10: jml | S10: P 10 | T10: D 10 | U10: 10 | V10: =(0.25*22/7*(U10/10)^2) -> 0.78571429 | W10: =7850*22/7*0.25*(U10/1000)^2 -> 0.61678571
E11: 1 | F11: 1.6 | G11: 0.5 | H11: 26 | I11: =E11*F11*G11*H11 -> 20.8 | J11: m3 | S11: P 12 | T11: D 12 | U11: 12 | V11: =(0.25*22/7*(U11/10)^2) -> 1.1314286 | W11: =7850*22/7*0.25*(U11/1000)^2 -> 0.88817143
D12: lantai kerja | E12: =E11+0.3 -> 1.3 | F12: =F11+0.3 -> 1.9 | G12: 0.05 | H12: =H11 -> 26 | I12: =E12*F12*G12*H12 -> 3.211 | J12: m3
D13: pasir urug | E13: =E12 -> 1.3 | F13: =F12 -> 1.9 | G13: 0.1 | H13: =H12 -> 26 | I13: =E13*F13*G13*H13 -> 6.422 | J13: m3
D14: galian | E14: =E13 -> 1.3 | F14: =F13 -> 1.9 | G14: 1.25 | H14: =H13 -> 26 | I14: =E14*F14*G14*H14 -> 80.275 | J14: m3
S15: P 13 | T15: D 13 | U15: 13 | V15: =(0.25*22/7*(U15/10)^2) -> 1.3278571 | W15: =7850*22/7*0.25*(U15/1000)^2 -> 1.0423679
D16: besi | K16: =SUM(K18:K29) -> 3674.9647 | L16: KG | S16: P 14 | T16: D 14 | U16: 14 | V16: =(0.25*22/7*(U16/10)^2) -> 1.54 | W16: =7850*22/7*0.25*(U16/1000)^2 -> 1.2089
D17: melintang | E17: pj besi atas | F17: pj besi bawah | G17: jml | H17: jml | I17: D16 | S17: P 16 | T17: D 16 | U17: 16 | V17: =(0.25*22/7*(U17/10)^2) -> 2.0114286 | W17: =7850*22/7*0.25*(U17/1000)^2 -> 1.5789714
E18: 1.5 | G18: 11 | H18: =H11 -> 26 | I18: =W17 -> 1.5789714 | K18: =E18*G18*H18*I18 -> 677.37874 | L18: kg | S18: P 18 | T18: D 18 | U18: 18 | V18: =(0.25*22/7*(U18/10)^2) -> 2.5457143 | W18: =7850*22/7*0.25*(U18/1000)^2 -> 1.9983857
I19: D19 | S19: P 19 | T19: D 19 | U19: 19 | V19: =(0.25*22/7*(U19/10)^2) -> 2.8364286 | W19: =7850*22/7*0.25*(U19/1000)^2 -> 2.2265964
F20: 1.68 | G20: 11 | H20: =H18 -> 26 | I20: =W19 -> 2.2265964 | K20: =F20*G20*H20*I20 -> 1069.8351 | L20: kg | S20: P 20 | T20: D 20 | U20: 20 | V20: =(0.25*22/7*(U20/10)^2) -> 3.1428571 | W20: =7850*22/7*0.25*(U20/1000)^2 -> 2.4671429
S21: P 22 | T21: D 22 | U21: 22 | V21: =(0.25*22/7*(U21/10)^2) -> 3.8028571 | W21: =7850*22/7*0.25*(U21/1000)^2 -> 2.9852429
D22: memanjang | E22: pj besi atas | F22: pj besi bawah | G22: jml | H22: jml | I22: D16 | S22: P 25 | T22: D 25 | U22: 25 | V22: =(0.25*22/7*(U22/10)^2) -> 4.9107143 | W22: =7850*22/7*0.25*(U22/1000)^2 -> 3.8549107
E23: 2.1 | G23: 7 | H23: =H18 -> 26 | I23: =I18 -> 1.5789714 | K23: =E23*G23*H23*I23 -> 603.48288 | L23: kg | S23: P 28 | T23: D 28 | U23: 28 | V23: =(0.25*22/7*(U23/10)^2) -> 6.16 | W23: =7850*22/7*0.25*(U23/1000)^2 -> 4.8356
I24: D19 | T24: D 29 | U24: 29 | V24: =(0.25*22/7*(U24/10)^2) -> 6.6078571 | W24: =7850*22/7*0.25*(U24/1000)^2 -> 5.1871679
F25: 2.286 | G25: 7 | H25: =H20 -> 26 | I25: =I20 -> 2.2265964 | K25: =F25*G25*H25*I25 -> 926.3799 | L25: kg | S25: P 32 | T25: D 32 | U25: 32 | V25: =(0.25*22/7*(U25/10)^2) -> 8.0457143 | W25: =7850*22/7*0.25*(U25/1000)^2 -> 6.3158857
T26: D 36 | U26: 36 | V26: =(0.25*22/7*(U26/10)^2) -> 10.182857 | W26: =7850*22/7*0.25*(U26/1000)^2 -> 7.9935429
D27: tul tepi keliling | T27: D 40 | U27: 40 | V27: =(0.25*22/7*(U27/10)^2) -> 12.571429 | W27: =7850*22/7*0.25*(U27/1000)^2 -> 9.8685714
E28: jml | F28: pjg | G28: pjg | H28: jml | I28: D16 | T28: D 50 | U28: 50 | V28: =(0.25*22/7*(U28/10)^2) -> 19.642857 | W28: =7850*22/7*0.25*(U28/1000)^2 -> 15.419643
E29: 4 | F29: =1.52 -> 1.52 | G29: 0.903 | H29: =H23 -> 26 | I29: =I23 -> 1.5789714 | K29: =(G29+F29)*E29*H29*I29 -> 397.88817 | L29: kg
D32: bekist
E33: =E11 -> 1 | F33: =F11 -> 1.6 | G33: =G11 -> 0.5 | H33: =H11 -> 26 | I33: =G33*(F33+E33+F33+E33)*H33 -> 67.6 | J33: m2
C35: p2 | D35: beton | E35: lb | F35: lb | G35: tbl | H35: jml
C36: bangunan utama dan ramp | E36: 1 | F36: 1 | G36: 0.5 | H36: =7+5 -> 12 | I36: =E36*F36*G36*H36 -> 6 | J36: m3
D37: lantai kerja | E37: =E36+0.3 -> 1.3 | F37: =F36+0.3 -> 1.3 | G37: 0.05 | H37: =H36 -> 12 | I37: =E37*F37*G37*H37 -> 1.014 | J37: m3
D38: pasir urug | E38: =E37 -> 1.3 | F38: =F37 -> 1.3 | G38: 0.1 | H38: =H37 -> 12 | I38: =E38*F38*G38*H38 -> 2.028 | J38: m3
D39: galian | E39: =E38 -> 1.3 | F39: =F38 -> 1.3 | G39: 1.25 | H39: =H38 -> 12 | I39: =E39*F39*G39*H39 -> 25.35 | J39: m3
D41: besi | K41: =SUM(K43:K54) -> 1163.2133
D42: melintang | E42: pj besi atas | F42: pj besi bawah | G42: jml besi | H42: jml | I42: D16
E43: 1.5 | G43: 7 | H43: =H36 -> 12 | I43: =W17 -> 1.5789714 | K43: =E43*G43*H43*I43 -> 198.9504 | L43: kg
I44: D19
F45: 1.68 | G45: 7 | H45: =H43 -> 12 | I45: =W19 -> 2.2265964 | K45: =F45*G45*H45*I45 -> 314.21729 | L45: kg
D47: memanjang | E47: pj besi atas | F47: pj besi bawah | G47: jml | H47: jml | I47: D16
E48: 1.5 | G48: 7 | H48: =H43 -> 12 | I48: =I43 -> 1.5789714 | K48: =E48*G48*H48*I48 -> 198.9504 | L48: kg
I49: D19
F50: 1.68 | G50: 7 | H50: =H48 -> 12 | I50: =I45 -> 2.2265964 | K50: =F50*G50*H50*I50 -> 314.21729 | L50: kg
D52: tul tepi keliling
E53: jml | F53: pjg | G53: pjg | H53: jml | I53: D16
E54: 4 | F54: 0.903 | G54: 0.903 | H54: =H48 -> 12 | I54: =I48 -> 1.5789714 | K54: =(G54+F54)*E54*H54*I54 -> 136.87788 | L54: kg
D57: bekist
E58: =E36 -> 1 | F58: =F36 -> 1 | G58: =G36 -> 0.5 | H58: =H36 -> 12 | I58: =G58*(F58+E58+F58+E58)*H58 -> 24 | J58: m2
C60: p3 | D60: beton | E60: lb | F60: lb | G60: tbl | H60: jml
E61: 1.5 | F61: 1.5 | G61: 0.25 | H61: 2 | I61: =E61*F61*G61*H61 -> 1.125 | J61: m3
D62: lantai kerja | E62: =E61+0.3 -> 1.8 | F62: =F61+0.3 -> 1.8 | G62: 0.05 | H62: =H61 -> 2 | I62: =E62*F62*G62*H62 -> 0.324 | J62: m3
D63: pasir urug | E63: =E62 -> 1.8 | F63: =F62 -> 1.8 | G63: 0.1 | H63: =H62 -> 2 | I63: =E63*F63*G63*H63 -> 0.648 | J63: m3
D64: galian | E64: =E63 -> 1.8 | F64: =F63 -> 1.8 | G64: 1.25 | H64: =H63 -> 2 | I64: =E64*F64*G64*H64 -> 8.1 | J64: m3
D66: besi | K66: =SUM(K68:K79) -> 138.5579
D67: melintang | E67: pj besi atas | F67: pj besi bawah | G67: jml | H67: jml | I67: D13
E68: 1.6 | G68: 8 | H68: =H61 -> 2 | I68: =W15 -> 1.0423679 | K68: =E68*G68*H68*I68 -> 26.684617 | L68: kg
I69: D16
F70: 1.686 | G70: 8 | H70: =H68 -> 2 | I70: =I54 -> 1.5789714 | K70: =F70*G70*H70*I70 -> 42.594333 | L70: kg
D72: memanjang | E72: pj besi atas | F72: pj besi bawah | G72: jml | H72: jml | I72: D13
E73: 1.6 | G73: 8 | H73: =H68 -> 2 | I73: =I68 -> 1.0423679 | K73: =E73*G73*H73*I73 -> 26.684617 | L73: kg
I74: D16
F75: 1.686 | G75: 8 | H75: =H73 -> 2 | I75: =I70 -> 1.5789714 | K75: =F75*G75*H75*I75 -> 42.594333 | L75: kg
D77: tul tepi keliling
E78: jml | F78: pjg | G78: pjg | H78: jml | I78: D16
K79: =(G79+F79)*E79*H79*I79 -> 0 | L79: kg
D82: bekist
E83: =E61 -> 1.5 | F83: =F61 -> 1.5 | G83: =G61 -> 0.25 | H83: =H61 -> 2 | I83: =G83*(F83+E83+F83+E83)*H83 -> 3 | J83: m2
B85: # | C85: slof
C86: S1 | D86: beton | E86: lb | F86: T | G86: pj
E87: 0.25 | F87: 0.5 | G87: =9.6+(7.5*13)+2.56+6.03+5.3+3.5+2 -> 126.49 | H87: =E87*F87*G87 -> 15.81125 | I87: m3
D89: besi pokok | E89: pj | F89: jml | G89: D19
E90: =G87 -> 126.49 | F90: 10 | G90: =W19 -> 2.2265964 | H90: =E90*F90*G90 -> 2816.4218 | I90: kg | J90: =SUM(H90:H102) -> 4011.6079 | K90: KG
D92: besi pinggang | E92: pj | F92: jml | G92: D13
E93: =G87 -> 126.49 | F93: 2 | G93: =W15 -> 1.0423679 | H93: =E93*F93*G93 -> 263.69822 | I93: kg
D95: begel tump | E95: pj | F95: jml | G95: D10
E96: =(E87-0.04)+(F87-0.04)*2 -> 1.13 | F96: =ROUNDUP(G87/2/0.09,0) -> 703 | G96: =W10 -> 0.61678571 | H96: =E96*F96*G96 -> 489.9684 | I96: kg
D98: begel lap | E98: pj | F98: jml | G98: D10
E99: =(E87-0.04)+(F87-0.04)*2 -> 1.13 | F99: =ROUNDUP(G87/2/0.14,0) -> 452 | G99: =G96 -> 0.61678571 | H99: =E99*F99*G99 -> 315.02947 | I99: kg
D101: bekisting | E101: lb | F101: T | G101: pj
E102: =E87 -> 0.25 | F102: =F87 -> 0.5 | G102: =G87 -> 126.49 | H102: =(F102+F102)*G102 -> 126.49 | I102: m2
C104: S2 | D104: pjg
C105: as | D105: B | E105: =38.5+23.4 -> 61.9 | F105: =SUM(E105:E111) -> 169.23 | G105: m
C106: as | D106: C | E106: =44.2+17.6 -> 61.8
C107: as | D107: D | E107: =11.6+5.68 -> 17.28
D108: miring | E108: =3.6 -> 3.6
D109: miring | E109: =3.6 -> 3.6
D110: miring | E110: =3.6 -> 3.6
D111: miring | E111: =3.6+4.2+3.75*2+2.15 -> 17.45
D112: beton | E112: lb | F112: T | G112: pj
E113: 0.25 | F113: 0.4 | G113: =F105 -> 169.23 | H113: =E113*F113*G113 -> 16.923 | I113: m3
D115: besi pokok | E115: pj | F115: jml | G115: D13
E116: =G113 -> 169.23 | F116: 6 | G116: =G93 -> 1.0423679 | H116: =E116*F116*G116 -> 1058.3995 | I116: kg | J116: =SUM(H116:H125) -> 2382.8958 | K116: KG
D118: besi pinggang | E118: pj | F118: jml | G118: D13
E119: =G113 -> 169.23 | F119: 2 | G119: =G116 -> 1.0423679 | H119: =E119*F119*G119 -> 352.79982 | I119: kg
D121: begel tump | E121: pj | F121: jml | G121: D10
E122: =(E113-0.04)+(F113-0.04)*2 -> 0.93 | F122: =ROUNDUP(G113/2/0.075,0) -> 1129 | G122: =G99 -> 0.61678571 | H122: =E122*F122*G122 -> 647.6065 | I122: kg
D124: begel lap | E124: pj | F124: jml | G124: D10
E125: =(E113-0.04)+(F113-0.04)*2 -> 0.93 | F125: =ROUNDUP(G113/2/0.15,0) -> 565 | G125: =G122 -> 0.61678571 | H125: =E125*F125*G125 -> 324.09005 | I125: kg
D127: bekisting | E127: lb | F127: T | G127: pj
...

Sheet 5. BOQ ME
A1: BILL OF QUANTITY (BOQ)
A2: MEKANIKAL, ELEKTRIKAL, ELEKTRONIKA DAN PLAMBING (MEEP)
B3: PEKERJAAN | D3: : PEMBANGUNAN RUMAH SEHAT BAZNAZ
B4: LOKASI | D4: : MASJID IQTIQLAL JAKARTA
B5: TAHUN | D5: : 2025
A7: NO | B7: JENIS PEKERJAAN | E7: VOLUME | G7: ANALISA | H7: HARGA | I7: JUMLAH
H8: SATUAN | I8: HARGA
A9: C | B9: PEKERJAAN MEKANIKAL, ELEKTRIKAL, ELEKTRONIKA DAN PLAMBING (MEEP)
B10: PEKERJAAN ELEKTRIKAL
A11: I. | B11: Pekerjaan Penyambungan Listrik Panel Eksisting (Kawasan Istiqlal)
B12: Kabel NYFGbY 4c x 35 mm2 + cnduit HDPE Ø2", Termasuk pekerjaan galian sedalam 60cm dan urugan kembali seperti semula | E12: 80 | F12: m | H12: ='ANALISA ME'!K363 -> 0 | I12: =H12*E12 -> 0
E13: Sub Jumlah | I13: =SUM(I12) -> 0
A14: II. | B14: Pekerjaan Generator Set (Genset)
B15: Genset kapasitas 60 kVA,3Ø,50 Hz,380V, 1500 Rpm, Silent Type Continuous / Prime Power, | E15: 1 | F15: unit | H15: ='ANALISA ME'!K875 -> 0 | I15: =H15*E15 -> 0
B16: include PKG(Panel Kontrol Genset), Accu + charger automatis, kabel kontrol,Tanki bahan bakar harian sesuai
B17: bawaan Engine dan accesories lainnya, Merk : Perkins, Cummins dengan Alternator Stamford
B18: di kopel oleh Agen Resmi rekomendasi Pabrik ( menyertakan surat )
B19: termasuk :
B20: Residential Silencer | E20: 1 | F20: unit | H20: 0 | I20: =H20*E20 -> 0
B21: SLO dan Perijinan instansi terkait | E21: 1 | F21: unit | H21: 0 | I21: =H21*E21 -> 0
E22: Sub Jumlah | I22: =SUM(I15:I21) -> 0
A23: III. | B23: Pekerjaan Panel
B24: Panel MDP | E24: 1 | F24: unit | H24: ='ANALISA ME'!K230 -> 0 | I24: =H24*E24 -> 0
B25: Panel lampu dan Stop kontak | E25: 1 | F25: unit | H25: ='ANALISA ME'!K257 -> 0 | I25: =H25*E25 -> 0
B26: Panel AC | E26: 1 | F26: unit | H26: ='ANALISA ME'!K283 -> 0 | I26: =H26*E26 -> 0
B27: Panel gas medis | E27: 1 | F27: unit | H27: ='ANALISA ME'!K313 -> 0 | I27: =H27*E27 -> 0
B28: Panel Elektronika | E28: 1 | F28: unit | H28: 0 | I28: =H28*E28 -> 0
E29: Sub Jumlah | I29: =SUM(I24:I28) -> 0
A30: IV. | B30: Pekerjaan Grounding
B31: Grounding Panel MDP, 2 Ohm dengan bak kontrol 40cm x 40cm | E31: 1 | F31: bh | H31: ='ANALISA ME'!K913 -> 0 | I31: =H31*E31 -> 0
B32: Kabel Gounding BC 16 mm2 | E32: 10 | F32: m | H32: 0 | I32: =H32*E32 -> 0
E33: Sub Jumlah | I33: =SUM(I31:I32) -> 0
A34: V. | B34: Pekerjaan Kabel Feeder
B35: Kabel NYY 4c x 35 mm2 (dari Panel MDP ke Genset) | E35: 7 | F35: m | H35: ='ANALISA ME'!K363 -> 0 | I35: =H35*E35 -> 0
B36: Kabel NYY 4c x 10 mm2 + BC 10 mm2 (dari Panel MDP ke Panel lampu dan stop kontak) | E36: 4 | F36: m | H36: ='ANALISA ME'!K456 -> 0 | I36: =H36*E36 -> 0
B37: Kabel NYY 4c x 16 mm2 + BC 16 mm2 (dari Panel MDP ke Panel AC) | E37: 5 | F37: m | H37: ='ANALISA ME'!K479 -> 0 | I37: =H37*E37 -> 0
B38: Kabel NYY 4c x 16 mm2 + BC 16 mm2 (dari Panel MDP ke Panel Gas medis) | E38: 42 | F38: m | H38: =H37 -> 0 | I38: =H38*E38 -> 0
B39: Kabel NYY 3c x 4 mm2 (dari Panel MDP ke Panel Elektronika) | E39: 28 | F39: m | H39: 0 | I39: =H39*E39 -> 0
B40: Tray kabel uk. 300x100 mm | E40: 33 | F40: m | H40: ='ANALISA ME'!K721 -> 0 | I40: =H40*E40 -> 0
E41: Sub Jumlah | I41: =SUM(I35:I40) -> 0
A42: VI. | B42: Pekerjaan instalasi Penerangan dan stop kontak
B43: Leds Panel 40W, 4000lm,6500K | E43: 15 | F43: bh | H43: ='ANALISA ME'!K522 -> 0 | I43: =H43*E43 -> 0
B44: Led T8-1x20W-L1200mm-6500K | E44: 6 | F44: bh | H44: ='ANALISA ME'!K627 -> 0 | I44: =H44*E44 -> 0
B45: Led T8-1x10W-L600mm-3300K | E45: 4 | F45: bh | H45: ='ANALISA ME'!K606 -> 0 | I45: =H45*E45 -> 0
B46: Led Downlight Recessed 15W, 6500K (Bulat) | E46: 19 | F46: bh | H46: ='ANALISA ME'!K543 -> 0 | I46: =H46*E46 -> 0
B47: Led Downlight Recessed 12W, 6500K (Bulat) | E47: 15 | F47: bh | H47: ='ANALISA ME'!K564 -> 0 | I47: =H47*E47 -> 0
B48: Led Downlight Recessed 7W, 6500K (Kotak) | E48: 20 | F48: bh | H48: ='ANALISA ME'!K585 -> 0 | I48: =H48*E48 -> 0
B49: Wall Lamp 15W, 3000K | E49: 7 | F49: bh | H49: ='ANALISA ME'!K674 -> 0 | I49: =H49*E49 -> 0
B50: Lampu Taman LED Bulb 15 watt + tiang galvanis tinggi 1 meter | E50: 5 | F50: bh | H50: ='ANALISA ME'!K697 -> 0 | I50: =H50*E50 -> 0
B51: Led Strip 6500K | E51: 32 | F51: m | H51: ='ANALISA ME'!K650 -> 0 | I51: =H51*E51 -> 0
B52: Celling Exhaust Fan 12" | E52: 4 | F52: bh | H52: ='HARGA ME'!D64 -> 0 | I52: =H52*E52 -> 0
B53: Saklar Tunggal + lampu indikator | E53: 5 | F53: bh | H53: ='ANALISA ME'!K36 -> 0 | I53: =H53*E53 -> 0
B54: Saklar ganda + lampu indikator | E54: 21 | F54: bh | H54: ='ANALISA ME'!K54 -> 0 | I54: =H54*E54 -> 0
B55: Stop kontak dinding, 16A, 1Phase (300mm) | E55: 41 | F55: bh | H55: ='ANALISA ME'!K108 -> 0 | I55: =H55*E55 -> 0
B56: Stop kontak dinding, 16A, 1Phase (1500mm) | E56: 3 | F56: bh | H56: =H55 -> 0 | I56: =H56*E56 -> 0
B57: Stop kontak meja, 16A, 1Phase (outbow) | E57: 8 | F57: bh | H57: 0 | I57: =H57*E57 -> 0
B58: Instalasi lampu dengan kabel NYM 2x2,5 mm2 + Conduit High Impact | E58: =SUM(E43:E50)+2+4 -> 97 | F58: titik | H58: ='ANALISA ME'!K171 -> 0 | I58: =H58*E58 -> 0
B59: Instalasi Stop Kontak dengan kabel NYM 3x2,5 mm2 + Conduit High Impact | E59: =SUM(E55:E57) -> 52 | F59: titik | H59: ='ANALISA ME'!K146 -> 0 | I59: =H59*E59 -> 0
E60: Sub Jumlah | I60: =SUM(I43:I59) -> 0
B61: PEKERJAAN ELEKTRONIKA
A62: VII. | B62: Pekerjaan CCTV
B63: NVR kap 16 channel, hardisc 1 T | E63: 1 | F63: unit | H63: ='ANALISA ME'!K1445 -> 0 | I63: =H63*E63 -> 0
B64: Smart TV 43" | E64: 1 | F64: unit | H64: ='ANALISA ME'!K1438 -> 0 | I64: =H64*E64 -> 0
B65: Power Surge Arester 15 KA | E65: 1 | F65: set | H65: ='ANALISA ME'!K1391 -> 0 | I65: =H65*E65 -> 0
B66: Indoor IP Camera PoE | E66: 7 | F66: bh | H66: ='ANALISA ME'!K1409 -> 0 | I66: =H66*E66 -> 0
B67: Instalasi CCTV dg kabel utp CAT 6 | E67: =SUM(E66:E66) -> 7 | F67: titik | H67: ='ANALISA ME'!K1399 -> 0 | I67: =H67*E67 -> 0
E68: Sub Jumlah | I68: =SUM(I63:I67) -> 0
A69: VIII. | B69: Pekerjaaan IP Phone dan Wifi
B70: Cabinet Rack w/ACC (Cctv, IP Phone, Wifi) | E70: 1 | F70: set | H70: 0 | I70: =H70*E70 -> 0
B71: Power Outlet 12 port | E71: 1 | F71: set | H71: 0 | I71: =H71*E71 -> 0
B72: Internet provider by indihome, Biznet, MNC play dll, 100 mbps + Router PoE | E72: 1 | F72: set | H72: 0 | I72: =H72*E72 -> 0
B73: Langganan telepon by telkom | E73: 1 | F73: set | H73: 0 | I73: =H73*E73 -> 0
B74: Faximili by telkom | E74: 1 | F74: set | H74: 0 | I74: =H74*E74 -> 0
B75: IP PBXact 25. Konfigurasi ini sistem ini mendukung hingga 25 ekstensi pengguna. Dilengkapi dengan perangkat lunak PBXact yang diinstal dan 25 lisensi pengguna serta mendukung hingga 15 panggilan bersamaan. Termasuk assesories sehingga berfungsi dengan baik. | E75: 1 | F75: set | H75: 0 | I75: =H75*E75 -> 0
B76: Switch core 24 port, distribution 4 SFP | E76: 1 | F76: set | H76: 0 | I76: =H76*E76 -> 0
B77: Optical terminal box | E77: 1 | F77: set | H77: 0 | I77: =H77*E77 -> 0
B78: Path panel UTP cat 6 24 port | E78: 2 | F78: set | H78: 0 | I78: =H78*E78 -> 0
B79: Acces Switch PoE 1x24 port | E79: 2 | F79: set | H79: 0 | I79: =H79*E79 -> 0
B80: Wirring management data wifi, IP Phone, CCTV & assesories | E80: 1 | F80: set | H80: 0 | I80: =H80*E80 -> 0
B81: IP Phone, 2 Ports LAN, POE Support, 100/1000M, 4 Lines, 320x240 2.4 Inch Color Screen | E81: 6 | F81: unit | H81: 0 | I81: =H81*E81 -> 0
B82: Acses point PoE | E82: 3 | F82: bh | H82: 0 | I82: =H82*E82 -> 0
B83: Instalasi Acses point dengan UTP cat-6 dalam conduit | E83: =E82+E81 -> 9 | F83: titik | H83: 0 | I83: =H83*E83 -> 0
E84: Sub Jumlah | I84: =SUM(I70:I83) -> 0
B85: PEKERJAAN MEKANIKAL DAN PLAMBING
A86: IX. | B86: Pekerjaan Air Condisioning (AC)
B87: Pengadaan dan air conditioning (AC) lengkap dengan bracket, pipa kabel daya, refrigerant berisolasi, pipa kondensat, dan perlengkapannya beserta pengetesan sistem, remote control, cable control, (test commissioning), training dan instalasi.
B88: Pekerjaan Pengadaan dan Pemasangan AC type simgle split
B89: AC Single split Tipe Wall Mounted Kap. 5000 BTU/h (0,5PK), termasuk pipa referigerant | E89: 2 | F89: Unit | H89: ='ANALISA ME'!K746 -> 0 | I89: =H89*E89 -> 0
B90: AC Single split Tipe Wall Mounted Kap. 9000 BTU/h (1 PK), termasuk pipa referigerant | E90: 1 | F90: Unit | H90: ='ANALISA ME'!K771 -> 0 | I90: =H90*E90 -> 0
B91: AC Single split Tipe Wall Mounted Kap. 12.500 BTU/h (1,5 PK), termasuk pipa referigerant | E91: 4 | F91: Unit | H91: ='ANALISA ME'!K796 -> 0 | I91: =H91*E91 -> 0
B92: AC Single split Tipe Celling Cassetee Kap. 18.000 BTU/h (2 PK), termasuk pipa referigerant | E92: 7 | F92: Unit | H92: ='ANALISA ME'!K821 -> 0 | I92: =H92*E92 -> 0
B93: Stop kntak AC 1phase, 16A, 3kaki + lampu indikator | E93: =SUM(E89:E91) -> 7 | F93: bh | H93: ='ANALISA ME'!K125 -> 0 | I93: =H93*E93 -> 0
B94: Instalasi power AC dengan kebel NYM 3x2,5 mm2 dalam conduit HI | E94: =SUM(E89:E92) -> 14 | F94: titik | H94: ='ANALISA ME'!K146 -> 0 | I94: =H94*E94 -> 0
B95: Pipa drain AC 5/8" + insulation | E95: 21 | F95: m | H95: 0 | I95: =H95*E95 -> 0
B96: Pipa drain AC 1/2" + insulation | E96: 37 | F96: m | H96: 0 | I96: =H96*E96 -> 0
B97: Pipa drain AC 1" + insulation | E97: 24 | F97: m | H97: 0 | I97: =H97*E97 -> 0
E98: Sub Jumlah | I98: =SUM(I89:I97) -> 0
A99: X. | B99: Pekerjaan Air Bersih
B100: Penyambungan Air PDAM | E100: 1 | F100: ls | H100: 0 | I100: =H100*E100 -> 0
B101: Water tank kap. 5m3, type silinder, bahan FRP | E101: 1 | F101: unit | H101: 0 | I101: =H101*E101 -> 0
...

Sheet ANALISA ME
B2: ANALISA HARGA SATUAN PENERANGAN
D4: VA | E4: Biaya penyambungan daya PLN | K4: 0.1
B5: NO | C5: URAIAN | H5: SAT. | I5: KOEFISIEN | J5: HARGA
G6: KODE | J6: SATUAN | K6: JUMLAH
J7: ( Rp ) | K7: ( Rp )
B8: 1 | C8: 2 | G8: 3 | H8: 4 | I8: 5 | J8: 6 | K8: =J8+1 -> 7
B9: A | C9: PASANG BARU
B10: 1 | C10: Penyambungan Baru Daya 82.500 VA
C11: - Biaya Penyambungan | G11: Taksir | H11: VA | I11: 1 | J11: 0 | K11: =+I11*J11 -> 0
C12: - Jaminan Langganan (UJL) | G12: Taksir | H12: VA | I12: 1 | J12: 0 | K12: =+I12*J12 -> 0
H13: VA | I13: =I12 -> 1 | J13: 0 | K13: =+I13*J13 -> 0
C14: - Meterai | G14: Taksir | H14: Buah
B16: B | C16: Jumlah | K16: =SUM(K11:K15) -> 0
B17: C | C17: Overhead & Profit 15% | I17: =$K$4 -> 0.1 | K17: =K16*I17 -> 0
B18: D | C18: Harga Satuan Pekerjaan (D+E) | K18: =SUM(K15:K17) -> 0
B20: dihit. | E20: Saklar Tunggal dengan lampu indikator
B21: No | C21: Uraian | G21: Kode | H21: Satuan | I21: Koefisien | J21: Harga Satuan (Rp.) | K21: Jumlah Harga (Rp.)
B22: A | C22: TENAGA
B23: 1 | C23: Pekerja | G23: L.01 | H23: OH | I23: 0.031 | J23: ='UPAH (2)'!H4 -> 0 | K23: =J23*I23 -> 0
B24: 2 | C24: Tukang listrik | G24: L.02 | H24: OH | I24: 0.052 | J24: ='UPAH (2)'!H16 -> 0 | K24: =J24*I24 -> 0
B25: 3 | C25: Kepala tukang | G25: L.03 | H25: OH | I25: 0.005 | J25: ='UPAH (2)'!H19 -> 0 | K25: =J25*I25 -> 0
B26: 4 | C26: Mandor | G26: L.04 | H26: OH | I26: 0.002 | J26: ='UPAH (2)'!H20 -> 0 | K26: =J26*I26 -> 0
B27: JUMLAH TENAGA KERJA | K27: =SUM(K23:K26) -> 0
B28: B | C28: BAHAN
C29: inbow dus | H29: buah | I29: 1 | J29: 0 | K29: =J29*I29 -> 0
C30: Saklar Tunggal | G30: M.482.c | H30: M.482.c | I30: 1 | J30: 0 | K30: =J30*I30 -> 0
B31: JUMLAH HARGA BAHAN | K31: =SUM(K29:K30) -> 0
B32: C | C32: PERALATAN
B33: JUMLAH HARGA ALAT | K33: 0
B34: D | C34: Jumlah (A+B+C) | K34: =K31+K27 -> 0
B35: E | C35: Overhead & Profit 15% | I35: =$K$4 -> 0.1 | K35: =K34*I35 -> 0
B36: F | C36: Harga Satuan Pekerjaan (D+E) | K36: =SUM(K33:K35) -> 0
B38: dihit. | E38: Saklar Ganda dengan lampu indikator
B39: No | C39: Uraian | G39: Kode | H39: Satuan | I39: Koefisien | J39: Harga Satuan (Rp.) | K39: Jumlah Harga (Rp.)
B40: A | C40: TENAGA
B41: 1 | C41: Pekerja | G41: L.01 | H41: OH | I41: 0.031 | J41: =J23 -> 0 | K41: =J41*I41 -> 0
B42: 2 | C42: Tukang listrik | G42: L.02 | H42: OH | I42: 0.052 | J42: =J24 -> 0 | K42: =J42*I42 -> 0
B43: 3 | C43: Kepala tukang | G43: L.03 | H43: OH | I43: 0.005 | J43: =J25 -> 0 | K43: =J43*I43 -> 0
B44: 4 | C44: Mandor | G44: L.04 | H44: OH | I44: 0.002 | J44: =J26 -> 0 | K44: =J44*I44 -> 0
B45: JUMLAH TENAGA KERJA | K45: =SUM(K41:K44) -> 0
B46: B | C46: BAHAN
C47: inbow dus | H47: buah | I47: 1 | J47: =J29 -> 0 | K47: =J47*I47 -> 0
C48: Saklar Ganda | G48: M.483.c | H48: buah | I48: 1 | J48: 0 | K48: =J48*I48 -> 0
B49: JUMLAH HARGA BAHAN | K49: =SUM(K47:K48) -> 0
B50: C | C50: PERALATAN
B51: JUMLAH HARGA ALAT | K51: 0
B52: D | C52: Jumlah (A+B+C) | K52: =K49+K45 -> 0
B53: E | C53: Overhead & Profit 15% | I53: =$K$4 -> 0.1 | K53: =K52*I53 -> 0
B54: F | C54: Harga Satuan Pekerjaan (D+E) | K54: =SUM(K51:K53) -> 0
B56: dihit. | E56: Saklar Triple
B57: No | C57: Uraian | G57: Kode | H57: Satuan | I57: Koefisien | J57: Harga Satuan (Rp.) | K57: Jumlah Harga (Rp.)
B58: A | C58: TENAGA
B59: 1 | C59: Pekerja | G59: L.01 | H59: OH | I59: 0.031 | J59: =J41 -> 0 | K59: =J59*I59 -> 0
B60: 2 | C60: Tukang listrik | G60: L.02 | H60: OH | I60: 0.052 | J60: =J42 -> 0 | K60: =J60*I60 -> 0
B61: 3 | C61: Kepala tukang | G61: L.03 | H61: OH | I61: 0.005 | J61: =J43 -> 0 | K61: =J61*I61 -> 0
B62: 4 | C62: Mandor | G62: L.04 | H62: OH | I62: 0.002 | J62: =J44 -> 0 | K62: =J62*I62 -> 0
B63: JUMLAH TENAGA KERJA | K63: =SUM(K59:K62) -> 0
B64: B | C64: BAHAN
C65: inbow dus | G65: M.476.b | H65: buah | I65: 1 | J65: =J47 -> 0 | K65: =J65*I65 -> 0
C66: Saklar Triple | G66: M.482.c | H66: M.482.c | I66: 1 | J66: 0 | K66: =J66*I66 -> 0
B67: JUMLAH HARGA BAHAN | K67: =SUM(K65:K66) -> 0
B68: C | C68: PERALATAN
B69: JUMLAH HARGA ALAT | K69: 0
B70: D | C70: Jumlah (A+B+C) | K70: =K67+K63 -> 0
B71: E | C71: Overhead & Profit 15% | I71: =$K$4 -> 0.1 | K71: =K70*I71 -> 0
B72: F | C72: Harga Satuan Pekerjaan (D+E) | K72: =SUM(K69:K71) -> 0
B74: dihit. | E74: Saklar Tunggal tukar dengan lampu indikator
B75: No | C75: Uraian | G75: Kode | H75: Satuan | I75: Koefisien | J75: Harga Satuan (Rp.) | K75: Jumlah Harga (Rp.)
B76: A | C76: TENAGA
B77: 1 | C77: Pekerja | G77: L.01 | H77: OH | I77: 0.031 | J77: =J59 -> 0 | K77: =J77*I77 -> 0
B78: 2 | C78: Tukang listrik | G78: L.02 | H78: OH | I78: 0.052 | J78: =J60 -> 0 | K78: =J78*I78 -> 0
B79: 3 | C79: Kepala tukang | G79: L.03 | H79: OH | I79: 0.005 | J79: =J61 -> 0 | K79: =J79*I79 -> 0
B80: 4 | C80: Mandor | G80: L.04 | H80: OH | I80: 0.002 | J80: =J62 -> 0 | K80: =J80*I80 -> 0
B81: JUMLAH TENAGA KERJA | K81: =SUM(K77:K80) -> 0
B82: B | C82: BAHAN
C83: inbow dus | H83: buah | I83: 1 | J83: =J47 -> 0 | K83: =J83*I83 -> 0
C84: Saklar Tunggal tukar | G84: M.483.c | H84: buah | I84: 1 | J84: 0 | K84: =J84*I84 -> 0
B85: JUMLAH HARGA BAHAN | K85: =SUM(K83:K84) -> 0
B86: C | C86: PERALATAN
B87: JUMLAH HARGA ALAT | K87: 0
B88: D | C88: Jumlah (A+B+C) | K88: =K85+K81 -> 0
B89: E | C89: Overhead & Profit 15% | I89: =$K$4 -> 0.1 | K89: =K88*I89 -> 0
B90: F | C90: Harga Satuan Pekerjaan (D+E) | K90: =SUM(K87:K89) -> 0
B92: dihit. | E92: Stop Kontak umum 16A, 1 Phase
B93: No | C93: Uraian | G93: Kode | H93: Satuan | I93: Koefisien | J93: Harga Satuan (Rp.) | K93: Jumlah Harga (Rp.)
B94: A | C94: TENAGA
B95: 1 | C95: Pekerja | G95: L.01 | H95: OH | I95: 0.026 | J95: =J77 -> 0 | K95: =J95*I95 -> 0
B96: 2 | C96: Tukang listrik | G96: L.02 | H96: OH | I96: 0.044 | J96: =J78 -> 0 | K96: =J96*I96 -> 0
B97: 3 | C97: Kepala tukang | G97: L.03 | H97: OH | I97: 0.004 | J97: =J79 -> 0 | K97: =J97*I97 -> 0
B98: 4 | C98: Mandor | G98: L.04 | H98: OH | I98: 0.001 | J98: =J80 -> 0 | K98: =J98*I98 -> 0
B99: JUMLAH TENAGA KERJA | K99: =SUM(K95:K98) -> 0
B100: B | C100: BAHAN
C101: inbow dus | G101: M.476.b | H101: buah | I101: 1 | J101: =J47 -> 0 | K101: =J101*I101 -> 0
C102: Stop Kontak | G102: M.485.c | H102: buah | I102: 1 | J102: 0 | K102: =J102*I102 -> 0
B103: JUMLAH HARGA BAHAN | K103: =SUM(K101:K102) -> 0
B104: C | C104: PERALATAN
B105: JUMLAH HARGA ALAT | K105: 0
B106: D | C106: Jumlah (A+B+C) | K106: =K103+K99 -> 0
B107: E | C107: Overhead & Profit 15% | I107: =$K$4 -> 0.1 | K107: =K106*I107 -> 0
B108: F | C108: Harga Satuan Pekerjaan (D+E) | K108: =SUM(K105:K107) -> 0
...

Sheet UPAH (2)
B1: DAFTAR HARGA SATUAN UPAH
B3: Kode | C3: Uraian | D3: Satuan | H3: Harga | I3: Ket
B4: L.01.01 | C4: PEKERJA | D4: OH | E4: 1 | F4: 1 | G4: 1 | H4: 0
B5: L.02.01 | C5: TUKANG | D5: OH | E5: 2 | F5: 2 | G5: 2 | H5: 0
B6: L.02.02 | C6: TUKANG ALUMUNIUM | D6: OH | E6: 3 | F6: 3 | G6: 3 | H6: 0
B7: L.02.03 | C7: TUKANG BATU | D7: OH | E7: 4 | F7: 4 | G7: 4 | H7: 0
B8: L.02.04 | C8: TUKANG KAYU | D8: OH | E8: 5 | F8: 5 | G8: 5 | H8: 0
B9: L.02.05 | C9: TUKANG BESI | D9: OH | E9: 6 | F9: 6 | G9: 6 | H9: 0
B10: L.02.06 | C10: TUKANG BESI KONSTRUKSI | D10: OH | E10: 7 | F10: 7 | G10: 7 | H10: 0
B11: L.02.07 | C11: TUKANG BESI PROFIL | D11: OH | E11: 8 | F11: 8 | G11: 8 | H11: 0
B12: L.02.08 | C12: TUKANG CAT | D12: OH | E12: 9 | F12: 9 | G12: 9 | H12: 0
B13: L.02.09 | C13: TUKANG EREKSI | D13: OH | E13: 10 | F13: 10 | G13: 10 | H13: 0
B14: L.02.10 | C14: TUKANG LAS KONSTRUKSI | D14: OH | E14: 11 | F14: 11 | G14: 11 | H14: 0
B15: L.02.11 | C15: TUKANG LAS | D15: OH | E15: 12 | F15: 12 | G15: 12 | H15: 0
... B29: L.13 | C29: OPERATOR ALAT ELEKTRONIK | D29: OH | E29: 26 | F29: 26 | G29: 26 | H29: 0
C30: PENJAGA MALAM | D30: OH | E30: 27 | F30: 27 | G30: 27 | H30: 0
C31: TUKANG PASANG KERAMIK | D31: OH | E31: 28 | F31: 28 | G31: 28 | H31: 0

Sheet HARGA ME
A2: HARGA BAHAN
A4: NO. | B4: JENIS URAIAN | C4: SATUAN | D4: HARGA SATUAN | E4: KET.
B8: MATERIAL PIPA
A9: 1 | B9: Pipa PVC tipe AW Ø 1/2" panjang 4 m | C9: m | D9: 0 | E9: survei
A10: =A9+1 -> 2 | B10: Pipa PVC tipe AW Ø 3/4" panjang 4 m | C10: m' | D10: 0 | E10: survei
A11: =A10+1 -> 3 | B11: Pipa PVC tipe AW Ø 1" panjang 4 m | C11: m' | D11: 0 | E11: survei
A12: =A11+1 -> 4 | B12: Pipa PVC tipe AW Ø 2" panjang 4 m | C12: m' | D12: 0 | E12: survei
A13: =A12+1 -> 5 | B13: Pipa PVC tipe AW Ø 3" panjang 4 m | C13: m' | D13: 0 | E13: survei
A14: =A13+1 -> 6 | B14: Pipa PVC tipe AW Ø 4" panjang 4 m | C14: m' | D14: 0 | E14: survei
A15: =A14+1 -> 7 | B15: Pipa PVC tipe AW Ø 6" panjang 4 m | C15: m' | D15: 0 | E15: survei
A16: =A15+1 -> 8 | B16: Pipa PVC tipe AW Ø 8" panjang 4 m | C16: m' | D16: 0 | E16: survei
A17: =A16+1 -> 9 | B17: Pipa PVC tipe AW Ø 10" panjang 4 m | C17: m' | D17: 0 | E17: survei
A19: =A17+1 -> 10 | B19: Pipa PPR PN 10 Ø 1/2" panjang 4 m | C19: m' | D19: 0 | E19: survei
A20: =A19+1 -> 11 | B20: Pipa PPR PN 10 Ø 3/4" panjang 4 m | C20: m' | D20: 0 | E20: survei
A21: =A20+1 -> 12 | B21: Pipa PPR PN 10 Ø 1" panjang 4 m | C21: m' | D21: 0 | E21: survei
A22: =A21+1 -> 13 | B22: Pipa PPR PN 10 Ø1 1/2" panjang 4 m | C22: m' | D22: 0 | E22: survei
A23: =A22+1 -> 14 | B23: Pipa PPR PN 10 Ø 2" panjang 4 m | C23: m' | D23: 0 | E23: survei
A24: =A23+1 -> 15 | B24: Pipa PPR PN 10 Ø 2 1/2" panjang 4 m | C24: m' | D24: 0 | E24: survei
B26: MATERIAL LISTRIK
A27: 1 | B27: T Dus (biasa) | C27: bh | D27: 0 | E27: survei
A28: =A27+1 -> 2 | B28: Saklar Tunggal | C28: bh | D28: 0 | E28: survei
A29: =A28+1 -> 3 | B29: Saklar Ganda | C29: bh | D29: 0 | E29: survei
A30: =A29+1 -> 4 | B30: Saklar Triple | C30: bh | D30: 0 | E30: survei
A31: =A30+1 -> 5 | B31: Saklar Tunggal tukar | C31: bh | D31: 0 | E31: survei
A32: =A31+1 -> 6 | B32: Stop Kontak umum | C32: bh | D32: 0 | E32: survei
A33: =A32+1 -> 7 | B33: Stop Kontak AC, 3kaki | C33: bh | D33: 0 | E33: survei
A34: =A33+1 -> 8 | B34: L Bow | C34: bh | D34: 0 | E34: survei
A35: =A34+1 -> 9 | B35: Las Dop | C35: bh | D35: 0 | E35: survei
A36: =A35+1 -> 10 | B36: Surge Arrester 3P+N 25kA | C36: bh | D36: 0 | E36: survei
A37: =A36+1 -> 11 | B37: Amperemeter | C37: bh | D37: 0 | E37: survei
A38: =A37+1 -> 12 | B38: Voltmeter | C38: bh | D38: 0 | E38: survei
A39: =A38+1 -> 13 | B39: Pilot Lamp | C39: bh | D39: 0 | E39: survei
... A60: =A59+1 -> 34 | B60: Led DOWNLIGHT RECESSED 7W, 6500K | C60: bh | D60: 0 | E60: survei
A61: =A58+1 -> 33 | B61: Led strip 6500K | C61: bh | D61: 0 | E61: survei
A62: =A61+1 -> 34 | B62: Lampu taman led bulb 15 watt + tiang galvanis 1 meter | C62: bh | D62: 0 | E62: survei
A63: =A62+1 -> 35 | B63: Wall Lamp Up Down Led 15W, 6500K | C63: bh | D63: 0 | E63: survei
A64: =A63+1 -> 36 | B64: Celling exhaust fan 100 cfm | C64: bh | D64: 0 | E64: survei
A65: =A64+1 -> 37 | B65: Kabel tray uk 300 mm² x 100 mm² | C65: m | D65: 0 | E65: survei
A66: =A65+1 -> 38 | B66: Kabel tray uk 200 mm² x 100 mm² | C66: m | D66: 0 | E66: survei
A67: =A66+1 -> 39 | B67: Kabel ladder uk 300 mm² x 100 mm² | C67: m | D67: 0 | E67: survei
B69: CCTV
A70: 1 | B70: NVR kap 24 channel, hardisc 1 T | C70: set | D70: 0 | E70: survei
A71: =1+A70 -> 2 | B71: Smart TV 56" | C71: buah | D71: 0 | E71: survei
A72: =1+A71 -> 3 | B72: Power Surge Arester 15 KA | C72: buah | D72: 0 | E72: survei
A73: =1+A72 -> 4 | B73: IP Bullet Camera PoE | C73: buah | D73: 0 | E73: survei
A74: 2 | B74: IP PTZ Camera PoE | C74: buah | D74: 0 | E74: survei
A75: =1+A74 -> 3 | B75: Indoor IP Camera PoE | C75: buah | D75: 0 | E75: survei
A76: =1+A75 -> 4 | B76: Kabel UTP cat - 6 | C76: m | D76: 0 | E76: survei
B77: IP Phone | C77: set
A78: 1 | B78: Cabinet Rack w/ACC (Tata Suara, Cctv, IP Phone, Wifi) | C78: buah | D78: 0 | E78: survei
A79: =1+A78 -> 2 | B79: Power Outlet 12 port | C79: set | D79: 0 | E79: survei
A80: =1+A79 -> 3 | B80: IP PBXact 25 | C80: set | D80: 0 | E80: survei
A81: =1+A80 -> 4 | B81: Switch core 24 port, distribution 4 SFP | C81: set | D81: 0 | E81: survei
A82: 2 | B82: Optical terminal box | C82: set | D82: 0 | E82: survei
A83: =1+A82 -> 3 | B83: Path panel UTP cat 6 24 port | C83: set | D83: 0 | E83: survei
A84: =1+A83 -> 4 | B84: Path panel UTP cat 6 48 port | C84: set | D84: 0 | E84: survei
A85: 2 | B85: Acces Switch PoE 1x48 port | C85: set | D85: 0 | E85: survei
A86: =1+A85 -> 3 | B86: Acces Switch non PoE 1x48 port | C86: set | D86: 0 | E86: survei
A87: =1+A86 -> 4 | B87: IP Phone, 2 Ports LAN, POE Support, 100/1000M, 4 Lines, 320x240 2.4 Inch Color Screen | C87: set | D87: 0 | E87: survei
A88: =1+A87 -> 5 | B88: Acses point PoE | C88: set | D88: 0 | E88: survei

Sheet HSP
A2: DAFTAR HARGA SATUAN JADI
A4: No | B4: Kode | D4: : PEMBANGUNAN RUMAH SEHAT BAZNAS | F4: Harga
B6: A.2.2.1 | C6: HARGA SATUAN PEKERJAAN PERSIAPAN
A7: 1 | C7: A.2.2.1.1. | D7: (K3) Pembuatan 1 m2 pagar sementara dari kayu tinggi 2 meter | F7: =ANL!J27 -> 0
A8: =A7+1 -> 2 | C8: A.2.2.1.2 | D8: (K3) Pembuatan 1 m2 pagar sementara dari seng gelombang tinggi 2 meter | F8: =ANL!J51 -> 0
A9: =A8+1 -> 3 | C9: A.2.2.1.3. | D9: Pembuatan 1 m2 pagar sementara dari kawat duri tinggi 1,8 meter | F9: =ANL!J73 -> 0
A10: =A9+1 -> 4 | C10: A.2.2.1.4. | D10: Pengukuran dan pemasangan 1 m’ Bouwplank | F10: =ANL!J92 -> 0
A11: =A10+1 -> 5 | C11: A.2.2.1.5. | D11: (K3) Pembuatan 1 m2 kantor sementara lantai plesteran | F11: =ANL!J123 -> 0
A12: =A11+1 -> 6 | C12: A.2.2.1.6. | D12: (K3) Pembuatan 1 m2 rumah jaga (konstruksi kayu ) | F12: =ANL!J143 -> 0
A13: =A12+1 -> 7 | B13: (K3) Pembersihan 1 m2 lapangan dan perataan | C13: A.2.2.1.7. | D13: (K3) Pembuatan 1 m2 gudang semen dan peralatan | F13: =ANL!J167 -> 0
A14: =A13+1 -> 8 | B14: Air & listrik kerja | C14: A.2.2.1.8. | D14: (K3) Pembuatan 1 m2 bedeng pekerja | F14: =ANL!J191 -> 0
A15: =A14+1 -> 9 | C15: A.2.2.1.9. | D15: (K3) Pembersihan 1 m2 lapangan dan perataan | F15: =ANL!J205 -> 0
A16: =A15+1 -> 10 | C16: A.2.2.1.10. | D16: (K3) Pembuatan 1 m2 steger/perancah dari bambu | F16: =ANL!J223 -> 0
A17: =A16+1 -> 11 | C17: A.2.2.1.11. | D17: Pembuatan 1 buah kotak adukan ukuran 40cm x50cm x25cm | F17: =ANL!J240 -> 0
A18: =A17+1 -> 12 | C18: A.2.2.1.12. | D18: Pembuatan 1 m2 jalan sementara | F18: =ANL!J257 -> 0
A19: =A18+1 -> 13 | C19: A.2.2.1.13. | D19: Pembongkaran 1 m3 beton bertulang | F19: =ANL!J271 -> 0
A20: =A19+1 -> 14 | C20: A.2.2.1.14. | D20: Pembongkaran 1 m3 dinding tembok bata | F20: =ANL!J285 -> 0
A21: =A20+1 -> 15 | C21: A.2.2.1.15. | D21: Pemasangan 1 m2 pagar kawat jaring galvanis panjang 240 cm | F21: =ANL!J302 -> 0
A22: =A21+1 -> 16 | C22: A.2.2.1.16. | D22: Pemasangan 1 m2 panel beton pracetak 5x50x240 cm | F22: =ANL!J323 -> 0
B24: A.2.3.1 | C24: HARGA SATUAN PEKERJAAN TANAH
A25: 17 | C25: A.2.3.1.1. | D25: Penggalian 1 m3 tanah biasa sedalam 1 m | F25: =ANL!J339 -> 0
A26: =A25+1 -> 18 | C26: A.2.3.1.2. | D26: Penggalian 1 m3 tanah biasa sedalam 2 m | F26: =ANL!J353 -> 0
A27: =A26+1 -> 19 | C27: A.2.3.1.3. | D27: Menggali 1 m3 tanah biasa sedalam 3 m | F27: =ANL!J367 -> 0
A28: =A27+1 -> 20 | C28: A.2.3.1.4. | D28: Menggali 1 m3 tanah keras sedalam 1 m | F28: =ANL!J381 -> 0
A29: =A28+1 -> 21 | C29: A.2.3.1.5. | D29: Menggali 1 m3 tanah cadas sedalam 1 m | F29: =ANL!J395 -> 0
A30: =A29+1 -> 22 | C30: A.2.3.1.6. | D30: Menggali 1 m3 tanah lumpur sedalam 1 m | F30: =ANL!J409 -> 0
A31: =A30+1 -> 23 | C31: A.2.3.1.7. | D31: Pengerjaan stripping 1 m2 tanah tebing setinggi 1 meter | F31: =ANL!J423 -> 0
A32: =A31+1 -> 24 | C32: A.2.3.1.8. | D32: (K3) Pembuangan 1 m3 tanah sejauh 30 meter | F32: =ANL!J437 -> 0
A33: =A32+1 -> 25 | C33: A.2.3.1.9. | D33: Pengurugan kembali 1 m3 galian tanah (1/3 Galian;-Tanah Biasa Sedalam 1 M) | F33: =ANL!J452 -> 0
A34: =A33+1 -> 26 | C34: A.2.3.1.10. | D34: (K3) Pemadatan tanah 1 m3 tanah ( per 20 cm) | F34: =ANL!J466 -> 0
A35: =A34+1 -> 27 | C35: A.2.3.1.11. | D35: Pengurugan 1 m3 dengan pasir urug | F35: =ANL!J481 -> 0
A36: =A35+1 -> 28 | C36: A.2.3.1.11.a | D36: =+ANL!D483 -> Pengurugan 1 m3 dengan tanah urug | F36: =+ANL!J496 -> 0
A37: =A36+1 -> 29 | C37: A.2.3.1.12. | D37: Pemasangan 1 m3 lapisan pudel campuran 1KP:3PP:7TL | F37: =ANL!J515 -> 0
A38: =A37+1 -> 30 | C38: A.2.3.1.13. | D38: Pemasangan 1 m2 lapisan ijuk tebal 10 cm untuk bidang resapan | F38: =ANL!J530 -> 0
A39: =A38+1 -> 31 | C39: A.2.3.1.14. | D39: Pengurugan 1 m3 sirtu padat | F39: =ANL!J545 -> 0
B41: A.3.2.2 | C41: HARGA SATUAN PEKERJAAN PONDASI
A42: 31 | C42: A.3.2.1.1. | D42: Pemasangan 1 m3 pondasi batu belah campuran 1SP : 3PP | F42: =ANL!J565 -> 0
A43: =A42+1 -> 32 | C43: A.3.2.1.2. | D43: Pemasangan 1 m3 pondasi batu belah campuran 1SP : 4PP | F43: =ANL!J584 -> 0
A44: =A43+1 -> 33 | C44: A.3.2.1.3. | D44: Pemasangan 1 m3 pondasi batu belah campuran 1SP : 5PP | F44: =ANL!J603 -> 0
A45: =A44+1 -> 34 | C45: A.3.2.1.4. | D45: Pemasangan 1 m3 pondasi batu belah campuran 1SP : 6PP | F45: =ANL!J622 -> 0
A46: =A45+1 -> 35 | C46: A.3.2.1.5. | D46: Pemasangan 1 m3 pondasi batu belah campuran 1SP : 8PP | F46: =ANL!J641 -> 0
A47: =A46+1 -> 36 | C47: A.3.2.1.6. | D47: Pemasangan 1 m3 pondasi batu belah campuran 1SP : 1KP : 2PP | F47: =ANL!J661 -> 0
A48: =A47+1 -> 37 | C48: A.3.2.1.7. | D48: Pemasangan 1 m3 pondasi batu belah campuran 1 SP : 3 KP : 10 PP | F48: =ANL!J681 -> 0
A49: =A48+1 -> 38 | C49: A.3.2.1.8. | D49: Pemasangan 1 m3 pondasi batu belah campuran ¼ SP : 1 KP : 4PP | F49: =ANL!J701 -> 0
A50: =A49+1 -> 39 | C50: A.3.2.1.9. | D50: Pemasangan 1 m3 batu kosong (anstamping) | F50: =ANL!J719 -> 0
A51: =A50+1 -> 40 | C51: A.3.2.1.10. | D51: (K3) Pemasangan 1 m3 pondasi siklop, 60% beton campuran 1SP : 2 PB : 3 Kr dan 40% batu belah | F51: =ANL!J741 -> 0
A52: =A51+1 -> 41 | C52: A.3.2.1.11. | D52: Pemasangan 1 m3 pondasi sumuran, diameter 100 cm | F52: =ANL!J761 -> 0
A53: =A52+1 -> 42 | C53: A.3.2.1.11.a | D53: =ANL!D763 -> 1 m' Pengadan tiang pancang square 30x30 | F53: =ANL!J778 -> 0
A54: =A53+1 -> 43 | C54: A.3.2.1.11.b | D54: =ANL!D780 -> Pemotongan 1 titik kepala tiang pancang | F54: =ANL!J795 -> 0
A55: =A54+1 -> 44 | C55: A.3.2.1.11.c | D55: =ANL!D797 -> Test PDA | F55: =ANL!J812 -> 0
A56: =A55+1 -> 45 | C56: A.3.2.1.11.d | D56: =ANL!D814 -> Pemasangan 1 ttk Crucuk Bambu Ø ± 10 cm | F56: =ANL!J829 -> 0
B58: A.4.1.1 | C58: HARGA SATUAN PEKERJAAN BETON
A59: 45 | C59: A.4.1.1.1 | D59: Membuat 1 m3 beton mutu f’c = 7,4 MPa (K 100) | F59: =ANL!J850 -> 0
A60: =A59+1 -> 46 | C60: A.4.1.1.2 | D60: Membuat 1 m3 beton mutu f’= 9,8 MPa (K 125) | F60: =ANL!J870 -> 0
A61: =A60+1 -> 47 | C61: A.4.1.1.3 | D61: Membuat 1 m3 beton mutu f’= 12,2 MPa (K 150) | F61: =ANL!J890 -> 0
A62: =A61+1 -> 48 | C62: A.4.1.1.4 | D62: Membuat 1 m3 lantai kerja beton mutu f’c = 7,4 MPa (K 100), slump (3-6) cm, w/c = 087 | F62: =ANL!J912 -> 0
A63: =A62+1 -> 49 | C63: A.4.1.1.5. | D63: Membuat 1 m3 beton mutu f’ = 14,5 MPa (K 175), slump (12 ±2) cm, w/c = 0,66 | F63: =ANL!J932 -> 0
A64: =A63+1 -> 50 | C64: A.4.1.1.6 | D64: Membuat 1 m3 beton mutu f’= 16,9 MPa (K 200), slump (120 ± 20) mm, w/c = 0,61 | F64: =ANL!J952 -> 0
A65: =A64+1 -> 51 | C65: A.4.1.1.7. | D65: Membuat 1 m3 beton mutu f’ = 19,3 MPa (K 225), slump (120 ± 20) mm, w/c = 0,58 | F65: =ANL!J972 -> 0
A66: =A65+1 -> 52 | C66: A.4.1.1.8. | D66: Membuat 1 m3 beton mutu f’= 21,7 MPa (K 250), slump (120 ± 20) mm, w/c = 0,56 | F66: =ANL!J992 -> 0
C67: A.4.1.1.8.a | D67: =ANL!D994 -> Membuat 1 m3 beton ready mix mutu fc’= 21,7 Mpa | F67: =ANL!J1012 -> 0
A68: =A66+1 -> 53 | C68: A.4.1.1.9. | D68: Membuat 1 m3 beton mutu f’ = 24,0 MPa (K 275), slump (120 ± 20) mm, w/c = 0,53 | F68: =ANL!J1032 -> 0
A69: =A68+1 -> 54 | C69: A.4.1.1.10. | D69: Membuat 1 m3 beton mutu f’c = 26,4 MPa (K 300), slump (120 ± 20) mm, w/c = 0,52 | F69: =ANL!J1052 -> 0
A70: =A69+1 -> 55 | C70: A.4.1.1.11. | D70: Membuat 1 m3 beton mutu f’c = 28,8 MPa (K 325), slump (120 ± 20) mm, w/c = 0,49 | F70: =ANL!J1072 -> 0
A71: =A70+1 -> 56 | C71: A.4.1.1.12. | D71: Membuat 1 m3 beton mutu f’c = 31,2 MPa (K 350), slump (120 ± 20) mm, w/c = 0,48 | F71: =ANL!J1092 -> 0
A72: =A71+1 -> 57 | C72: A.4.1.1.13 | D72: Membuat 1 m3 beton kedap air dengan strorox - 100 | F72: =ANL!J1136 -> 0
A73: =A72+1 -> 58 | C73: A.4.1.1.14 | D73: Pemasangan 1 m’ PVC Waterstop lebar 150 mm | F73: =ANL!J1153 -> 0
A74: =A73+1 -> 59 | C74: A.4.1.1.15 | D74: Pemasangan 1 m’ PVC Waterstop lebar 200 mm | F74: =ANL!J1170 -> 0
A75: =A74+1 -> 60 | C75: A.4.1.1.16 | D75: Membuat 1 m’ PVC Waterstop lebar 230 mm - 320 mm | F75: =ANL!J1187 -> 0
A76: =A75+1 -> 61 | C76: A.4.1.1.17 | D76: Pembesian 10 kg dengan besi polos atau besi ulir | F76: =ANL!J1205 -> 0
A77: =A76+1 -> 62 | C77: A.4.1.1.18 | D77: Pemasangan 10 kg kabel presstressed polos/strands | F77: =ANL!J1223 -> 0
A78: =A77+1 -> 63 | C78: A.4.1.1.19 | D78: Pemasangan 10 kg jaring kawat baja (wiremesh) | F78: =ANL!J1241 -> 0
A79: =A78+1 -> 64 | C79: A.4.1.1.20 | D79: (K3) Pemasangan 1 m2 bekisting untuk pondasi | F79: =ANL!J1260 -> 0
A80: =A79+1 -> 65 | C80: A.4.1.1.21 | D80: (K3) Pemasangan 1 m2 bekisting untuk sloof (2x pemakaian) | F80: =ANL!J1279 -> 0
A81: =A80+1 -> 66 | C81: A.4.1.1.22 | D81: (K3) Pemasangan 1 m2 bekisting untuk kolom (2x pemakaian) | F81: =ANL!J1301 -> 0
A82: =A81+1 -> 67 | C82: A.4.1.1.23 | D82: (K3) Pemasangan 1 m2 bekisting untuk balok (2x pemakaian) | F82: =ANL!J1323 -> 0
A83: =A82+1 -> 68 | C83: A.4.1.1.24 | D83: (K3) Pemasangan 1 m2 bekisting untuk lantai (2x pemakaian) | F83: =ANL!J1345 -> 0
A84: =A83+1 -> 69 | C84: A.4.1.1.25 | D84: (K3) Pemasangan 1 m2 bekisting untuk dinding (2x pemakaian) | F84: =ANL!J1368 -> 0
A85: =A84+1 -> 70 | C85: A.4.1.1.26 | D85: (K3) Pemasangan 1 m2 bekisting untuk tangga | F85: =ANL!J1390 -> 0
A86: =A85+1 -> 71 | C86: A.4.1.1.27 | D86: Pemasangan 1 m2 jembatan untuk pengecoran beton | F86: =ANL!J1409 -> 0
A87: =A86+1 -> 72 | C87: A.4.1.1.28 | D87: Membuat 1 m3 pondasi beton bertulang (150 kg besi + bekisting) | F87: =ANL!J1435 -> 0
A88: =A87+1 -> 73 | C88: A.4.1.1.29 | D88: Membuat 1 m3 sloof beton bertulang (200 kg besi + bekisting) | F88: =ANL!J1461 -> 0
A89: =A88+1 -> 74 | C89: A.4.1.1.30 | D89: Membuat 1 m3 kolom beton bertulang (300 kg besi + bekisting) | F89: =ANL!J1490 -> 0
A90: =A89+1 -> 75 | C90: A.4.1.1.31 | D90: Membuat 1 m3 balok beton bertulang (200 kg besi + bekisting) | F90: =ANL!J1519 -> 0
A91: =A90+1 -> 76 | C91: A.4.1.1.32 | D91: Membuat 1 m3 kolom beton bertulang (150 kg besi + bekisting) | F91: =ANL!J1548 -> 0
A92: =A91+1 -> 77 | C92: A.4.1.1.33 | D92: Membuat 1 m3 dinding beton bertulang (150 kg besi + bekisting) | F92: =ANL!J1577 -> 0
A93: =A92+1 -> 78 | C93: A.4.1.1.34 | D93: Membuat 1 m3 dinding beton bertulang (200 kg besi + bekisting) | F93: =ANL!J1606 -> 0
A94: =A93+1 -> 79 | C94: A.4.1.1.35 | D94: Membuat 1 m’ kolom praktis beton bertulang (11 x 11) cm | F94: =ANL!J1632 -> 0
A95: =A94+1 -> 80 | C95: A.4.1.1.36 | D95: Membuat 1 m’ ring balok beton bertulang (10 x 15) cm | F95: =ANL!J1658 -> 0
B97: A.4.1.2 | C97: HARGA SATUAN PEKERJAAN BETON PRACETAK
A98: 78 | C98: A.4.1.2.1. | D98: (K3) Pembuatan 1 m2 lahan produksi tebal 8cm beton f’c 14,5 Mpa (K 175) slump (120 ± 20) mm | F98: =ANL!J1679 -> 0
A99: =A98+1 -> 79 | C99: A.4.1.2.2. | D99: (K3) Pembuatan 1 m2 lahan produksi tebal 10 cm beton f’c 14,5 Mpa (K 175) slump (120 ± 20) mm | F99: =ANL!J1699 -> 0
A100: =A99+1 -> 80 | C100: A.4.1.2.3. | D100: (K3) Pembuatan 1 m2 lahan produksi tebal 12 cm beton f’c 14,5 Mpa (K 175) slump (120 ± 20) mm | F100: =ANL!J1719 -> 0
A101: =A100+1 -> 81 | C101: A.4.1.2.4. | D101: (K3) Pembuatan 1 m2 lahan produksi tebal 15 cm beton f’c 14,5 Mpa (K 175) slump (120 ± 20) mm | F101: =ANL!J1739 -> 0
A102: =A101+1 -> 82 | C102: A.4.1.2.5. | D102: Pembuatan 1 m2 bekisting untuk plat beton pracetak ( 5 kali pakai) | F102: =ANL!J1761 -> 0
A103: =A102+1 -> 83 | C103: A.4.1.2.6. | D103: Pembuatan 1 m2 bekisting untuk balok beton pracetak ( 10-12 kali pakai) | F103: =ANL!J1781 -> 0
A104: =A103+1 -> 84 | C104: A.4.1.2.7. | D104: Pembuatan 1 m2 bekisting untuk kolom beton pracetak (10-12 kali pakai) | F104: =ANL!J1802 -> 0
A105: =A104+1 -> 85 | C105: A.4.1.2.8. | D105: Pemasangan dan membuka bekisting 1 buah komponen plat beton pracetak | F105: =ANL!J1817 -> 0
A106: =A105+1 -> 86 | C106: A.4.1.2.9. | D106: Pemasangan dan membuka bekisting 1 buah komponen balok beton pracetak | F106: =ANL!J1832 -> 0
A107: =A106+1 -> 87 | C107: A.4.1.2.10. | D107: Pemasangan dan membuka bekisting 1 buah komponen Kolom beton pracetak | F107: =ANL!J1847 -> 0
...

Sheet AHS KUSEN
B1: ANALISA KUSEN
C3: volume | D3: satuan | E3: harga satuan | F3: jumlah
B4: Pintu P1
B5: kusen stainlessteel t= 3mm | C5: =1.8+1.8+2.6+2.6 -> 8.8 | D5: m' | E5: 0 | F5: =+C5*E5 -> 0
B6: Daun Pintu Kaca Tempered 12 mm | C6: =1.8*2.6 -> 4.68 | D6: m2 | E6: 0 | F6: =+C6*E6 -> 0
B7: Pull handle stainless steel SUS 304 | C7: 1 | D7: set | E7: 0 | F7: =+C7*E7 -> 0
B8: Patch Lock | C8: 1 | D8: unit | E8: 0 | F8: =+C8*E8 -> 0
B9: Floor hinge | C9: 1 | D9: Set | E9: 0 | F9: =+C9*E9 -> 0
B10: Patch Fitting | C10: 2 | D10: set | E10: 0 | F10: =+C10*E10 -> 0
B11: Covering plate | C11: 1 | D11: Set | E11: 0 | F11: =+C11*E11 -> 0
B12: stiker sunblast | C12: =1.18*1.8 -> 2.124 | D12: m2 | E12: 0 | F12: =+C12*E12 -> 0
E13: TOTAL | F13: =SUM(F5:F12) -> 0
B15: Pintu P2
B16: Pemasangan Kusen Alumunium 4" Tebal 1.2 mm Fin. Powder Coating | C16: =(2.6*2)+0.9+0.9 -> 7 | D16: m' | E16: =+HSP!F133 -> 0 | F16: =+E16*C16 -> 0
B17: Pemasangan Daun Pintu Engineering Door | C17: =2.06*0.8 -> 1.648 | D17: m2 | E17: 0 | F17: =+E17*C17 -> 0
B18: kaca bening 5 mm | C18: =0.32*0.68 -> 0.2176 | D18: m2 | E18: =+HSP!F394 -> 0 | F18: =+E18*C18 -> 0
B19: Pemasangan Engsel | C19: 5 | D19: buah | E19: =+HSP!F382 -> 0 | F19: =+E19*C19 -> 0
B20: Pemasangan Lever Handle | C20: 1 | D20: buah | E20: 0 | F20: =+E20*C20 -> 0
B21: Pemasangan Lockcase | C21: 1 | D21: buah | E21: 0 | F21: =+E21*C21 -> 0
B22: Pemasangan Cylinder | C22: 1 | D22: buah | E22: 0 | F22: =+E22*C22 -> 0
B23: Pemasangan Door Closer | C23: 2 | D23: buah | E23: =+HSP!F387 -> 0 | F23: =+E23*C23 -> 0
B24: Pemasangan Flush Bolt | C24: 1 | D24: buah
E25: TOTAL | F25: =SUM(F16:F24) -> 0
B26: Pintu P3
B27: Pemasangan Kusen UPVC | C27: =(2.1*2)+1.29 -> 5.49 | D27: m' | E27: 0 | F27: =+E27*C27 -> 0
B28: Pemasangan Daun Pintu UPVC | C28: =2.05*1.2 -> 2.46 | D28: m2 | E28: 0 | F28: =+E28*C28 -> 0
B29: Pemasangan Engsel | C29: 6 | D29: buah | E29: =+E19 -> 0 | F29: =+E29*C29 -> 0
B30: Pemasangan Pull Handle Stainless Steel | C30: 1 | D30: buah | E30: 0 | F30: =+E30*C30 -> 0
B31: Pemasangan Lockcase | C31: 1 | D31: buah | E31: 0 | F31: =+E31*C31 -> 0
B32: Pemasangan Cylinder | C32: 1 | D32: buah | E32: 0 | F32: =+E32*C32 -> 0
B33: Pemasangan Door Closer | C33: 0 | D33: buah | E33: 0 | F33: =+E33*C33 -> 0
E34: TOTAL | F34: =SUM(F27:F33) -> 0
B36: Pintu PT1
B37: Pemasangan Kusen Alumunium 4" Tebal 1.2 mm Fin. Powder Coating | C37: =(2.6*2)+0.9+0.9 -> 7 | D37: m' | E37: =E16 -> 0 | F37: =+E37*C37 -> 0
B38: Pemasangan Daun Pintu Alumunium 4" Tebal 1.2 mm (Powder Coating) | C38: =2.1*0.8 -> 1.68 | D38: m2 | E38: 0 | F38: =+E38*C38 -> 0
B39: kaca bening 5 mm | C39: =0.32*0.68 -> 0.2176 | D39: m2 | E39: =+E18 -> 0 | F39: =+E39*C39 -> 0
B40: Pemasangan Engsel | C40: 5 | D40: buah | E40: =E19 -> 0 | F40: =+E40*C40 -> 0
B41: Pemasangan Lever Handle | C41: 1 | D41: buah | E41: =+E20 -> 0 | F41: =+E41*C41 -> 0
B42: Pemasangan Lockcase | C42: 1 | D42: buah | E42: =E21 -> 0 | F42: =+E42*C42 -> 0
B43: Pemasangan Cylinder | C43: 1 | D43: buah | E43: =E22 -> 0 | F43: =+E43*C43 -> 0
E44: TOTAL | F44: =SUM(F37:F43) -> 0
B46: Pintu PB1
B47: Pemasangan Kusen Besi 120x70x2mm Fin. Cat Besi | C47: 1 | D47: UNIT | E47: 0 | F47: =+E47*C47 -> 0
B48: Pemasangan Daun Pintu Plat Besi t=2mm Fin. Cat Besi + Kaca Bening 5mm | C48: =2.16*2.13 -> 4.6008 | D48: m2
B49: Pemasangan Engsel | C49: 6 | D49: buah | E49: 0
B50: Pemasangan Pull Handle | C50: 2 | D50: buah
B51: Pemasangan Door Closer | C51: 1 | D51: buah | E51: 0
E52: TOTAL | F52: =SUM(F47:F51) -> 0
B54: Pintu Jendela PJ1
B55: Pemasangan Kusen Alumunium 4" Tebal 1.2 mm Fin. Powder Coating | C55: =(2.8*3)+2.65+1.17 -> 12.22 | D55: m' | E55: =#REF! -> #REF! | F55: =+E55*C55 -> #REF!
B56: Pemasangan Daun Pintu Solid Engineering fin HPL | C56: =1.44*2.76 -> 3.9744 | D56: m2 | E56: =HSP!F355 -> 0 | F56: =+E56*C56 -> 0
B57: kaca bening 8 mm | C57: =1.09*2.76 -> 3.0084 | D57: m2 | E57: =#REF! -> #REF! | F57: =+E57*C57 -> #REF!
B58: Pemasangan Engsel | C58: 3 | D58: buah | E58: =#REF! -> #REF! | F58: =+E58*C58 -> #REF!
B59: Pemasangan Pull Handle Stainless Steel | C59: 1 | D59: buah | E59: =#REF! -> #REF! | F59: =+E59*C59 -> #REF!
B60: Pemasangan Lockcase | C60: 1 | D60: buah | E60: =#REF! -> #REF! | F60: =+E60*C60 -> #REF!
B61: Pemasangan Cylinder | C61: 1 | D61: buah | E61: =#REF! -> #REF! | F61: =+E61*C61 -> #REF!
B62: Pemasangan Door Closer | C62: 1 | D62: buah | E62: =#REF! -> #REF! | F62: =+E62*C62 -> #REF!
E63: TOTAL | F63: =SUM(F55:F62) -> #REF!
B65: Pintu Jendela PJ2
B66: Pemasangan Kusen Alumunium 4" Tebal 1.2 mm Fin. Powder Coating | C66: =(2.4*9)+6.4+7.37 -> 35.37 | D66: m' | E66: =E55 -> #REF! | F66: =+E66*C66 -> #REF!
B67: Pemasangan Daun Pintu Kusen Alumunium 4" Tebal 1.2 mm (Powder Coating) + Kaca Bening Tebal 8 mm | C67: =0.9*2.35 -> 2.115 | D67: m2 | E67: =#REF! -> #REF! | F67: =+E67*C67 -> #REF!
B68: kaca bening 8 mm | C68: =2.3*0.86*7 -> 13.846 | D68: m2 | E68: =E57 -> #REF! | F68: =+E68*C68 -> #REF!
B69: Pemasangan Engsel | C69: 3 | D69: buah | E69: =E58 -> #REF! | F69: =+E69*C69 -> #REF!
B70: Pemasangan Pull Handle Stainless Steel | C70: 1 | D70: buah | E70: =E59 -> #REF! | F70: =+E70*C70 -> #REF!
B71: Pemasangan Lockcase | C71: 1 | D71: buah | E71: =E60 -> #REF! | F71: =+E71*C71 -> #REF!
B72: Pemasangan Cylinder | C72: 1 | D72: buah | E72: =E61 -> #REF! | F72: =+E72*C72 -> #REF!
B73: Pemasangan Door Closer | C73: 1 | D73: buah | E73: =E62 -> #REF! | F73: =+E73*C73 -> #REF!
E74: TOTAL | F74: =SUM(F66:F73) -> #REF!
B76: Pintu Jendela PJ3
B77: Pemasangan Kusen Alumunium 4" Tebal 1.2 mm Fin. Powder Coating | C77: =(2.4*6)+(5.8*2) -> 26 | D77: m' | E77: =E66 -> #REF! | F77: =+E77*C77 -> #REF!
B78: Pemasangan Daun Pintu Kusen Alumunium 4" Tebal 1.2 mm (Powder Coating) + Kaca Bening Tebal 8 mm | C78: =2.32*1.4*4 -> 12.992 | D78: m2 | E78: =E67 -> #REF! | F78: =+E78*C78 -> #REF!
B79: Pemasangan Engsel Geser | C79: =1.385*2 -> 2.77 | D79: m' | E79: =E58 -> #REF! | F79: =+E79*C79 -> #REF!
B80: Pemasangan Pull Handle Stainless Steel | D80: buah | E80: =E70 -> #REF! | F80: =+E80*C80 -> #REF!
B81: Pemasangan Lockcase | D81: buah | E81: =E71 -> #REF! | F81: =+E81*C81 -> #REF!
B82: Pemasangan Cylinder | D82: buah | E82: =E72 -> #REF! | F82: =+E82*C82 -> #REF!
B83: Pemasangan Door Closer | D83: buah | E83: =E73 -> #REF! | F83: =+E83*C83 -> #REF!
E84: TOTAL | F84: =SUM(F77:F83) -> #REF!
B86: Pintu Jendela PJ4
B87: Pemasangan Kusen Alumunium 4" Tebal 1.2 mm Fin. Powder Coating | C87: =+(2.4*2)+(0.92*2) -> 6.64 | D87: m' | E87: =E77 -> #REF! | F87: =+E87*C87 -> #REF!
B88: Pemasangan Daun Pintu Kusen Alumunium 4" Tebal 1.2 mm (Powder Coating) + Kaca Bening Tebal 8 mm | C88: =2.35*0.9 -> 2.115 | D88: m2 | E88: =E78 -> #REF! | F88: =+E88*C88 -> #REF!
B89: kaca bening 8 mm | C89: =2.4*0.4 -> 0.96 | D89: m2 | E89: =E68 -> #REF! | F89: =+E89*C89 -> #REF!
B90: Pemasangan Engsel pintu | C90: 3 | D90: m' | E90: =E69 -> #REF! | F90: =+E90*C90 -> #REF!
B91: Pemasangan Pull Handle Stainless Steel | C91: 1 | D91: buah | E91: =E70 -> #REF! | F91: =+E91*C91 -> #REF!
B92: Pemasangan Lockcase | C92: 1 | D92: buah | E92: =E71 -> #REF! | F92: =+E92*C92 -> #REF!
B93: Pemasangan Cylinder | C93: 1 | D93: buah | E93: =E72 -> #REF! | F93: =+E93*C93 -> #REF!
B94: Pemasangan Door Closer | C94: 1 | D94: buah | E94: =E73 -> #REF! | F94: =+E94*C94 -> #REF!
E95: TOTAL | F95: =SUM(F87:F94) -> #REF!
B97: Jendela J1
B98: Pemasangan Kusen Alumunium 4" Tebal 1.2 mm Fin. Powder Coating | C98: =(1.85*2)+(0.8*2) -> 5.3 | D98: m' | E98: =+E37 -> 0 | F98: =+E98*C98 -> 0
B99: kaca bening 5 mm | C99: =1.6*0.585 -> 0.936 | D99: m2 | E99: =+E39 -> 0 | F99: =+E99*C99 -> 0
B100: Pemasangan Engsel | C100: 2 | D100: buah | E100: =E40 -> 0 | F100: =+E100*C100 -> 0
B101: Pemasangan Rambuncis | C101: 1 | D101: buah | E101: 0 | F101: =+E101*C101 -> 0
E102: TOTAL | F102: =SUM(F98:F101) -> 0
B104: Jendela BV1
B105: Pemasangan Kusen Alumunium 4" Tebal 1.2 mm Fin. Powder Coating | C105: =(0.8*2)+(0.544*2) -> 2.688 | D105: m' | E105: =E98 -> 0 | F105: =+E105*C105 -> 0
B106: kaca bening 5 mm | C106: =0.591*0.335 -> 0.197985 | D106: m2 | E106: =E99 -> 0 | F106: =+E106*C106 -> 0
E107: TOTAL | F107: =SUM(F105:F106) -> 0
B109: Jendela J3
B110: Pemasangan Kusen Alumunium 4" Tebal 1.2 mm Fin. Powder Coating | C110: =(2.4*4)+(4.54*2) -> 18.68 | D110: m' | E110: =E105 -> 0 | F110: =+E110*C110 -> 0
B111: Pemasangan Daun Jendela Kusen Alumunium 4" Tebal 1.2 mm (Powder Coating) + Kaca Bening Tebal 8 mm | C111: =2.34*1.48*3 -> 10.3896 | D111: m2 | E111: =E106 -> 0 | F111: =+E111*C111 -> 0
...

Sheet ANL
C1: DAFTAR ANALISA BIAYA KONSTRUKSI
C2: BANGUNAN GEDUNG DAN PERUMAHAN
C6: A.2.2.1.1. | D6: (K3) Pembuatan 1 m2 pagar sementara dari kayu tinggi 2 meter
D7: No | E7: Uraian | F7: Kode | G7: Satuan | H7: Koefisien | I7: Harga Satuan (Rp.) | J7: Jumlah Harga (Rp.)
D8: A | E8: TENAGA
E9: Pekerja | F9: L.01.01 | G9: OH | H9: 0.4 | I9: =IF(AND(E9<>"",G9<>""),IF(D9="",IF(G9="OH",VLOOKUP(F9,UPAH!$B$4:$H$101,7,0),0),0),0) -> 0 | J9: =H9*I9 -> 0
E10: Tukang Kayu | F10: L.02.04 | G10: OH | H10: 0.2 | I10: =IF(AND(E10<>"",G10<>""),IF(D10="",IF(G10="OH",VLOOKUP(F10,UPAH!$B$4:$H$101,7,0),VLOOKUP(E10,#REF!,4,0)),0),0) -> 0 | J10: =H10*I10 -> 0
E11: Kepala Tukang | F11: L.03.01 | G11: OH | H11: 0.02 | I11: =IF(AND(E11<>"",G11<>""),IF(D11="",IF(G11="OH",VLOOKUP(F11,UPAH!$B$4:$H$101,7,0),VLOOKUP(E11,#REF!,4,0)),0),0) -> 0 | J11: =H11*I11 -> 0
E12: Mandor | F12: L.04.01 | G12: OH | H12: 0.02 | I12: =IF(AND(E12<>"",G12<>""),IF(D12="",IF(G12="OH",VLOOKUP(F12,UPAH!$B$4:$H$101,7,0),VLOOKUP(E12,#REF!,4,0)),0),0) -> 0 | J12: =H12*I12 -> 0
B13: (K3) Pembersihan 1 m2 lapangan dan perataan | H13: JUMLAH TENAGA KERJA | J13: =SUM(J9:J12) -> 0
B14: Air & listrik kerja | D14: B | E14: BAHAN
E15: Dolken kayu Ø 8-10/400 cm | G15: Batang | H15: 1.25 | I15: ='BAHAN '!G794 -> 0 | J15: =H15*I15 -> 0
E16: Semen portland | G16: Kg | H16: 5 | I16: ='BAHAN '!G72 -> 0 | J16: =H16*I16 -> 0
E17: Pasir beton | G17: m3 | H17: 0.005 | I17: ='BAHAN '!G59 -> 0 | J17: =H17*I17 -> 0
E18: Koral beton | G18: m3 | H18: 0.009 | I18: ='BAHAN '!G49 -> 0 | J18: =H18*I18 -> 0
E19: Kayu 5/7 kls III | G19: m3 | H19: 0.072 | I19: ='BAHAN '!G200 -> 0 | J19: =H19*I19 -> 0
E20: Paku biasa | G20: Kg | H20: 0.06 | I20: ='BAHAN '!G127 -> 0 | J20: =H20*I20 -> 0
E21: Residu | G21: Liter | H21: 0.4 | I21: ='BAHAN '!G158 -> 0 | J21: =H21*I21 -> 0
H22: JUMLAH HARGA BAHAN | J22: =SUM(J14:J21) -> 0
D23: C | E23: PERALATAN
H24: JUMLAH HARGA ALAT | J24: =J23 -> 0
D25: D | E25: Jumlah (A+B+C) | J25: =SUM(J9:J24)/2 -> 0
D26: E | E26: Overhead & Profit 10% | H26: 0.1 | J26: =H26*J25 -> 0
D27: F | E27: Harga Satuan Pekerjaan (D+E) | I27: =IF(AND(E27<>"",G27<>""),IF(D27="",IF(G27="OH",VLOOKUP(E27,UPAH!$C$4:$H$31,7,0),VLOOKUP(E27,#REF!,4,0)),0),0) -> 0 | J27: =ROUNDDOWN(J25+J26,0) -> 0
C29: A.2.2.1.2 | D29: (K3) Pembuatan 1 m2 pagar sementara dari seng gelombang tinggi 2 meter
D30: No | E30: Uraian | F30: Kode | G30: Satuan | H30: Koefisien | I30: Harga Satuan (Rp.) | J30: Jumlah Harga (Rp.)
D31: A | E31: TENAGA | I31: =IF(AND(E31<>"",G31<>""),IF(D31="",IF(G31="OH",VLOOKUP(E31,UPAH!$C$4:$H$31,7,0),VLOOKUP(E31,#REF!,4,0)),0),0) -> 0 | J31: =H31*I31 -> 0
E32: Pekerja | F32: L.01.01 | G32: OH | H32: 0.2 | I32: =IF(AND(E32<>"",G32<>""),IF(D32="",IF(G32="OH",VLOOKUP(F32,UPAH!$B$4:$H$101,7,0),VLOOKUP(E32,#REF!,4,0)),0),0) -> 0 | J32: =H32*I32 -> 0
E33: Tukang Kayu | F33: L.02.04 | G33: OH | H33: 0.4 | I33: =IF(AND(E33<>"",G33<>""),IF(D33="",IF(G33="OH",VLOOKUP(F33,UPAH!$B$4:$H$101,7,0),VLOOKUP(E33,#REF!,4,0)),0),0) -> 0 | J33: =H33*I33 -> 0
E34: Kepala Tukang | F34: L.03.01 | G34: OH | H34: 0.02 | I34: =IF(AND(E34<>"",G34<>""),IF(D34="",IF(G34="OH",VLOOKUP(F34,UPAH!$B$4:$H$101,7,0),VLOOKUP(E34,#REF!,4,0)),0),0) -> 0 | J34: =H34*I34 -> 0
E35: Mandor | F35: L.04.01 | G35: OH | H35: 0.02 | I35: =IF(AND(E35<>"",G35<>""),IF(D35="",IF(G35="OH",VLOOKUP(F35,UPAH!$B$4:$H$101,7,0),VLOOKUP(E35,#REF!,4,0)),0),0) -> 0 | J35: =H35*I35 -> 0
H36: JUMLAH TENAGA KERJA | J36: =SUM(J31:J35) -> 0
D37: B | E37: BAHAN
E38: Dolken kayu Ø 8-10/400 cm | G38: Batang | H38: 1.25 | I38: ='BAHAN '!G794 -> 0 | J38: =H38*I38 -> 0
E39: Semen portland | G39: Kg | H39: 2.5 | I39: ='BAHAN '!G72 -> 0 | J39: =H39*I39 -> 0
E40: Seng gelombang | G40: Lbr | H40: 1.2 | I40: ='BAHAN '!G241 -> 0 | J40: =H40*I40 -> 0
E41: Pasir beton | G41: m3 | H41: 0.005 | I41: ='BAHAN '!G59 -> 0 | J41: =H41*I41 -> 0
E42: Koral beton | G42: m3 | H42: 0.009 | I42: ='BAHAN '!G49 -> 0 | J42: =H42*I42 -> 0
E43: Kayu 5/7 | G43: m3 | H43: 0.072 | I43: ='BAHAN '!G200 -> 0 | J43: =H43*I43 -> 0
E44: Paku biasa | G44: Kg | H44: 0.06 | I44: ='BAHAN '!G127 -> 0 | J44: =H44*I44 -> 0
E45: Meni besi | G45: Liter | H45: 0.45 | I45: ='BAHAN '!G167 -> 0 | J45: =H45*I45 -> 0
H46: JUMLAH HARGA BAHAN | J46: =SUM(J38:J45) -> 0
D47: C | E47: PERALATAN | I47: =IF(AND(E47<>"",G47<>""),IF(D47="",IF(G47="OH",VLOOKUP(E47,UPAH!$C$4:$H$31,7,0),VLOOKUP(E47,#REF!,4,0)),0),0) -> 0
H48: JUMLAH HARGA ALAT | J48: =J47 -> 0
D49: D | E49: Jumlah (A+B+C) | J49: =SUM(J32:J48)/2 -> 0
D50: E | E50: Overhead & Profit 10% | H50: 0.1 | J50: =H50*J49 -> 0
D51: F | E51: Harga Satuan Pekerjaan (D+E) | I51: =IF(AND(E51<>"",G51<>""),IF(D51="",IF(G51="OH",VLOOKUP(E51,UPAH!$C$4:$H$31,7,0),VLOOKUP(E51,#REF!,4,0)),0),0) -> 0 | J51: =ROUNDDOWN(J49+J50,0) -> 0
C53: A.2.2.1.3. | D53: Pembuatan 1 m2 pagar sementara dari kawat duri tinggi 1,8 meter
D54: No | E54: Uraian | F54: Kode | G54: Satuan | H54: Koefisien | I54: Harga Satuan (Rp.) | J54: Jumlah Harga (Rp.)
D55: A | E55: TENAGA | I55: =IF(AND(E55<>"",G55<>""),IF(D55="",IF(G55="OH",VLOOKUP(E55,UPAH!$C$4:$H$31,7,0),VLOOKUP(E55,#REF!,4,0)),0),0) -> 0 | J55: =H55*I55 -> 0
E56: Pekerja | F56: L.01.01 | G56: OH | H56: 0.2 | I56: =IF(AND(E56<>"",G56<>""),IF(D56="",IF(G56="OH",VLOOKUP(F56,UPAH!$B$4:$H$101,7,0),VLOOKUP(E56,#REF!,4,0)),0),0) -> 0 | J56: =H56*I56 -> 0
E57: Tukang Kayu | F57: L.02.04 | G57: OH | H57: 0.3 | I57: =IF(AND(E57<>"",G57<>""),IF(D57="",IF(G57="OH",VLOOKUP(F57,UPAH!$B$4:$H$101,7,0),VLOOKUP(E57,#REF!,4,0)),0),0) -> 0 | J57: =H57*I57 -> 0
E58: Kepala Tukang | F58: L.03.01 | G58: OH | H58: 0.02 | I58: =IF(AND(E58<>"",G58<>""),IF(D58="",IF(G58="OH",VLOOKUP(F58,UPAH!$B$4:$H$101,7,0),VLOOKUP(E58,#REF!,4,0)),0),0) -> 0 | J58: =H58*I58 -> 0
E59: Mandor | F59: L.04.01 | G59: OH | H59: 0.02 | I59: =IF(AND(E59<>"",G59<>""),IF(D59="",IF(G59="OH",VLOOKUP(F59,UPAH!$B$4:$H$101,7,0),VLOOKUP(E59,#REF!,4,0)),0),0) -> 0 | J59: =H59*I59 -> 0
H60: JUMLAH TENAGA KERJA | J60: =SUM(J55:J59) -> 0
D61: B | E61: BAHAN | I61: =IF(AND(E61<>"",G61<>""),IF(D61="",IF(G61="OH",VLOOKUP(E61,UPAH!$C$4:$H$31,7,0),VLOOKUP(E61,#REF!,4,0)),0),0) -> 0 | J61: =H61*I61 -> 0
E62: Dolken kayu Ø 8-10/400 cm | G62: Batang | H62: 1 | I62: ='BAHAN '!G794 -> 0 | J62: =H62*I62 -> 0
E63: Semen portland | G63: Kg | H63: 2 | I63: ='BAHAN '!G72 -> 0 | J63: =H63*I63 -> 0
E64: Kawat duri | G64: M’ | H64: 25 | I64: ='BAHAN '!G117 -> 0 | J64: =H64*I64 -> 0
E65: Pasir beton | G65: m3 | H65: 0.005 | I65: ='BAHAN '!G59 -> 0 | J65: =H65*I65 -> 0
E66: Koral beton | G66: m3 | H66: 0.009 | I66: ='BAHAN '!G49 -> 0 | J66: =H66*I66 -> 0
E67: Paku biasa 2” - 5” | G67: Kg | H67: 0.06 | I67: ='BAHAN '!G127 -> 0 | J67: =H67*I67 -> 0
H68: JUMLAH HARGA BAHAN | J68: =SUM(J60:J67) -> 0
D69: C | E69: PERALATAN | I69: =IF(AND(E69<>"",G69<>""),IF(D69="",IF(G69="OH",VLOOKUP(E69,UPAH!$C$4:$H$31,7,0),VLOOKUP(E69,#REF!,4,0)),0),0) -> 0 | J69: =H69*I69 -> 0
H70: JUMLAH HARGA ALAT | J70: =J69 -> 0
D71: D | E71: Jumlah (A+B+C) | I71: =IF(AND(E71<>"",G71<>""),IF(D71="",IF(G71="OH",VLOOKUP(E71,UPAH!$C$4:$H$31,7,0),VLOOKUP(E71,#REF!,4,0)),0),0) -> 0 | J71: =SUM(J56:J70)/2 -> 0
D72: E | E72: Overhead & Profit 10% | H72: 0.1 | J72: =H72*J71 -> 0
D73: F | E73: Harga Satuan Pekerjaan (D+E) | I73: =IF(AND(E73<>"",G73<>""),IF(D73="",IF(G73="OH",VLOOKUP(E73,UPAH!$C$4:$H$31,7,0),VLOOKUP(E73,#REF!,4,0)),0),0) -> 0 | J73: =ROUNDDOWN(J71+J72,0) -> 0
C75: A.2.2.1.4. | D75: Pengukuran dan pemasangan 1 m’ Bouwplank
D76: No | E76: Uraian | F76: Kode | G76: Satuan | H76: Koefisien | I76: Harga Satuan (Rp.) | J76: Jumlah Harga (Rp.)
D77: A | E77: TENAGA | I77: =IF(AND(E77<>"",G77<>""),IF(D77="",IF(G77="OH",VLOOKUP(E77,UPAH!$C$4:$H$31,7,0),VLOOKUP(E77,#REF!,4,0)),0),0) -> 0 | J77: =H77*I77 -> 0
E78: Pekerja | F78: L.01.01 | G78: OH | H78: 0.1 | I78: =IF(AND(E78<>"",G78<>""),IF(D78="",IF(G78="OH",VLOOKUP(F78,UPAH!$B$4:$H$101,7,0),VLOOKUP(E78,#REF!,4,0)),0),0) -> 0 | J78: =H78*I78 -> 0
E79: Tukang Kayu | F79: L.02.04 | G79: OH | H79: 0.1 | I79: =IF(AND(E79<>"",G79<>""),IF(D79="",IF(G79="OH",VLOOKUP(F79,UPAH!$B$4:$H$101,7,0),VLOOKUP(E79,#REF!,4,0)),0),0) -> 0 | J79: =H79*I79 -> 0
E80: Kepala Tukang | F80: L.03.01 | G80: OH | H80: 0.01 | I80: =IF(AND(E80<>"",G80<>""),IF(D80="",IF(G80="OH",VLOOKUP(F80,UPAH!$B$4:$H$101,7,0),VLOOKUP(E80,#REF!,4,0)),0),0) -> 0 | J80: =H80*I80 -> 0
E81: Mandor | F81: L.04.01 | G81: OH | H81: 0.005 | I81: =IF(AND(E81<>"",G81<>""),IF(D81="",IF(G81="OH",VLOOKUP(F81,UPAH!$B$4:$H$101,7,0),VLOOKUP(E81,#REF!,4,0)),0),0) -> 0 | J81: =H81*I81 -> 0
H82: JUMLAH TENAGA KERJA | J82: =SUM(J77:J81) -> 0
D83: B | E83: BAHAN | I83: =IF(AND(E83<>"",G83<>""),IF(D83="",IF(G83="OH",VLOOKUP(E83,UPAH!$C$4:$H$31,7,0),VLOOKUP(E83,#REF!,4,0)),0),0) -> 0 | J83: =H83*I83 -> 0
E84: Kayu balok 5/7 | G84: m3 | H84: 0.012 | I84: ='BAHAN '!G200 -> 0 | J84: =H84*I84 -> 0
E85: Paku 2”-3” | G85: Kg | H85: 0.02 | I85: ='BAHAN '!G127 -> 0 | J85: =H85*I85 -> 0
E86: Kayu papan 3/20 | G86: m3 | H86: 0.007 | I86: ='BAHAN '!G201 -> 0 | J86: =H86*I86 -> 0
H87: JUMLAH HARGA BAHAN | J87: =SUM(J79:J86) -> 0
D88: C | E88: PERALATAN | I88: =IF(AND(E88<>"",G88<>""),IF(D88="",IF(G88="OH",VLOOKUP(E88,UPAH!$C$4:$H$31,7,0),VLOOKUP(E88,#REF!,4,0)),0),0) -> 0 | J88: =H88*I88 -> 0
H89: JUMLAH HARGA ALAT | J89: =J88 -> 0
D90: D | E90: Jumlah (A+B+C) | I90: =IF(AND(E90<>"",G90<>""),IF(D90="",IF(G90="OH",VLOOKUP(E90,UPAH!$C$4:$H$31,7,0),VLOOKUP(E90,#REF!,4,0)),0),0) -> 0 | J90: =SUM(J75:J89)/2 -> 0
D91: E | E91: Overhead & Profit 10% | H91: 0.1 | J91: =H91*J90 -> 0
D92: F | E92: Harga Satuan Pekerjaan (D+E) | I92: =IF(AND(E92<>"",G92<>""),IF(D92="",IF(G92="OH",VLOOKUP(E92,UPAH!$C$4:$H$31,7,0),VLOOKUP(E92,#REF!,4,0)),0),0) -> 0 | J92: =ROUNDDOWN(J90+J91,0) -> 0
C94: A.2.2.1.5. | D94: (K3) Pembuatan 1 m2 kantor sementara lantai plesteran
D95: No | E95: Uraian | F95: Kode | G95: Satuan | H95: Koefisien | I95: Harga Satuan (Rp.) | J95: Jumlah Harga (Rp.)
D96: A | E96: TENAGA
E97: Pekerja | F97: L.01.01 | G97: OH | H97: 2 | I97: =IF(AND(E97<>"",G97<>""),IF(D97="",IF(G97="OH",VLOOKUP(F97,UPAH!$B$4:$H$101,7,0),VLOOKUP(E97,#REF!,4,0)),0),0) -> 0 | J97: =H97*I97 -> 0
E98: Tukang Kayu | F98: L.02.04 | G98: OH | H98: 2 | I98: =IF(AND(E98<>"",G98<>""),IF(D98="",IF(G98="OH",VLOOKUP(F98,UPAH!$B$4:$H$101,7,0),VLOOKUP(E98,#REF!,4,0)),0),0) -> 0 | J98: =H98*I98 -> 0
E99: Tukang batu | F99: L.02.03 | G99: OH | H99: 1 | I99: =IF(AND(E99<>"",G99<>""),IF(D99="",IF(G99="OH",VLOOKUP(F99,UPAH!$B$4:$H$101,7,0),VLOOKUP(E99,#REF!,4,0)),0),0) -> 0 | J99: =H99*I99 -> 0
E100: Kepala Tukang | F100: L.03.01 | G100: OH | H100: 0.3 | I100: =IF(AND(E100<>"",G100<>""),IF(D100="",IF(G100="OH",VLOOKUP(F100,UPAH!$B$4:$H$101,7,0),VLOOKUP(E100,#REF!,4,0)),0),0) -> 0 | J100: =H100*I100 -> 0
E101: Mandor | F101: L.04.01 | G101: OH | H101: 0.05 | I101: =IF(AND(E101<>"",G101<>""),IF(D101="",IF(G101="OH",VLOOKUP(F101,UPAH!$B$4:$H$101,7,0),VLOOKUP(E101,#REF!,4,0)),0),0) -> 0 | J101: =H101*I101 -> 0
H102: JUMLAH TENAGA KERJA | J102: =SUM(J97:J101) -> 0
D103: B | E103: BAHAN | I103: =IF(AND(E103<>"",G103<>""),IF(D103="",IF(G103="OH",VLOOKUP(E103,UPAH!$C$4:$H$31,7,0),VLOOKUP(E103,#REF!,4,0)),0),0) -> 0 | J103: =H103*I103 -> 0
E104: Dolken kayu Ø 8-10/400 cm | G104: Batang | H104: 1.25 | I104: ='BAHAN '!G794 -> 0 | J104: =H104*I104 -> 0
E105: Kayu balok 5/7 | G105: m3 | H105: 0.18 | I105: ='BAHAN '!G200 -> 0 | J105: =H105*I105 -> 0
E106: Paku biasa | G106: Kg | H106: 0.08 | I106: ='BAHAN '!G127 -> 0 | J106: =H106*I106 -> 0
E107: Besi strip | G107: Kg | H107: 1.1 | I107: ='BAHAN '!G98 -> 0 | J107: =H107*I107 -> 0
...

Sheet UPAH
B1: DAFTAR HARGA SATUAN UPAH
B3: Kode | C3: Uraian | D3: Satuan | H3: Harga | I3: Ket
B4: L.01.01 | C4: PEKERJA | D4: : PEMBANGUNAN RUMAH SEHAT BAZNAS | E4: 1 | F4: 1 | G4: 1 | H4: 0
B5: L.02.01 | C5: TUKANG | D5: OH | E5: 2 | F5: 2 | G5: 2 | H5: 0
B6: L.02.02 | C6: TUKANG ALUMUNIUM | D6: OH | E6: 3 | F6: 3 | G6: 3 | H6: 0
B7: L.02.03 | C7: TUKANG BATU | D7: OH | E7: 4 | F7: 4 | G7: 4 | H7: 0
B8: L.02.04 | C8: TUKANG KAYU | D8: OH | E8: 5 | F8: 5 | G8: 5 | H8: 0
B9: L.02.05 | C9: TUKANG BESI | D9: OH | E9: 6 | F9: 6 | G9: 6 | H9: 0
B10: L.02.06 | C10: TUKANG BESI KONSTRUKSI | D10: OH | E10: 7 | F10: 7 | G10: 7 | H10: 0
B11: L.02.07 | C11: TUKANG BESI PROFIL | D11: OH | E11: 8 | F11: 8 | G11: 8 | H11: 0
B12: L.02.08 | C12: TUKANG CAT | D12: OH | E12: 9 | F12: 9 | G12: 9 | H12: 0
B13: L.02.09 | C13: TUKANG EREKSI | D13: OH | E13: 10 | F13: 10 | G13: 10 | H13: 0
B14: L.02.10 | C14: TUKANG LAS KONSTRUKSI | D14: OH | E14: 11 | F14: 11 | G14: 11 | H14: 0
B15: L.02.11 | C15: TUKANG LAS | D15: OH | E15: 12 | F15: 12 | G15: 12 | H15: 0
... B29: L.13 | C29: OPERATOR ALAT ELEKTRONIK | D29: OH | E29: 26 | F29: 26 | G29: 26 | H29: 0
C30: PENJAGA MALAM | D30: OH | E30: 27 | F30: 27 | G30: 27 | H30: 0
C31: TUKANG PASANG KERAMIK | D31: OH | E31: 28 | F31: 28 | G31: 28 | H31: 0

Sheet BAHAN 
C1: DAFTAR HARGA SATUAN BAHAN
C3: NO. | D3: NO. | E3: JENIS BAHAN | F3: SATUAN | G3: HARGA | H3: KET
G4: (Rp.)
A6: 1 | B6: 1 | C6: 1 | D6: 1 | E6: Agregat Base Kelas A | F6: M³ | G6: 525555.33
A7: 1 | B7: 1 | C7: 1 | D7: 2 | E7: Agregat Base Kelas B | F7: M³ | G7: 452603.62
A8: 1 | B8: 1 | C8: 1 | D8: 3 | E8: Agregat Base Kelas C | F8: M³ | G8: 371229.69
B9: 1 | C9: 1 | D9: 4 | E9: Agg. Halus LPA | F9: M³ | G9: 0
B10: 1 | C10: =+C9+1 -> 2 | D10: 5 | E10: Agregat Pecah Kasar | F10: M³ | G10: 0
B11: 1 | C11: =+C10+1 -> 3 | D11: 6 | E11: Air | F11: Ltr | G11: 0
B12: 1 | C12: =+C11+1 -> 4 | D12: 7 | E12: Alang-alang | F12: Ikat | G12: 0
B13: (K3) Pembersihan 1 m2 lapangan dan perataan | C13: =+C12+1 -> 5 | D13: 8 | E13: Aspal | F13: Kg | G13: 0
B14: Air & listrik kerja | C14: =+C13+1 -> 6 | D14: 9 | E14: Aspal Hotmix (Ready Mix) | F14: Ton | G14: 0
B15: 1 | C15: =+C14+1 -> 7 | D15: 10 | E15: Bata merah | F15: Bh | G15: 0
B16: 1 | C16: =+C15+1 -> 8 | D16: 11 | E16: Batako Uk. 20 x 40 x 10 | F16: Bh | G16: 0
B17: 1 | C17: =+C16+1 -> 9 | D17: 12 | E17: Batu Alam 10 x 20 | F17: M² | G17: 0
B18: 1 | C18: =+C17+1 -> 10 | D18: 13 | E18: Batu apung | F18: Kg | G18: 0
B19: 1 | C19: =+C18+1 -> 11 | D19: 14 | E19: Batu Bata Klinker Uk. 5 x 5 x 25 | F19: Bh | G19: 0
B20: 1 | C20: =+C19+1 -> 12 | D20: 15 | E20: Batu Belah / Batu Kali / Batu Gunung | F20: M³ | G20: 0
B21: 1 | C21: =+C20+1 -> 13 | D21: 16 | E21: Batu Belah Uk. 15 - 20 | F21: M³ | G21: 0
B22: 1 | C22: =+C21+1 -> 14 | D22: 17 | E22: Batu Boulder | F22: M³ | G22: 0
B23: 1 | C23: =+C22+1 -> 15 | D23: 18 | E23: Batu Bunga (Alam) | F23: M² | G23: 0
B24: 1 | C24: =+C23+1 -> 16 | D24: 19 | E24: Batu Candi 10 x 20 | F24: M² | G24: 0
B25: 1 | C25: =+C24+1 -> 17 | D25: 20 | E25: Batu Candi 30 x 30 | F25: M² | G25: 0
B26: 1 | C26: =+C25+1 -> 18 | D26: 21 | E26: Batu Green Bally 15 x 30 | F26: M² | G26: 0
... B60: 1 | C60: =+C59+1 -> 52 | D60: 55 | E60: Pasir Pasang / Beton (Kg) | F60: Kg | G60: 0
A61: 1 | B61: 1 | C61: =+C60+1 -> 53 | D61: 56 | E61: Pasir Pasang (Sedang) | F61: M³ | G61: 0
B62: 1 | C62: =+C61+1 -> 54 | D62: 57 | E62: Paving Stone t=6 cm | F62: Bh | G62: 0
B63: 1 | C63: =+C62+1 -> 55 | D63: 58 | E63: Paving Stone t=6 cm | F63: M2 | G63: 0
B64: 1 | C64: =+C63+1 -> 56 | D64: 59 | E64: Paving Stone warna t=6 cm | F64: Bh | G64: 0
B65: 1 | C65: =+C64+1 -> 57 | D65: 60 | E65: Paving Stone warna t=6 cm | F65: M2 | G65: 0
B66: 1 | C66: =+C65+1 -> 58 | D66: 61 | E66: Paving Stone t=8 cm | F66: Bh | G66: 0
B67: 1 | C67: =+C66+1 -> 59 | D67: 62 | E67: Paving Stone t=8 cm | F67: M2 | G67: 0
B68: 1 | C68: =+C67+1 -> 60 | D68: 63 | E68: Paving Stone warna t=8 cm | F68: Bh | G68: 0
B69: 1 | C69: =+C68+1 -> 61 | D69: 64 | E69: Paving Stone warna t=8 cm | F69: M2 | G69: 0
B70: 1 | C70: =+C69+1 -> 62 | D70: 65 | E70: S o l a r (HET) | F70: Ltr | G70: 0
B71: 1 | C71: =+C70+1 -> 63 | D71: 66 | E71: S o l a r (Industri) | F71: Ltr | G71: 0
B72: 1 | C72: =+C71+1 -> 64 | D72: 67 | E72: Semen PC | F72: Kg | G72: 0
B73: 1 | C73: =+C72+1 -> 65 | D73: 68 | E73: Semen Putih | F73: Kg | G73: 0
... B118: 1 | C118: =+C117+1 -> 110 | D118: 113 | E118: Kawat jaring galvanis | F118: M¹ | G118: 0
B119: 1 | C119: =+C118+1 -> 111 | D119: 113.a | E119: Kawat jaring galvanis | F119: Lbr | G119: 0
B120: 1 | C120: =+C119+1 -> 112 | D120: 114 | E120: Kawat Las | F120: Kg | G120: 0
B121: 1 | C121: =+C120+1 -> 113 | D121: 115 | E121: Pagar BRC (BRC Fence) ; tinggi = 120 cm | F121: M¹ | G121: 0
B122: 1 | C122: =+C121+1 -> 114 | D122: 116 | E122: Pagar BRC (BRC Fence) ; tinggi = 175 cm | F122: M¹ | G122: 0
B123: 1 | C123: =+C122+1 -> 115 | D123: 117 | E123: Pagar BRC (BRC Fence) ; tinggi = 90 cm | F123: M¹ | G123: 0
B124: 1 | C124: =+C123+1 -> 116 | D124: 118 | E124: Paku Asbes Bh | F124: Bh | G124: 0
B125: 1 | C125: =+C124+1 -> 117 | D125: 119 | E125: Paku Beton | F125: Kg | G125: 0
B126: 1 | C126: =+C125+1 -> 118 | D126: 120 | E126: Paku Genteng Metal | F126: Kg | G126: 0
B127: 1 | C127: =+C126+1 -> 119 | D127: 121 | E127: Paku Kayu 2" s/d 6" | F127: Kg | G127: 0
B128: 1 | C128: =+C127+1 -> 120 | D128: 122 | E128: Paku pancing | F128: Kg | G128: 0
B129: 1 | C129: =+C128+1 -> 121 | D129: 123 | E129: Paku Reng | F129: Kg | G129: 0
B130: 1 | C130: =+C129+1 -> 122 | D130: 124 | E130: Paku Sekrup | F130: Kg | G130: 0
B131: 1 | C131: =+C130+1 -> 123 | D131: 125 | E131: Paku Sekrup | F131: bh | G131: 0
... B171: 1 | C171: =+C170+1 -> 163 | D171: 165 | E171: Cat Tembok Biasa | F171: Kg | G171: 0
C172: =+C171+1 -> 164 | E172: Cat tembok interior | F172: kg | G172: 0
C173: =+C172+1 -> 165 | E173: cat tembok exterior | F173: kg | G173: 0
B174: 1 | C174: =+C173+1 -> 166 | D174: 166 | E174: Cat Waterproofing (Setara Aquaproof) | F174: Kg | G174: 0
B175: 1 | C175: =+C174+1 -> 167 | D175: 167 | E175: Chipping | F175: Kg | G175: 0
B176: 1 | C176: =+C175+1 -> 168 | D176: 168 | E176: Compound Gypsum | F176: Kg | G176: 0
B177: 1 | C177: =+C176+1 -> 169 | D177: 169 | E177: Dempul Besi | F177: Kg | G177: 0
B178: 1 | C178: =+C177+1 -> 170 | D178: 170 | E178: Dempul Kayu/Wood Filler (Impra Setara) | F178: Kg | G178: 0
B179: 1 | C179: =+C178+1 -> 171 | D179: 171 | E179: Kuas | F179: Bh | G179: 0
B180: 1 | C180: =+C179+1 -> 172 | D180: 172 | E180: Lem Eha-Bond | F180: Ltr | G180: 0
B181: 1 | C181: =+C180+1 -> 173 | D181: 173 | E181: Minyak Cat / Thiner | F181: Ltr | G181: 0
B182: 1 | C182: =+C181+1 -> 174 | D182: 174 | E182: Paper Tape | F182: M¹ | G182: 0
B183: 1 | C183: =+C182+1 -> 175 | D183: 175 | E183: Plamir | F183: Kg | G183: 0
B184: 1 | C184: =+C183+1 -> 176 | D184: 176 | E184: Plamur Tembok (Danapaint Setara) | F184: Kg | G184: 0
B185: 1 | C185: =+C184+1 -> 177 | D185: 177 | E185: Politur | F185: Ltr | G185: 0
... B251: 1 | C251: =+C250+1 -> 243 | D251: 243 | E251: Tegel Abu-Abu uk. 30x30 cm | F251: Bh | G251: 0
B252: 1 | C252: =+C251+1 -> 244 | D252: 244 | E252: Tegel Abu-Abu uk. 40x40 cm | F252: Bh | G252: 0 | N252: =0.6*0.6 -> 0.36
B253: 1 | C253: =+C252+1 -> 245 | D253: 245 | E253: Tegel Berwarna uk. 20x20 cm | F253: Bh | G253: 0 | N253: =1/N252 -> 2.7777778
B254: 1 | C254: =+C253+1 -> 246 | D254: 246 | E254: Tegel Berwarna uk. 30x30 cm | F254: Bh | G254: 0
B255: 1 | C255: =+C254+1 -> 247 | D255: 247 | E255: Tegel Berwarna uk. 40x40 cm | F255: Bh | G255: 0
B256: 1 | C256: =+C255+1 -> 248 | D256: 248 | E256: Tegel Esenza uk. 40x40 cm | F256: Bh | G256: 0
B257: 1 | C257: =+C256+1 -> 249 | D257: 249 | E257: Tegel granite dinding 20 x 20 | F257: Bh | G257: 0
B258: 1 | C258: =+C257+1 -> 250 | D258: 250 | E258: Tegel granite dinding 25 x 50 | F258: Bh | G258: 0
B259: 1 | C259: =+C258+1 -> 251 | D259: 251 | E259: Tegel granite dinding 25 x 60 | F259: Bh | G259: 0
B260: 1 | C260: =+C259+1 -> 252 | D260: 252 | E260: Tegel granite dinding 30 x 30 | F260: Bh | G260: 0
B261: 1 | C261: =+C260+1 -> 253 | D261: 253 | E261: Tegel granite dinding 30 x 60 | F261: Bh | G261: 0
B262: 1 | C262: =+C261+1 -> 254 | D262: 254 | E262: Tegel granite lantai 20 x 20 | F262: Bh | G262: 0
B263: 1 | C263: =+C262+1 -> 255 | D263: 255 | E263: Tegel granite lantai 30 x 30 | F263: Bh | G263: 0
B264: 1 | C264: =+C263+1 -> 256 | D264: 256 | E264: Tegel granite lantai 40 x 40 | F264: Bh | G264: 0
B265: 1 | C265: =+C264+1 -> 257 | D265: 257 | E265: Tegel granite lantai 50 x 50 | F265: Bh | G265: 0
... B306: 1 | C306: =+C305+1 -> 298 | D306: 298 | E306: Tegel Wafel uk. 20x20 cm | F306: Bh | G306: 0
C307: =+C306+1 -> 299 | E307: Homogenous tile Polish uk.60x60 cm | F307: bh | G307: 0
C308: =+C307+1 -> 300 | E308: Homogenous tile UnPolish uk.60x60 cm | F308: bh | G308: 0
C309: =+C308+1 -> 301 | E309: Homogenous tile Polish uk.40x40 cm | F309: bh | G309: 0
B310: 1 | C310: =+C309+1 -> 302 | D310: 299 | E310: Ubin keramik arttistik uk. 10 x 10 cm | F310: Bh | G310: 0
B311: 1 | C311: =+C310+1 -> 303 | D311: 300 | E311: Ubin keramik arttistik uk. 10 x 20 cm | F311: Bh | G311: 0
B312: 1 | C312: =+C311+1 -> 304 | D312: 301 | E312: Ubin keramik arttistik uk. 15 x 15 cm | F312: Bh | G312: 0
B313: 1 | C313: =+C312+1 -> 305 | D313: 302 | E313: Ubin keramik arttistik uk. 5 x 20 cm | F313: Bh | G313: 0
B314: 1 | C314: =+C313+1 -> 306 | D314: 303 | E314: Ubin tahan asam | F314: M² | G314: 0
B315: 1 | C315: =+C314+1 -> 307 | D315: 304 | E315: Bak Cuci Stainless Steel (1 Lobang) | F315: Bh | G315: 0
B316: 1 | C316: =+C315+1 -> 308 | D316: 305 | E316: Bak Cuci Stainless Steel (2 Lobang) | F316: Bh | G316: 0
B317: 1 | C317: =+C316+1 -> 309 | D317: 306 | E317: Bak Mandi Fiberglass | F317: Bh | G317: 0
B318: 1 | C318: =+C317+1 -> 310 | D318: 307 | E318: Bathub | F318: Bh | G318: 0
B319: 1 | C319: =+C318+1 -> 311 | D319: 308 | E319: Biofill BF 8 | F319: Bh | G319: 0
B320: 1 | C320: =+C319+1 -> 312 | D320: 309 | E320: Floor Drain | F320: Bh | G320: 0
B321: 1 | C321: =+C320+1 -> 313 | D321: 310 | E321: Jet Pump Grundfos; Head 50 m; kap. 72 l/dt | F321: Unit | G321: 0
... B400: 1 | C400: =+C399+1 -> 392 | D400: 389 | E400: Pipa PE S8-SDR17 (PN10) Ø 2" (63 mm) | F400: m¹ | G400: 0
A401: 1 | B401: 1 | C401: =+C400+1 -> 393 | D401: 390 | E401: Pipa PE S8-SDR17 (PN10) Ø 1½" (50 mm) | F401: m¹ | G401: 0
...

Sheet Alat
A1: DAFTAR HARGA SATUAN ALAT
H3: Harga | J3: Spesifikasi | K3: Harga | M3: Deskripsi | O3: 2019 | W3: Harga | Y3: Spesifikasi
A4: No | C4: Uraian | D4: Satuan | E4: Kode | H4: Satuan Dasar | I4: Ket. | J4: Kinerja | K4: Pembelian | M4: Teknis | P4: No | R4: Uraian | S4: Satuan | T4: Kode | W4: Satuan Dasar | X4: Ket. | Y4: Kinerja
H5: ( Rp. ) | K5: ( Rp. ) | M5: Peralatan | W5: ( Rp. )
A6: 1 | C6: 2 | D6: 3 | E6: 4 | H6: 5 | I6: 6 | K6: 7 | M6: 8 | P6: 1 | R6: 2 | S6: 3 | T6: 4 | W6: 5 | X6: 6
A9: A. | C9: Peralatan dan Alat Berat | P9: A. | R9: Peralatan dan Alat Berat
A10: 1 | C10: Alat (pancang) Hammer 0,5 ton (manual) | D10: Sewa-jam | E10: E.01.a | H10: 0 | K10: =50*H10 -> 0 | P10: 1 | R10: Alat (pancang) Hammer 0,5 ton (manual) | S10: Sewa-hari | T10: E.01.a | W10: 123600
A11: 2 | C11: Alat (pancang) Hammer 1 ton (manual) | D11: Sewa-jam | E11: E.01.b | H11: 0 | K11: =50*H11 -> 0 | P11: 2 | R11: Alat (pancang) Hammer 1 ton (manual) | S11: Sewa-hari | T11: E.01.b | W11: 247200
A12: 3 | C12: Alat (pancang) Hammer 2 ton (manual) | D12: Sewa-jam | E12: E.01.c | H12: 0 | K12: =50*H12 -> 0 | P12: 3 | R12: Alat (pancang) Hammer 2 ton (manual) | S12: Sewa-hari | T12: E.01.c | W12: 357142.86
A13: 4 | C13: Alat (mesin pancang diesel) Hammer 0,5 ton | D13: Sewa-jam | E13: E.01.d | H13: 0 | K13: 325000000 | P13: 4 | R13: Alat (mesin pancang diesel) Hammer 0,5 ton | S13: Sewa-jam | T13: E.01.d | W13: 103000
A14: 5 | C14: Alat (mesin pancang diesel) Hammer 1 ton | D14: Sewa-jam | E14: E.01.e | H14: 0 | K14: 500000000 | P14: 5 | R14: Alat (mesin pancang diesel) Hammer 1 ton | S14: Sewa-jam | T14: E.01.e | W14: 154500
A15: 6 | C15: Alat (mesin pancang diesel) Hammer 2 ton | D15: Sewa-jam | E15: E.01.f | H15: 0 | K15: 750000000 | P15: 6 | R15: Alat (mesin pancang diesel) Hammer 2 ton | S15: Sewa-jam | T15: E.01.f | W15: 231750
A16: 7 | C16: Alat (mesin pancang diesel) Hammer 3 ton | D16: Sewa-jam | E16: E.01.g | H16: 0 | K16: 1000000000 | P16: 7 | R16: Alat (mesin pancang diesel) Hammer 3 ton | S16: Sewa-jam | T16: E.01.g | W16: 334750
A17: 8 | C17: Alat (mesin pancang kompresor udara) Hammer 3 ton | D17: Sewa-jam | E17: E.01.h | H17: 0 | K17: =2500*H17 -> 0 | P17: 8 | R17: Alat (mesin pancang kompresor udara) Hammer 3 ton | S17: Sewa-jam | T17: E.01.h | W17: 257500
A18: 9 | C18: Alat (mesin pancang tenaga uap) Hammer 3 ton | D18: Sewa-jam | E18: E.01.i | H18: 0 | K18: =2500*H18 -> 0 | P18: 9 | R18: Alat (mesin pancang tenaga uap) Hammer 3 ton | S18: Sewa-jam | T18: E.01.i | W18: 257500
A19: 10 | C19: Boat, Speedboat, Motor 10 HP | D19: Sewa-hari | E19: E.03.a | H19: 0 | K19: =500*H19 -> 0 | M19: 1,5 juta per - 1 x jalan | P19: 10 | R19: Boat, Speedboat, Motor 10 HP | S19: Sewa-hari | T19: E.03.a | W19: 875500
A20: 11 | C20: Tug-boat, Motor 50 HP | D20: Sewa-hari | E20: E.03.b | H20: 0 | K20: =1500*H20 -> 0 | M20: 1500000 | N20: per - 1 x jalan | P20: 11 | R20: Tug-boat, Motor 50 HP | S20: Sewa-hari | T20: E.03.b | W20: 2575000
A21: 12 | C21: Bore Pile Machine, dia. 60 cm | D21: Sewa-jam | E21: E.04.a | H21: 0 | K21: 1170000000 | P21: 12 | R21: Bore Pile Machine, dia. 60 cm | S21: Sewa-jam | T21: E.04.a | W21: 1170000
A22: 13 | C22: Bore Pile Machine, dia. 100 cm | D22: Sewa-jam | E22: E.04.b | H22: 0 | K22: 3795000000 | P22: 13 | R22: Bore Pile Machine, dia. 100 cm | S22: Sewa-jam | T22: E.04.b | W22: =W21+(3%*W21) -> 1205100
A23: 14 | C23: Bulldozer 50-60 HP | D23: Sewa-jam | E23: E.05.a | H23: 0 | K23: 1875000000 | P23: 14 | R23: Bulldozer 50-60 HP | S23: Sewa-jam | T23: E.05.a | W23: 360500
A24: 15 | C24: Bulldozer 100-120 HP | D24: Sewa-jam | E24: E.05.b | H24: 0 | K24: 2875000000 | P24: 15 | R24: Bulldozer 100-120 HP | S24: Sewa-jam | T24: E.05.b | W24: 489607.97
A25: 16 | C25: Bulldozer 180-220 HP | D25: Sewa-jam | E25: E.05.c | H25: 0 | K25: 4125000000 | P25: 16 | R25: Bulldozer 180-220 HP | S25: Sewa-jam | T25: E.05.c | W25: 847080.58
A26: 17 | C26: Chainsaw | D26: Sewa-hari | E26: E.06 | H26: 0 | K26: =50*H26 -> 0 | P26: 17 | R26: Chainsaw | S26: Sewa-hari | T26: E.06 | W26: 150000
A27: 18 | C27: Crane 2.5 ton | D27: Sewa-hari | E27: E.07.a | H27: 0 | K27: 450000000 | P27: 18 | R27: Crane 2.5 ton | S27: Sewa-hari | T27: E.07.a | W27: =W28-(3%*W28) -> 672743.5
A28: 19 | C28: Crane 5 ton | D28: Sewa-jam | E28: E.07.b | H28: 0 | K28: 750000000 | P28: 19 | R28: Crane 5 ton | S28: Sewa-jam | T28: E.07.b | W28: =W29-(3%*W29) -> 693550
A29: 20 | C29: Crane 10 ton | D29: Sewa-jam | E29: E.07.c | H29: 0 | K29: 1250000000 | P29: 20 | R29: Crane 10 ton | S29: Sewa-jam | T29: E.07.c | W29: 715000
A30: 21 | C30: Crane 25 ton | D30: Sewa-jam | E30: E.07.d | H30: 0 | K30: 2750000000 | P30: 21 | R30: Crane 25 ton | S30: Sewa-jam | T30: E.07.d | W30: =W29+(3%*W29) -> 736450
A31: 22 | C31: Dump truck 3,5 ton | D31: Sewa-hari | E31: E.08.a | H31: 0 | K31: 335000000 | P31: 22 | R31: Dump truck 3,5 ton | S31: Sewa-hari | T31: E.08.a | W31: 2746340.9
A32: 23 | C32: Dump truck 5 ton | D32: Sewa-hari | E32: E.08.b | H32: 0 | K32: 368750000 | P32: 23 | R32: Dump truck 5 ton | S32: Sewa-hari | T32: E.08.b | W32: =W31+(3%*W31) -> 2828731.1
A33: 24 | C33: Dump truck 7 ton | D33: Sewa-hari | E33: E.08.b | H33: 0 | K33: =+H33*2000 -> 0 | P33: 24 | R33: Dump truck 7 ton | S33: Sewa-hari | T33: E.08.b | W33: =W32+(3%*W32) -> 2913593
A34: 25 | C34: Dump truck 10 ton | D34: Sewa-hari | E34: E.08.b | H34: 0 | K34: =+H34*2000 -> 0 | P34: 25 | R34: Dump truck 10 ton | S34: Sewa-hari | T34: E.08.b | W34: 4680873
A35: 26 | C35: Drilling Rig (kecil) | D35: Sewa-jam | E35: E.09.a | H35: 0 | K35: =7500*H35 -> 0 | P35: 26 | R35: Drilling Rig (kecil) | S35: Sewa-jam | T35: E.09.a | W35: 82400
A36: 27 | C36: Drilling Rig (sedang) | D36: Sewa-jam | E36: E.09.b | H36: 0 | K36: =7500*H36 -> 0 | P36: 27 | R36: Drilling Rig (sedang) | S36: Sewa-jam | T36: E.09.b | W36: 154500 | Z36: =O38/O40 -> #DIV/0!
A37: 28 | C37: Drilling Rig (besar) | D37: Sewa-jam | E37: E.09.c | H37: 0 | K37: =7500*H37 -> 0 | P37: 28 | R37: Drilling Rig (besar) | S37: Sewa-jam | T37: E.09.c | W37: 288400 | Z37: =O39/O40 -> #DIV/0!
A38: 29 | C38: Excavator (kecil)/Backhoe kecil | D38: Sewa-jam | E38: E.11.a | H38: 0 | K38: =7500*H38 -> 0 | P38: 29 | R38: Excavator (kecil)/Backhoe kecil | S38: Sewa-hari | T38: E.11.a | W38: 208766.94 | Z38: =O41/O40 -> #DIV/0!
A39: 30 | C39: Excavator (standar)/Backhoe | D39: Sewa-jam | E39: E.11.b | H39: 0 | I39: * | K39: 800000000 | P39: 30 | R39: Excavator (standar)/Backhoe | S39: Sewa-hari | T39: E.11.b | W39: 321179.9
A40: 31 | C40: Excavator (long arm) | D40: Sewa-jam | E40: E.11.c | H40: 0 | I40: * | K40: 900000000 | P40: 31 | R40: Excavator (long arm) | S40: Sewa-hari | T40: E.11.c | W40: 698988.77 | X40: *
A41: 32 | C41: Excavator besar (long arm) | D41: Sewa-jam | E41: E.11.d | H41: 0 | K41: =7500*H41 -> 0 | P41: 32 | R41: Excavator besar (long arm) | S41: Sewa-hari | T41: E.11.d | W41: =W40+(3%*W40) -> 719958.43 | X41: 155hp
A42: 33 | C42: Generator set | D42: Sewa-jam | E42: E.12 | H42: 0 | K42: 529000000 | P42: 33 | R42: Generator set | S42: Sewa-hari | T42: E.12 | W42: 564541.87
A43: 34 | C43: Geo Listrik | D43: Sewa-hari | E43: E.13 | H43: 0 | K43: =50*H43 -> 0 | P43: 34 | R43: Geo Listrik | S43: Sewa-hari | T43: E.13 | W43: 2575000
A44: 35 | C44: Grouting equipment (Mini) | D44: Jam | E44: E.14.a | H44: 0 | K44: =1500*H44 -> 0 | P44: 35 | R44: Grouting equipment (Mini) | S44: Jam | T44: E.14.a | W44: 154500
A45: 36 | C45: Grouting equipment | D45: Jam | E45: E.14.b | H45: 0 | K45: =1500*H45 -> 0 | P45: 36 | R45: Grouting equipment | S45: Jam | T45: E.14.b | W45: 772500
A46: 37 | C46: Jack hammer…… 1 pisau | D46: Sewa-jam | E46: E.15.a | H46: 0 | K46: =1500000+131100000 -> 132600000 | P46: 37 | R46: Jack hammer…… 1 pisau | S46: Sewa-hari | T46: E.15.a | W46: 57408.29
A47: 38 | C47: Jack hammer…… 2 pisau | D47: Sewa-jam | E47: E.15.b | H47: 0 | K47: 250000000 | P47: 38 | R47: Jack hammer…… 2 pisau | S47: Sewa-hari | T47: E.15.b | W47: =W46+(3%*W46) -> 59130.539
A48: 39 | C48: Jack Stressing | D48: Sewa-jam | E48: E.16 | H48: 0 | K48: =50*H48 -> 0 | P48: 39 | R48: Jack Stressing | S48: Sewa-hari | T48: E.16 | W48: 1000000
A49: 40 | C49: Kapal Keruk (kecil) | D49: Sewa-hari | E49: E.17.a | H49: 0 | K49: =2000*H49 -> 0 | P49: 40 | R49: Kapal Keruk (kecil) | S49: Sewa-hari | T49: E.17.a | W49: 7771350
A50: 41 | C50: Kapal Keruk (sedang) | D50: Sewa-hari | E50: E.17.b | H50: 0 | K50: =2750*H50 -> 0 | P50: 41 | R50: Kapal Keruk (sedang) | S50: Sewa-hari | T50: E.17.b | W50: 10871650
A51: 42 | C51: Kapal Keruk (besar) | D51: Sewa-hari | E51: E.17.c | H51: 0 | K51: =3500*H51 -> 0 | P51: 42 | R51: Kapal Keruk (besar) | S51: Sewa-hari | T51: E.17.c | W51: 17958050
A52: 43 | C52: Las listrik 250 A diesel | D52: Sewa-hari | E52: E.22 | H52: 0 | K52: 132250000 | P52: 43 | R52: Las listrik 250 A diesel | S52: Sewa-hari | T52: E.22 | W52: 220000
A53: 44 | C53: Lift (proyek) sampai dengan tinggi maksimum 12m | D53: Sewa-jam | E53: E.23 | H53: 0 | K53: =7500*H53 -> 0 | P53: 44 | R53: Lift (proyek) sampai dengan tinggi maksimum 12m | S53: Sewa-jam | T53: E.23 | W53: 350200
A54: 45 | C54: Loader, Wheel | D54: Sewa-jam | E54: E.24a | H54: 0 | K54: 345000000 | P54: 45 | R54: Loader, Wheel | S54: Sewa-hari | T54: E.24a | W54: 586623.6
A55: 46 | C55: Loader, Track | D55: Sewa-jam | E55: E.24b | H55: 0 | K55: 1725000000 | P55: 46 | R55: Loader, Track | S55: Sewa-hari | T55: E.24b | W55: 867386.42
A56: 47 | C56: Mistar Ukur besi/allumunium pelat | D56: m' | E56: E.25 | H56: 0 | P56: 47 | R56: Mistar Ukur besi/allumunium pelat | S56: m' | T56: E.25 | W56: 309000
A57: 48 | C57: Mimic panel untuk 6 channel pintu air | D57: set | E57: E.26 | H57: 0 | K57: =+H57 -> 0 | P57: 48 | R57: Mimic panel untuk 6 channel pintu air | S57: set | T57: E.26 | W57: 123600000
A58: 49 | C58: Mesin Jahit Geotekstil | D58: Sewa-hari | E58: E.27 | H58: 0 | K58: =50*H58 -> 0 | P58: 49 | R58: Mesin Jahit Geotekstil | S58: Sewa-hari | T58: E.27 | W58: 257500
A59: 50 | C59: Mesin Potong Rumput | D59: Sewa-hari | E59: E.28 | H59: 0 | K59: =100*H59 -> 0 | M59: 35 Watt; 2,5 L bensin campur/hari (7 jam) | P59: 50 | R59: Mesin Potong Rumput | S59: Sewa-hari | T59: E.28 | W59: 24000
A60: 51 | C60: Molen (Concrete Mixer 0.25 m3) | D60: Sewa-jam | E60: E.29.a | H60: 0 | K60: =50*H60 -> 0 | P60: 51 | R60: Molen (Concrete Mixer 0.25 m3) | S60: Sewa-hari | T60: E.29.a | W60: =W61-(3%*W61) -> 128040
A61: 52 | C61: Molen (Concrete Mixer 0.35 m3) | D61: Sewa-jam | E61: E.29.b | H61: 0 | K61: =50*H61 -> 0 | P61: 52 | R61: Molen (Concrete Mixer 0.35 m3) | S61: Sewa-hari | T61: E.29.b | W61: 132000
A62: 53 | C62: Pemadat timbunan (vibro roller kecil/stamper) | D62: Sewa-jam | E62: E.31 | H62: 0 | K62: 230000000 | P62: 53 | R62: Pemadat timbunan (vibro roller kecil/stamper) | S62: Sewa-hari | T62: E.31 | W62: 261002
A63: 54 | C63: Pick up (Mobil) | D63: Sewa-hari | E63: E.33 | H63: 0 | K63: =50*H63 -> 0 | P63: 54 | R63: Pick up (Mobil) | S63: Sewa-hari | T63: E.33 | W63: 125000
A64: 55 | C64: Pompa air diesel 2,5 KW; 3" | D64: Sewa-Jam | E64: E.34.a | H64: 0 | K64: =3500*H64 -> 0 | P64: 55 | R64: Pompa air diesel 2,5 KW; 3" | S64: Sewa-Jam | T64: E.34.a | W64: 12360
A65: 56 | C65: Pompa air diesel 5 KW; 4" | D65: Sewa-jam | E65: E.34.b | H65: 0 | K65: =3500*H65 -> 0 | P65: 56 | R65: Pompa air diesel 5 KW; 4" | S65: Sewa-hari | T65: E.34.b | W65: 20600
A66: 57 | C66: Pompa air diesel 10 KW; 5" | D66: Sewa-Jam | E66: E.34.c | H66: 0 | K66: =3500*H66 -> 0 | P66: 57 | R66: Pompa air diesel 10 KW; 5" | S66: Sewa-Jam | T66: E.34.c | W66: 32960
A67: 58 | C67: Pompa air diesel 20 KW; 8" | D67: Sewa-Jam | E67: E.34.d | H67: 0 | K67: =3500*H67 -> 0 | P67: 58 | R67: Pompa air diesel 20 KW; 8" | S67: Sewa-Jam | T67: E.34.d | W67: 60152
A68: 59 | C68: Pompa lumpur diesel 2,5 KW; 3" | D68: Sewa-Jam | E68: E.34.e | H68: 0 | K68: =3500*H68 -> 0 | P68: 59 | R68: Pompa lumpur diesel 2,5 KW; 3" | S68: Sewa-Jam | T68: E.34.e | W68: 20600
A69: 60 | C69: Pompa lumpur diesel 5 KW; 4" | D69: Sewa-Jam | E69: E.34.f | H69: 0 | K69: =3500*H69 -> 0 | P69: 60 | R69: Pompa lumpur diesel 5 KW; 4" | S69: Sewa-Jam | T69: E.34.f | W69: 32960
A70: 61 | C70: Pompa lumpur diesel 7,5 KW; 4" | D70: Sewa-Jam | E70: E.34.g | H70: 0 | K70: =3500*H70 -> 0 | P70: 61 | R70: Pompa lumpur diesel 7,5 KW; 4" | S70: Sewa-Jam | T70: E.34.g | W70: 45320
A71: 62 | C71: Pompa lumpur diesel 10 KW; 5" | D71: Sewa-Jam | E71: E.34.h | H71: 0 | K71: =3500*H71 -> 0 | P71: 62 | R71: Pompa lumpur diesel 10 KW; 5" | S71: Sewa-Jam | T71: E.34.h | W71: 51912
A72: 63 | C72: Pompa lumpur diesel 20 KW; 6" | D72: Sewa-Jam | E72: E.34.i | H72: 0 | K72: =3500*H72 -> 0 | P72: 63 | R72: Pompa lumpur diesel 20 KW; 6" | S72: Sewa-Jam | T72: E.34.i | W72: 87962
A73: 64 | C73: Pompa lumpur diesel 50 KW; 8" | D73: Sewa-Jam | E73: E.34.j | H73: 0 | K73: =3500*H73 -> 0 | P73: 64 | R73: Pompa lumpur diesel 50 KW; 8" | S73: Sewa-Jam | T73: E.34.j | W73: 144200
A74: 65 | C74: Pompa sedot pasir diesel 5 KW; 4" | D74: Sewa-Jam | E74: E.34.k | H74: 0 | K74: =3500*H74 -> 0 | P74: 65 | R74: Pompa sedot pasir diesel 5 KW; 4" | S74: Sewa-Jam | T74: E.34.k | W74: 41200
A75: 66 | C75: Pompa sedot pasir diesel 7,5 KW; 5" | D75: Sewa-Jam | E75: E.34.l | H75: 0 | K75: =3500*H75 -> 0 | P75: 66 | R75: Pompa sedot pasir diesel 7,5 KW; 5" | S75: Sewa-Jam | T75: E.34.l | W75: 55620
... A78: 69 | C78: Pompa sedot pasir diesel 50 KW; 8" | D78: Sewa-Jam | E78: E.34.o | H78: 0 | K78: =3500*H78 -> 0 | P78: 69 | R78: Pompa sedot pasir diesel 50 KW; 8" | S78: Sewa-Jam | T78: E.34.o | W78: 216300
A79: 70 | C79: Pompa dan Conveyor Beton | D79: Sewa-jam | E79: E.35 | H79: 0 | K79: 805000000 | P79: 70 | R79: Pompa dan Conveyor Beton | S79: Sewa-hari | T79: E.35 | W79: 434000
A80: 71 | C80: Perahu | D80: Sewa-hari | E80: E.36 | H80: 0 | K80: =200*H80 -> 0 | P80: 71 | R80: Perahu | S80: Sewa-hari | T80: E.36 | W80: 772500
A81: 72 | C81: Perahu Jukung 60 Ton | D81: Sewa-hari | E81: E.36 | H81: 0 | K81: =250*H81 -> 0 | M81: 5 juta per - 1 x jalan | P81: 72 | R81: Perahu Jukung 60 Ton | S81: Sewa-hari | T81: E.36 | W81: 257500
A82: 73 | C82: Ponton kecil | D82: Sewa-hari | E82: E.37.a | H82: 0 | K82: =500*H82 -> 0 | P82: 73 | R82: Ponton kecil | S82: Sewa-hari | T82: E.37.a | W82: 257500
A83: 74 | C83: Ponton sedang | D83: Sewa-hari | E83: E.37.b | H83: 0 | K83: =500*H83 -> 0 | P83: 74 | R83: Ponton sedang | S83: Sewa-hari | T83: E.37.b | W83: 515000
A84: 75 | C84: Ponton besar bermotor | D84: Sewa-hari | E84: E.37.c | H84: 0 | K84: =500*H84 -> 0 | M84: 6 juta per - 1 x jalan | P84: 75 | R84: Ponton besar bermotor | S84: Sewa-hari | T84: E.37.c | W84: 772500
A85: 76 | C85: Rakit | D85: buah | E85: E.37.d | H85: 0 | K85: =50*H85 -> 0 | P85: 76 | R85: Rakit | S85: buah | T85: E.37.d | W85: 309000
A86: 77 | C86: Roller, Peneumatic | D86: Sewa-hari | E86: E.32 | H86: 0 | K86: =50*H86 -> 0 | P86: 77 | R86: Roller, Peneumatic | S86: Sewa-hari | T86: E.32 | W86: 394284
A87: 78 | C87: Roller, Three wheel 6 - 8 Ton | D87: Sewa-jam | E87: E.38.a | H87: 0 | K87: 805000000 | P87: 78 | R87: Roller, Three wheel 6 - 8 Ton | S87: Sewa-jam | T87: E.38.a | W87: 770555.84
A88: 79 | C88: Roller, Tire wheel 6 - 8 Ton | D88: Sewa-jam | E88: E.38.b | H88: 0 | K88: 805000000 | P88: 79 | R88: Roller, Tire wheel 6 - 8 Ton | S88: Sewa-jam | T88: E.38.b | W88: 561644.91
A89: 80 | C89: Roller, Tandem 6 - 10 Ton | D89: Sewa-jam | E89: E.38.c | H89: 0 | K89: 460000000 | P89: 80 | R89: Roller, Tandem 6 - 10 Ton | S89: Sewa-jam | T89: E.38.c | W89: 529677.78
A90: 81 | C90: Roller, Vibro 5 - 8 Ton | D90: Sewa-jam | E90: E.48 | H90: 0 | K90: 1495000000 | P90: 81 | R90: Roller, Vibro 5 - 8 Ton | S90: Sewa-jam | T90: E.48 | W90: 503623.91
A91: 82 | C91: Theodolit | D91: Sewa-hari | E91: E.41 | H91: 0 | K91: =150*H91 -> 0 | P91: 82 | R91: Theodolit | S91: Sewa-hari | T91: E.41 | W91: 154500
A92: 83 | C92: Tongkang 500 ton | D92: Sewa-hari | E92: E.43a | H92: 0 | K92: =2500*H92 -> 0 | P92: 83 | R92: Tongkang 500 ton | S92: Sewa-hari | T92: E.43a | W92: 875500
A93: 84 | C93: Tongkang 1000 ton | D93: Sewa-hari | E93: E.43b | H93: 0 | K93: =3000*H93 -> 0 | P93: 84 | R93: Tongkang 1000 ton | S93: Sewa-hari | T93: E.43b | W93: 1596500
A94: 85 | C94: Tongkang 2000 ton | D94: Sewa-hari | E94: E.43c | H94: 0 | K94: =3500*H94 -> 0 | P94: 85 | R94: Tongkang 2000 ton | S94: Sewa-hari | T94: E.43c | W94: 3090000
A95: 86 | C95: Truck 3,5 m3 | D95: Sewa-hari | E95: E.44a | H95: 0 | K95: =3500*H95 -> 0 | P95: 86 | R95: Truck 3,5 m3 | S95: Sewa-hari | T95: E.44a | W95: 1025638.9
A96: 87 | C96: Truck 5 m3 | D96: Sewa-hari | E96: E.44b | H96: 0 | K96: =3500*H96 -> 0 | P96: 87 | R96: Truck 5 m3 | S96: Sewa-hari | T96: E.44b | W96: 1025638.9
A97: 88 | C97: Truck 7 m3 | D97: Sewa-hari | E97: E.44c | H97: 0 | K97: =3500*H97 -> 0 | P97: 88 | R97: Truck 7 m3 | S97: Sewa-hari | T97: E.44c | W97: 1834303.3
A98: 89 | C98: Truck 10 m3 | D98: Sewa-hari | E98: E.44d | H98: 0 | K98: =3500*H98 -> 0 | P98: 89 | R98: Truck 10 m3 | S98: Sewa-hari | T98: E.44d | W98: 1834303.3
A99: 90 | C99: Truck 15 m3 | D99: Sewa-hari | E99: E.44e | H99: 0 | K99: =3500*H99 -> 0 | P99: 90 | R99: Truck 15 m3 | S99: Sewa-hari | T99: E.44e | W99: 2201164
A100: 91 | C100: Truck 20 m3 | D100: Sewa-hari | E100: E.44f | H100: 0 | K100: =3500*H100 -> 0 | P100: 91 | R100: Truck 20 m3 | S100: Sewa-hari | T100: E.44f | W100: 2641396.8
A101: 92 | C101: Trawl diameter lubang 5mm, panjang 250 m | D101: Sewa-hari | E101: E.45 | H101: 0 | K101: =150*H101 -> 0 | P101: 92 | R101: Trawl diameter lubang 5mm, panjang 250 m | S101: Sewa-hari | T101: E.45 | W101: 309000
A102: 93 | C102: Tripod tinggi 5 m | D102: Sewa-hari | E102: E.46 | H102: 0 | K102: =250*H102 -> 0 | P102: 93 | R102: Tripod tinggi 5 m | S102: Sewa-hari | T102: E.46 | W102: 257500
A103: 94 | C103: Vibrator beton (portable) | D103: Sewa-jam | E103: E.47 | H103: 0 | K103: 7500000 | M103: 7 PK, 4,5L/6 jam | P103: 94 | R103: Vibrator beton (portable) | S103: Sewa-hari | T103: E.47 | W103: 65116.405
A104: 95 | C104: Water Tank 3000-4500 L | D104: Sewa-jam | E104: E.49 | H104: 0 | K104: 310500000 | P104: 95 | R104: Water Tank 3000-4500 L | S104: Sewa-jam | T104: E.49 | W104: 342907.95
A105: 96 | C105: Waterpass | D105: Sewa-hari | E105: E.50 | H105: 0 | K105: =7500*H105 -> 0 | P105: 96 | R105: Waterpass | S105: Sewa-hari | T105: E.50 | W105: 103000
...

Sheet VOL STR
B1: BACK UP VOLUME
B3: KEGIATAN | E3: :
B4: PEKERJAAN | E4: :
B5: TAHUN | E5: :
B6: LOKASI | E6: :
B7: NO SPK | E7: :
B8: NO SPMK | E8: :
B9: NO | C9: ITEM PEKERJAAN | G9: PERHITUNGAN
J10: Panjang | L10: Lebar | N10: Tinggi | P10: Jumlah | R10: Koef | T10: Sub Total | V10: Total | W10: Sat
B11: I. | C11: PEKERJAAN PERSIAPAN
B12: 1. | C12: Penebangan Pohon | V12: 1 | W12: ls
B13: 2. | C13: Perataan dan Pembersihan Lahan | V13: 1 | W13: ls
B14: 3. | C14: Uitzet dan Pemasangan Bouwplank | V14: 1 | W14: ls
B15: 4. | C15: Papan Nama Proyek | V15: 1 | W15: unit
B16: 5. | C16: Penyiapan Dokumen RKK, RMPK | V16: 1 | W16: set
B17: 6. | C17: Peralatan P3k | V17: 1 | W17: set
B18: 7. | C18: Rambu dan Perlengkapan Lalu Lintas yang Diperlukan atau Manajemen Lalu Lintas | V18: 1 | W18: ls
B21: II. | C21: PEKERJAAN MANAJEMEN K3
B22: 1. | C22: Alat Pelindung Diri
C23: a. Topi Pelindung | V23: 10 | W23: bh
C24: b. Sarung Tangan | V24: 2 | W24: dus
C25: c. Sepatu Keselamatan | V25: 10 | W25: psg
C26: d. Rompi Keselamatan | V26: 10 | W26: psg
B27: 2. | C27: Rambu-rambu K3 | V27: 1 | W27: ls
B29: III. | C29: PEKERJAAN TANAH | G29: PERHITUNGAN
B30: 1. | C30: Penggalian 1 m3 tanah Pondasi Footplat | J30: Panjang | L30: Lebar | N30: Tinggi | P30: Jumlah | R30: Koef | T30: Sub Total | V30: Total | W30: Sat
I31: bongkar beton existing | J31: 24 | L31: 12 | N31: 0.05 | S31: = | T31: =+J31*L31*N31 -> 14.4 | V31: =+T31 -> 14.4 | W31: m3
V32: =+SUM(T33:T35) -> 234.624 | W32: m3
I33: FP1 | J33: 1.6 | K33: x | L33: 1.6 | M33: x | N33: 2.15 | O33: x | P33: 28 | S33: = | T33: =J33*L33*N33*P33 -> 154.112
I34: pondasi batu belah pot.2 | J34: 36.8 | K34: x | L34: 0.8 | M34: x | N34: 1.3 | O34: x | P34: 1 | S34: = | T34: =J34*L34*N34*P34 -> 38.272
I35: ramp dan parkir | J35: 16 | K35: x | L35: =3.3+5.5 -> 8.8 | M35: x | N35: 0.3 | O35: x | P35: 1 | S35: = | T35: =J35*L35*N35*P35 -> 42.24
B37: 2. | C37: Urugan Tanah Kembali | G37: PERHITUNGAN
J38: Panjang | L38: Lebar | N38: Tinggi | P38: Jumlah | R38: Koef | T38: Sub Total | V38: Total | W38: Sat
V40: =+V32/3 -> 78.208 | W40: m'
B43: 4. | C43: pembongkaran beton existing | G43: PERHITUNGAN
J44: Panjang | L44: Lebar | N44: Tinggi | P44: Jumlah | R44: Koef | T44: Sub Total | V44: Total | W44: Sat
V46: =T47-T49 -> 0 | W46: m3
J47: 0 | K47: x | L47: 1 | M47: x | N47: =0.77+0.45 -> 1.22 | S47: = | T47: =+J47*L47*N47 -> 0
B53: 5. | C53: Pemadatan Tanah 1 m3 per 20 cm, dengan Stamper | G53: PERHITUNGAN
J54: Panjang | L54: Lebar | N54: Tinggi | P54: Jumlah | R54: Koef | T54: Sub Total | V54: Total | W54: Sat
H56: Pengurugan Tanah (Mendatangkan) + Pengurugan Tanah Kembali | V56: =T58 -> 0 | W56: m3
J58: =+J68*L68 -> 0 | K58: + | L58: =+J69*L69 -> 0 | M58: x | N58: 2.53 | S58: = | T58: =+(J58+L58)*N58 -> 0
B61: 6. | C61: Pengurugan 1 m3 Pasir Urug | G61: PERHITUNGAN
J62: Panjang | L62: Lebar | N62: Tinggi | P62: Jumlah | R62: Koef | T62: Sub Total | V62: Total | W62: Sat
V63: =SUM(T64:T69) -> 8.928 | W63: m3
G64: FP1 | J64: =J90 -> 1.6 | K64: x | L64: =L90 -> 1.6 | M64: x | N64: 0.1 | O64: x | P64: 1 | S64: = | T64: =J64*L64*N64*P64 -> 0.256
G65: pondasi batu kali | J65: =J75 -> 216.8 | K65: x | L65: =L75 -> 0.8 | M65: x | N65: 0.05 | O65: x | P65: 1 | S65: = | T65: =J65*L65*N65*P65 -> 8.672
B71: IV. | C71: PEKERJAAN PONDASI | G71: PERHITUNGAN | AA71: #REF!
B72: 1. | C72: Pemasangan Pondasi Batu Belah 1:5, tipe N (Semi Mekanis) | J72: Panjang | L72: Lebar | N72: Tinggi | P72: Jumlah | R72: Koef | T72: Sub Total | V72: Total | W72: Sat
V74: =T75 -> 34.688 | W74: m3
G75: batu kosong | J75: =+J78 -> 216.8 | K75: x | L75: 0.8 | M75: x | N75: 0.2 | O75: x | P75: 1 | S75: = | T75: =J75*L75*N75*P75 -> 34.688
G77: batu belah | V77: =T78 -> 95.392 | W77: m3
J78: =180+36.8 -> 216.8 | K78: x | L78: =+(0.8+0.3)/2 -> 0.55 | M78: x | N78: 0.8 | O78: x | P78: 1 | S78: = | T78: =J78*L78*N78*P78 -> 95.392
R79: BERAT
G80: PASANG ANGKUR D10 | J80: 0.5 | P80: 28 | R80: 0.62 | T80: =+J80*P80*R80 -> 8.68 | V80: =+T80 -> 8.68 | W80: KG
G82: PASIR URUG 5 CM | J82: =+J78 -> 216.8 | L82: =+L75 -> 0.8 | N82: 0.05 | P82: 1 | S82: = | T82: =J82*L82*N82*P82 -> 8.672 | V82: =+T82 -> 8.672 | W82: m3
B86: V. | C86: PEKERJAAN BETON | G86: PERHITUNGAN
B87: 1. | C87: Pek. Lantai Kerja Beton f'c 10Mpa | J87: Panjang | L87: Lebar | N87: Tinggi | P87: Jumlah | R87: Koef | T87: Sub Total | V87: Total | W87: Sat
V89: =SUM(T90:T92) -> 3.584 | W89: m3
G90: FP1 | J90: =J98 -> 1.6 | K90: x | L90: =L98 -> 1.6 | M90: x | N90: 0.05 | O90: x | P90: 28 | S90: = | T90: =J90*L90*N90*P90 -> 3.584 | AK90: =+AI91+#REF! -> #REF! | AL90: m3
Z91: x | AA91: 22.3 | AB91: x | AC91: 0.12 | AD91: x | AE91: 1 | AH91: = | AI91: =Y91*AA91*AC91*AE91 -> 0
B94: 2 | C94: Pek. Footplate FP1 160/160, Beton f'c = 20,75 MPa | G94: PERHITUNGAN
J95: Panjang | L95: Lebar | N95: Tinggi | P95: Jumlah | R95: Koef | T95: Sub Total | V95: Total | W95: Sat
G97: a. Beton f'c 25MPa | V97: =+T98 -> 25.088 | W97: m3
J98: 1.6 | K98: x | L98: 1.6 | M98: x | N98: 0.35 | O98: x | P98: 28 | S98: = | T98: =J98*L98*N98*P98 -> 25.088
G100: b. | H100: Penulangan BJPS ≥ 16 | L100: =+J98/0.15 -> 10.666667 | V100: =T103 -> 4676.8758 | W100: kg
L101: =+N98/0.15 -> 2.3333333
J102: Panjang | L102: Jumlah
H103: D16 | J103: =1.56+1.56+0.46+0.346+0.07+0.07 -> 4.066 | K103: x | L103: =+(L100+L101)*2 -> 26 | O103: X | P103: =P98 -> 28 | Q103: x | R103: 1.58 | S103: = | T103: =J103*L103*P103*R103 -> 4676.8758
G105: c. | H105: Pemasangan 1 m2 Bekisting untuk Fondasi Telapak (3x Pakai) | V105: =T107 -> 62.72 | W105: m2
J107: =+J98 -> 1.6 | M107: x | N107: =+N98 -> 0.35 | O107: x | P107: =4*P98 -> 112 | S107: = | T107: =J107*N107*P107 -> 62.72
G109: d. | H109: Pasir urug t 10 cm | J109: 1.6 | K109: x | L109: 1.6 | M109: x | N109: 0.1 | O109: x | P109: 28 | S109: = | T109: =J109*L109*N109*P109 -> 7.168 | V109: =+T109 -> 7.168 | W109: m3
B113: 3 | C113: Pek. Sloof S1 25/30, Beton f'c = 20,75 MPa | G113: RINCIAN PANJANG
J114: Panjang | L114: Lebar | N114: Tinggi | P114: Jumlah | R114: Koef | T114: Sub Total | V114: Total | W114: Sat
G116: a. | H116: Beton f'c 20,75 MPa | V116: =+T117 -> 13.5 | W116: m3
J117: =+(24*4)+(12*7) -> 180 | K117: x | L117: 0.25 | M117: x | N117: 0.3 | O117: x | P117: 1 | S117: = | T117: =J117*L117*N117*P117 -> 13.5
G119: b. | H119: Penulangan BJTS ≥ 12 | V119: =+SUM(T121:T126) -> 1924.16 | W119: kg
J120: Panjang | L120: Jumlah
H121: S 12 | I121: tulangan atas | J121: =J117 -> 180 | K121: x | L121: 2 | Q121: x | R121: 0.89 | S121: = | T121: =J121*L121*R121 -> 320.4
H122: S 12 | I122: tulangan bawah | J122: =+J121 -> 180 | K122: x | L122: 2 | Q122: x | R122: =+R121 -> 0.89 | S122: = | T122: =J122*L122*R122 -> 320.4
G124: c. | H124: Penulangan BJTP ≥ 12
J125: P. Begel | L125: Jml. Begel
H126: Ø 10 | J126: =0.21+0.26+0.21+0.26+0.05+0.05 -> 1.04 | K126: x | L126: =+J117/0.09 -> 2000 | Q126: x | R126: 0.617 | S126: = | T126: =J126*L126*R126 -> 1283.36
G128: d. | H128: Pemasangan 1 m2 Bekisting untuk Sloof (3x Pakai) | V128: =T129 -> 108 | W128: m2
J129: =+J117 -> 180 | M129: x | N129: =+N117 -> 0.3 | O129: x | P129: 2 | S129: = | T129: =J129*N129*P129 -> 108
B132: 4. | C132: Pek. Sloof Praktis Sp 20/15, Beton f'c = 14,5 MPa | G132: RINCIAN PANJANG
J133: Panjang | L133: Lebar | N133: Tinggi | P133: Jumlah | R133: Koef | T133: Sub Total | V133: Total | W133: Sat
G135: a. | H135: Beton f'c 14,5 MPa | V135: =+T136 -> 1.104 | W135: m3
J136: =16+2.5+1.7+10+1.6+2.5+2.5 -> 36.8 | K136: x | L136: 0.15 | M136: x | N136: 0.2 | O136: x | P136: 1 | S136: = | T136: =J136*L136*N136*P136 -> 1.104
G138: b. | H138: Penulangan BJTS ≥ 12 | V138: =+SUM(T140:T145) -> 205.6384 | W138: kg
J139: Panjang | L139: Jumlah
H140: Ø 10 | I140: tulangan atas | J140: =J136 -> 36.8 | K140: x | L140: 2 | Q140: x | R140: =+R126 -> 0.617 | S140: = | T140: =J140*L140*R140 -> 45.4112
H141: Ø 10 | I141: tulangan bawah | J141: =+J140 -> 36.8 | K141: x | L141: 2 | Q141: x | R141: =+R140 -> 0.617 | S141: = | T141: =J141*L141*R141 -> 45.4112
G143: c. | H143: Penulangan BJTP ≥ 12
J144: P. Begel | L144: Jml. Begel
H145: Ø 10 | J145: =0.13+0.18+0.13+0.18+0.05+0.05 -> 0.72 | K145: x | L145: =+J136/0.09 -> 408.88889 | Q145: x | R145: 0.39 | S145: = | T145: =J145*L145*R145 -> 114.816
G147: d. | H147: Pemasangan 1 m2 Bekisting untuk Sloof (3x Pakai) | V147: =T148 -> 14.72 | W147: m2
J148: =+J136 -> 36.8 | M148: x | N148: =+N136 -> 0.2 | O148: x | P148: 2 | S148: = | T148: =J148*N148*P148 -> 14.72
B151: 6. | C151: Pek. Kolom K1 35/35, Beton f'c = 20,75 Mpa | G151: PERHITUNGAN
J152: Panjang | L152: Lebar | N152: Tinggi | P152: Jumlah | R152: Koef | T152: Sub Total | V152: Total | W152: Sat
...

Sheet VOL.ARS
D3: p | E3: l | F3: t | G3: jml | H3: berat | I3: volume
A4: 1 | B4: PASANGAN BATA RINGAN LT.1
B5: v | C5: R GENSET | D5: =2.265+3.88+0.38+1.765+3.65 -> 11.94 | F5: 4.318 | I5: =D5*F5 -> 51.55692
B6: v | C6: SATPAM LOKER | D6: =5.88+2.765+0.765 -> 9.41 | F6: 3.818 | I6: =D6*F6 -> 35.92738
B7: v | C7: Kamar Mandi | D7: =1.88*4 -> 7.52 | F7: 3.818 | I7: =D7*F7 -> 28.71136
B8: v | C8: R FARMASI | D8: =3.65+2.765+3.995 -> 10.41 | F8: 3.15 | I8: =D8*F8 -> 32.7915
B9: v | C9: KANTOR KLINIK | D9: =3.65 -> 3.65 | F9: 3.937 | I9: =D9*F9 -> 14.37005
B10: v | D10: =1.465+2.065+0.765 -> 4.295 | F10: 3 | I10: =D10*F10 -> 12.885
B11: v | C11: PANTRY | D11: =2.14+1.505+1.465+3.65 -> 8.76 | F11: 3 | I11: =D11*F11 -> 26.28
B12: v | C12: R PANEL & SERVER | D12: =1.58+1.505+1.58+0.365 -> 5.03 | F12: 3 | I12: =D12*F12 -> 15.09
B13: v | C13: R TINDAKAN + LOBBY + ADMINISTRASI | D13: =3.65*4 -> 14.6 | F13: =1.65+2.7-0.4 -> 3.95 | I13: =D13*F13 -> 57.67
B14: v | C14: POLI UMUM | D14: =3.65+3.65+3.65 -> 10.95 | F14: 3 | I14: =D14*F14 -> 32.85
B15: v | D15: 3.65 | F15: 3.95 | I15: =D15*F15 -> 14.4175
B16: v | C16: R JENAZAH | D16: =3.65+1.265 -> 4.915 | F16: 3 | I16: =D16*F16 -> 14.745
B17: v | D17: =3.65*2 -> 7.3 | F17: 3.95 | I17: =D17*F17 -> 28.835
B18: v | C18: TOILET | D18: =2.265+1.88+2.38 -> 6.525 | F18: 3 | I18: =D18*F18 -> 19.575
B19: v | D19: 1.765 | F19: 3.95 | I19: =D19*F19 -> 6.97175
B20: v | C20: TOILET DISABILITAS | D20: =2.265+1.88+2.38 -> 6.525 | F20: 3 | I20: =D20*F20 -> 19.575
B21: v | D21: 1.765 | F21: 3.95 | I21: =D21*F21 -> 6.97175
B22: v | C22: R LAKTASI | D22: =2.38*3+2.265 -> 9.405 | F22: 3 | I22: =D22*F22 -> 28.215
B23: v | C23: POLI GIGI | D23: =3.65*2+1.262 -> 8.562 | F23: 3 | I23: =D23*F23 -> 25.686
B24: v | D24: 3.65 | F24: 3.95 | I24: =D24*F24 -> 14.4175
B25: v | C25: LAB | D25: 1.265 | F25: 3 | I25: =D25*F25 -> 3.795
B26: v | D26: =3.65*2 -> 7.3 | F26: 3.95 | I26: =D26*F26 -> 28.835
C27: R.GAS MEDIS | D27: =2.65+2.65+4+4 -> 13.3 | F27: 2.55 | I27: =D27*F27 -> 33.915
C28: R. TANDON | D28: =3.65+2.65 -> 6.3 | F28: 2.55 | I28: =D28*F28 -> 16.065
B29: v | C29: Penebalan kolom | D29: =1.135*10 -> 11.35 | F29: 3.95 | I29: =D29*F29 -> 44.8325
B30: v | C30: Dinding depan pos jaga | D30: =3.65*3 -> 10.95 | F30: 1.728 | I30: =D30*F30 -> 18.9216
B31: v | C31: Dinding taman | D31: =4.96*2+12 -> 21.92 | F31: 0.5 | I31: =D31*F31 -> 10.96
B32: v | C32: Dinding bata gas medis | D32: 3.65 | F32: 2.15 | I32: =D32*F32 -> 7.8475
B33: v | C33: Dinding VG | I33: 60.739
B34: v | C34: kusen eksterior
B35: v | C35: PB1 | D35: 1.7 | F35: 2.1 | G35: -2 | I35: =D35*F35*G35 -> -7.14
B36: v | C36: BV1 | D36: 0.589 | F36: 0.389 | G36: -3 | I36: =D36*F36*G36 -> -0.687363
B37: v | C37: BV2 | D37: 1.8 | F37: 0.389 | G37: -2 | I37: =D37*F37*G37 -> -1.4004
B38: v | C38: P1 | D38: 1.889 | F38: 2.1 | G38: -2 | I38: =D38*F38*G38 -> -7.9338
B39: v | C39: P2 | D39: 0.889 | F39: 2.1 | G39: -1 | I39: =D39*F39*G39 -> -1.8669
B40: v | C40: J1 | D40: 1.8 | F40: 1.35 | G40: -5 | I40: =D40*F40*G40 -> -12.15
B41: v | C41: PT1 | D41: 0.889 | F41: 2.1 | G41: -1 | I41: =D41*F41*G41 -> -1.8669
C42: kusen interior
B43: v | C43: P2 | D43: 0.889 | F43: 2.1 | G43: -9 | I43: =D43*F43*G43 -> -16.8021
B44: v | C44: PT1 | D44: 0.889 | F44: 2.1 | G44: -2 | I44: =D44*F44*G44 -> -3.7338
D45: =SUM(D5:D29) -> 180.142 | I45: =SUM(I5:I44) -> 659.87105 | J45: M2
C47: PLESTER | I47: =+SUM(I48:I56) -> 1518.9423 | J47: M2
C48: PLESTER | G48: 2 | I48: =+I45*G48 -> 1319.7421
B49: v | C49: Talud 1
B50: v | C50: Tampak1 | I50: =47.5656624*2 -> 95.131325
B51: v | C51: Tampak2 | I51: =2.14495531 -> 2.1449553
B52: v | C52: Talud 2 | I52: =22.624 -> 22.624
B53: v | C53: Tampak 4 | I53: =(33.3795+0.857) -> 34.2365
B54: v | C54: Tampak 5 | I54: =22.6248884 -> 22.624888
B55: v | C55: Tampak 6 | I55: =4.855 -> 4.855
B56: v | C56: Dinding bata gas medis | I56: =(7.076755+0.8575*2)*2 -> 17.58351
C57: ACIAN
D59: p | E59: l | F59: t | G59: jml | H59: berat | I59: volume
A60: 2 | B60: PENUTUP LANTAI LT.01
C61: Pasang ANDESIT STONE TILE 300mm x 600 mm, t=10 mm Outdor-AD | I61: =77.01+96.88+23.23+8.91+71.37+11.98+50.98 -> 340.36 | J61: m2
C62: Ramp Mobil
C63: Parkir Ambulance
C64: Ramp Pejalan Kaki
C65: Pasang EXPOSE POLISHED CONCRETE - CR
C66: Ramp Genset | D66: 2.38 | E66: 3.88 | G66: 1 | I66: =D66*E66*G66 -> 9.2344 | J66: m2
C67: Pasang Lantai Homogeneus Tile uk.600mmx600mm polished - F1
B68: v | I68: =213.421359-5.944664 -> 207.4767 | J68: m2
C69: Pasang Lantai Keramik Rectified uk.300mmx300mm polished - F2
C70: Satpam Loker | I70: =10.59+0.8+0.5+(0.45*1.38) -> 12.511
C71: Pantry | I71: 5.64
C72: R Gas medis | I72: 12.30945
I73: =SUM(I70:I72) -> 30.46045 | J73: m2
B75: v | C75: Pasang Lantai Keramik Rectified uk.300mmx300mm unpolished - F3
C76: Selasar Satpam | I76: 18.6891
C77: Kamar Mandi | I77: 3.558151
C78: Toilet | I78: 4.35
C79: Toilet Disabilitas | I79: =I78 -> 4.35
C80: R. Jenazah | I80: 5.944664
I81: =SUM(I76:I80) -> 36.891915 | J81: m2
B83: v | C83: Waterprofing area basah
C84: Kamar Mandi | I84: 3.558151
C85: Toilet | I85: 4.35
C86: Toilet Disabilitas | I86: =I85 -> 4.35
C87: Dak Atap | D87: 26.5 | E87: 14.5 | I87: =D87*E87 -> 384.25
C88: Dak R Gas Medis | I88: =I72 -> 12.30945
I89: =SUM(I84:I88) -> 408.8176 | J89: m2
A91: 3 | B91: PENUTUP DINDING LT.01
C92: Pasang Batu Tempel Purwakarta Uk. 30x60 cm
C93: Eksterior
C94: Depan | D94: 12.62 | F94: 2.95 | I94: =D94*F94 -> 37.229
C95: Samping kanan kiri belakang | D95: 56.846 | F95: 3.95 | I95: =D95*F95 -> 224.5417
C96: Dinding penebalan kolom | D96: =D29 -> 11.35 | F96: 3.95 | G96: 10 | I96: =D96*F96*G96 -> 448.325
C97: Kolom eksterior | D97: 1.4 | F97: 2.62 | G97: 4 | I97: =D97*F97*G97 -> 14.672
B98: v | C98: Talud 1
B99: v | C99: Tampak1 | I99: =47.5656624*2 -> 95.131325
B100: v | C100: Tampak2 | I100: =2.14495531 -> 2.1449553
B101: v | C101: Talud 2 | I101: =22.624 -> 22.624
B102: v | C102: Tampak 4 | I102: =(33.3795+0.857) -> 34.2365
B103: v | C103: Tampak 5 | I103: =22.6248884 -> 22.624888
B104: v | C104: Tampak 6 | I104: =4.855 -> 4.855
B105: v | C105: Dinding bata gas medis | I105: =(7.076755+0.8575*2) -> 8.791755
B106: v | C106: PB1 | D106: 1.7 | F106: 2.1 | G106: -2 | I106: =D106*F106*G106 -> -7.14
B107: v | C107: BV1 | D107: 0.589 | F107: 0.389 | G107: -3 | I107: =D107*F107*G107 -> -0.687363
...

Sheet AHS FURNITURE
C3: volume | D3: satuan | E3: harga satuan | F3: jumlah
B4: Loker 1
B5: Plywood 9mm lapis Melamic Finished | C5: =(0.5*0.35*25)+(2.5*0.5*6)+(1.85*0.5*6)+(2.5*1.85) -> 22.05 | D5: m2 | F5: =+E5*C5 -> 0
B6: Engsel sendok | C6: =25*2 -> 50 | D6: buah | F6: =+E6*C6 -> 0
B7: Kunci loker | C7: 25 | D7: buah | F7: =+E7*C7 -> 0
B8: Plint Metal Fin Duco | C8: =2.5*0.1 -> 0.25 | D8: m2 | F8: =+E8*C8 -> 0
E9: TOTAL | F9: =SUM(F5:F8) -> 0
B11: Loker 2
B12: Plywood 9mm lapis Melamic Finished | C12: =(0.5*0.35*45)+(4.5*0.5*6)+(1.85*0.5*6)+(4.5*1.85) -> 35.25 | D12: m2 | E12: =E5 -> 0 | F12: =+E12*C12 -> 0
B13: Engsel sendok | C13: =45*2 -> 90 | D13: buah | E13: =E6 -> 0 | F13: =+E13*C13 -> 0
B14: Kunci loker | C14: 45 | D14: buah | E14: =E7 -> 0 | F14: =+E14*C14 -> 0
B15: Plint Metal | C15: =4.5*0.1 -> 0.45 | D15: m2 | E15: =E8 -> 0 | F15: =+E15*C15 -> 0
E16: TOTAL | F16: =SUM(F12:F15) -> 0
B18: Credenza
B19: Plywood 9mm lapis HPL Motif Kayu | C19: =0.5*1.6 -> 0.8 | D19: m2 | F19: =+E19*C19 -> 0
B20: Plywood 9mm lapis Melamic Finished | C20: =(0.64*5)+(0.4*10)+(0.4*6.5*2)+(0.4*1.65*8)+(1.6*0.8)+((0.123*0.38)+(0.38*0.123)+(0.38*0.45)*8) -> 20.42148 | D20: m2 | F20: =+E20*C20 -> 0
B21: Plywood 9mm Fin cat duco hitam | C21: =0.1*1.6 -> 0.16 | D21: m2 | F21: =+E21*C21 -> 0
B22: Pemasangan Engsel | C22: 4 | D22: buah | F22: =+E22*C22 -> 0
B23: Pemasangan Drawer accesoris termasuk kunci | C23: 1 | D23: ls | F23: =+E23*C23 -> 0
E24: TOTAL | F24: =SUM(F19:F23) -> 0
B26: Meja Dokter
B27: Rangka hollow 20x40mm | C27: =(1.7*0.75)+((1.3+1.55)/2*0.69*2)+(0.672*0.55*2)+(0.55*0.69) -> 4.3602 | D27: m2 | F27: =+E27*C27 -> 0
B28: Plywood 9mm Fin solid surface | C28: =1.27+0.781 -> 2.051 | D28: m2 | F28: =+E28*C28 -> 0
B29: Plywood 9mm lapis Melamic Finished | C29: =(0.41*0.45)+(0.14*0.45*2)+(0.302*0.14) -> 0.35278 | D29: m2 | F29: =+E29*C29 -> 0
B30: Plywood 9mm lapis satin glass 5mm | C30: =(0.675*0.55*2)+0.619+0.359 -> 1.7205 | D30: m2 | F30: =+E30*C30 -> 0
B31: Plywood 9mm Fin HPL | C31: =1.27+(0.45*0.69*2)+(0.14*0.38) -> 1.9442 | D31: m2 | F31: =+E31*C31 -> 0
B32: Pemasangan Drawer accesoris termasuk kunci | C32: 1 | D32: ls | F32: =+E32*C32 -> 0
B33: Plint Metal Fin Duco | C33: =(0.55+1.55)*0.1 -> 0.21 | D33: m2 | F33: =+E33*C33 -> 0
E34: TOTAL | F34: =SUM(F27:F33) -> 0
B36: Meja Counter
B37: MDF 12 mm Fin solid surface | C37: =4.715*0.8 -> 3.772 | D37: m2 | F37: =+E37*C37 -> 0
B38: MDF 12 mm Fin HPL | C38: =(4.715*0.7*2)+(4.715*0.1*5)+(0.67*10)+(0.5*4*0.41) -> 16.4785 | D38: m2 | F38: =+E38*C38 -> 0
B39: MDF 12 mm Glass Stone | C39: =4.175*0.63 -> 2.63025 | D39: m2 | F39: =+E39*C39 -> 0
B40: Stainless Steel Hairline | C40: 4.715 | D40: m' | F40: =+E40*C40 -> 0
B41: LED Strip Light | C41: =C40 -> 4.715 | D41: m' | F41: =+E41*C41 -> 0
B42: Pemasangan keyboard accesoris | C42: 1 | D42: ls | F42: =+E42*C42 -> 0
E43: TOTAL | F43: =SUM(F37:F42) -> 0
B45: Meja Rapat
B46: Plywood 9mm Fin HPL | C46: =(0.6*1.2)+(2.4*1.2) -> 3.6 | D46: m2 | F46: =+E46*C46 -> 0
B47: MDF 12 mm Fin HPL | C47: =(0.09*0.57*5) -> 0.2565 | D47: m2 | F47: =+E47*C47 -> 0
B48: MDF 12 mm Fin cat duco | C48: =0.3*0.925*4 -> 1.11 | D48: m2 | F48: =+E48*C48 -> 0
B49: Box outlet aluminium powder coated | C49: =(0.61*0.5*2)+(0.61*0.15*2) -> 0.793 | D49: m2 | F49: =+E49*C49 -> 0
B50: Metal powder coated | C50: =(2.535*2.4*2)+(2.535*1.2) -> 15.21 | D50: m' | F50: =+E50*C50 -> 0
E51: TOTAL | F51: =SUM(F46:F50) -> 0
