Workbook
Name \0: #REF!
Name \a: #N/A
Name \b: #N/A
Name \C: #REF!
Name \D: #REF!
Name \E: #REF!
Name \E1: #REF!
Name \F: #REF!
Name \G: #REF!
Name \H: #REF!
Name \I: #REF!
Name \J: #REF!
Name \K: #REF!
Name \L: #REF!
Name \M: #REF!
Name \N: #REF!
Name \O: #REF!
Name \p: #N/A
Name \q: #REF!
Name \R: #REF!
Name \S: #REF!
Name \T: #REF!
Name \U: #REF!
Name \V: #REF!
Name \W: #REF!
Name \WQ: #REF!
Name \x: #REF!
Name \Y: #REF!
Name \Z: #REF!
Name _: #REF!
Name __: STOP2:STOP2E
Name ___________________________MMM19: #REF!
Name __________________________MMM19: #REF!
Name _________________________DIV1: #REF!
Name _________________________DIV10: #REF!
Name _________________________DIV2: #REF!
Name _________________________DIV5: #REF!
Name _________________________DIV7: #REF!
Name _________________________DIV8: #REF!
Name _________________________DIV9: #REF!
Name _________________________EEE06: #REF!
Name _________________________EEE07: #REF!
Name _________________________EEE08: #REF!
Name _________________________EEE10: #REF!
Name _________________________EEE13: #REF!
Name _________________________EEE22: #REF!
Name _________________________EEE23: #REF!
Name _________________________LLL01: #REF!
Name _________________________LLL03: #REF!
Name _________________________MMM10: #REF!
Name _________________________MMM12: #REF!
Name _________________________MMM16: #REF!
Name _________________________MMM18: #REF!
Name _________________________MMM19: #REF!
Name _________________________MMM26: #REF!
Name _________________________MMM27: #REF!
Name _________________________MMM37: #REF!
Name _________________________MMM39: #REF!
Name _________________________MMM44: #REF!
Name _________________________MMM47: #REF!

Sheet REKAP 
A1: REKAPITULASI
A2: BILL OF QUANTITY (BOQ)
B4: PEKERJAAN | D4: : PEMBANGUNAN RUMAH SEHAT BAZNAS
B5: LOKASI | D5: : KOTA JAKARTA TIMUR, DAERAH KHUSUS IBUKOTA JAKARTA
B6: TAHUN | D6: : 2025
E8: VO;UME
A9: NO | B9: JENIS PEKERJAAN | E9: JUMLAH
E10: HARGA
A12: A | B12: PEKERJAAN PERSIAPAN | E12: ='3.BOQ STR'!I16 -> 0
A14: B | B14: PEKERJAAN SMK3 | E14: ='3.BOQ STR'!I36 -> 0
A16: A | B16: PEKERJAAN STRUKTUR DAN ATAP DAN TALUD BETON | E16: =+SUM(E17:E22) -> 0
B17: I. PEKERJAAN TANAH | E17: ='3.BOQ STR'!I45 -> 0
B18: II. PEKERJAAN PONDASI BATU BELAH | E18: ='3.BOQ STR'!I51 -> 0
B19: III. PEKERJAAN STRUKTUR LANTAI 01 DAN DAK ATAP | E19: ='3.BOQ STR'!I92 -> 0
B20: IV. PEKERJAAN BAK PENAMPUNG | E20: =+'3.BOQ STR'!I115 -> 0
B21: V. PEKERJAAN PONDASI GENSET | E21: =+'3.BOQ STR'!I126 -> 0
B22: V. PEKERJAAN TALUD DINDING BETON STRUKTUR | E22: =+'3.BOQ STR'!I151 -> 0
A24: B | B24: PEKERJAAN ARSITEKTUR | E24: =+SUM(E25:E25) -> 0
B25: I. PEKERJAAN ARSITEKTUR LANTAI 01 | E25: ='4. BOQ ARS'!I104 -> 0
A27: C | B27: PEKERJAAN MEKANIKAL ELEKTRIKAL | E27: =+SUM(E28:E40) -> 0
B28: I. Pekerjaan Penyambungan Listrik Panel Eksisting (Kawasan Istiqlal) | E28: ='5. BOQ ME'!I13 -> 0
B29: II. Pekerjaan Generator Set (Genset) | E29: ='5. BOQ ME'!I22 -> 0
B30: III. Pekerjaan Panel | E30: ='5. BOQ ME'!I29 -> 0
B31: IV. Pekerjaan Grounding | E31: ='5. BOQ ME'!I33 -> 0
B32: V. Pekerjaan Kabel Feeder | E32: ='5. BOQ ME'!I41 -> 0
B33: VI. Pekerjaan instalasi Penerangan dan stop kontak | E33: ='5. BOQ ME'!I60 -> 0
B34: VII. Pekerjaan CCTV | E34: ='5. BOQ ME'!I68 -> 0
B35: VIII. Pekerjaaan IP Phone dan Wifi | E35: ='5. BOQ ME'!I84 -> 0
B36: IX. Pekerjaan Air Condisioning (AC) | E36: ='5. BOQ ME'!I98 -> 0
B37: X. Pekerjaan Air Bersih | E37: ='5. BOQ ME'!I114 -> 0
B38: XI.Pekerjaan Air Kotor dan air bekas | E38: ='5. BOQ ME'!I127 -> 0
B39: XII. Pekerjaan Air Hujan | E39: ='5. BOQ ME'!I142 -> 0
B40: XIII. Pekerjaan Gas medis | E40: ='5. BOQ ME'!I161 -> 0
D43: TOTAL | E43: =+E12+E14+E16+E24+E27 -> 0
D44: PPN 11% | E44: =+E43*0.11 -> 0
D45: JUMLAH TOTAL | E45: =+E44+E43 -> 0
D46: PEMBULATAN | E46: =ROUND(E45,-6) -> 0
B95: - Tanaman dolar rambat

Sheet 3.BOQ STR
A1: BILL OF QUANTITY (BOQ) PEKERJAAN STRUKTUR
B3: PEKERJAAN | D3: : PEMBANGUNAN RUMAH SEHAT BAZNAS
B4: LOKASI | D4: : MASJID IQTIQLAL JAKARTA
B5: TAHUN | D5: : 2025
A8: NO | B8: JENIS PEKERJAAN | E8: VOLUME | G8: ANALISA | H8: HARGA | I8: JUMLAH
H9: SATUAN | I9: HARGA
A10: A. | B10: PEKERJAAN PERSIAPAN
A11: 1 | B11: Biaya Administrasi dan Dokumentasi | E11: 1 | F11: Ls | G11: Taksir | H11: 0 | I11: =+E11*H11 -> 0
A12: =+A11+1 -> 2 | B12: Pengukuran dan pasang bouwplank | E12: =12+12+24+24 -> 72 | F12: m' | G12: =HSP!C10 -> A.2.2.1.4. | H12: =HSP!F10 -> 0 | I12: =+E12*H12 -> 0
A13: 3 | B13: (K3) Pembersihan 1 m2 lapangan dan perataan | E13: =24*12 -> 288 | F13: m2 | G13: =HSP!C15 -> A.2.2.1.9. | H13: =HSP!F15 -> 0 | I13: =+E13*H13 -> 0
A14: =+A13+1 -> 4 | B14: Air & listrik kerja | E14: 1 | F14: Ls | G14: =+G11 -> Taksir | H14: 0 | I14: =+E14*H14 -> 0
I16: =+SUM(I11:I14) -> 0
A17: B. | B17: PEKERJAAN SMK3
A18: 1 | B18: Biaya SMK3 :
B19: Alat Pelindung Kerja dan Alat Pelindung Diri Khusus
B20: APK (Alat Pelindung Kerja) :
B21: a. Pembatas area / safety line | E21: 1 | F21: ls | G21: Taksir | H21: 0 | I21: =+E21*H21 -> 0
B22: b. Jaring pengaman / safety net | E22: 1 | F22: ls | G22: Taksir | H22: 0 | I22: =+E22*H22 -> 0
B23: APD (Alat Pelindung Diri) : | G23: Taksir
B24: a. Tali pengaman dan pelengkap jatuh perorangan full body harness | E24: 20 | F24: bh | G24: Taksir | H24: 0 | I24: =+E24*H24 -> 0
B25: b. Helm safety | E25: 20 | F25: bh | G25: Taksir | H25: 0 | I25: =+E25*H25 -> 0
B26: c. Sepatu safety | E26: 20 | F26: psg | G26: Taksir | H26: 0 | I26: =+E26*H26 -> 0
B27: Rambu-rambu yang diperlukan
B28: a. Rambu peringatan | E28: 5 | F28: bh | G28: Taksir | H28: 0 | I28: =+E28*H28 -> 0
B29: b. Rambu informasi | E29: 5 | F29: bh | G29: Taksir | H29: 0 | I29: =+E29*H29 -> 0
B30: c. Jalur evakuasi | E30: 1 | F30: ls | G30: Taksir | H30: 0 | I30: =+E30*H30 -> 0
A31: 2 | B31: Lain-lain terkait pengendalian resiko keselamatan konstruksi :
B32: a. Alat Pemadam Api Ringan (APAR) | E32: 3 | F32: bh | G32: Taksir | H32: 0 | I32: =+E32*H32 -> 0
B33: b.Bendera K3 | E33: 2 | F33: bh | G33: Taksir | H33: 0 | I33: =+E33*H33 -> 0
B34: c. Lampu darurat | E34: 4 | F34: bh | G34: Taksir | H34: 0 | I34: =+E34*H34 -> 0
I36: =SUM(I21:I35) -> 0
A37: C. | B37: PEKERJAAN STRUKTUR DAN ATAP
A38: I. | B38: Pekerjaan Tanah
A39: 1 | B39: Pekerjaan bongkar beton eksisting | E39: ='VOL STR'!V31 -> 14.4 | F39: m3 | G39: =+HSP!C19 -> A.2.2.1.13. | H39: =+HSP!F19 -> 0 | I39: =+E39*H39 -> 0
A40: 2 | B40: Pekerjaan Galian tanah pondasi struktur & batu belah | E40: ='VOL STR'!T33+'VOL STR'!T34 -> 192.384 | F40: m3 | G40: A.2.3.1.1. | H40: =+HSP!F25 -> 0 | I40: =+E40*H40 -> 0
A41: =A40+1 -> 3 | B41: Pekerjaan Galian ramp dan parkir | E41: ='VOL STR'!T35 -> 42.24 | F41: m3 | G41: =+G40 -> A.2.3.1.1. | H41: =+H40 -> 0 | I41: =+E41*H41 -> 0
A42: =A41+1 -> 4 | B42: Pengurugan kembali galian tanah | E42: ='VOL STR'!V40 -> 78.208 | F42: m3 | G42: =+HSP!C33 -> A.2.3.1.9. | H42: =+HSP!F33 -> 0 | I42: =+E42*H42 -> 0
A43: =A42+1 -> 5 | B43: Tanah Urug untuk taman | E43: =4.9*12*1 -> 58.8 | F43: m3 | G43: =+HSP!C39 -> A.2.3.1.14. | H43: =+HSP!F39 -> 0 | I43: =+E43*H43 -> 0
A44: =A43+1 -> 6 | B44: Pemadatan tanah urug | E44: =(+E43+E42)/4 -> 34.252 | F44: m3 | G44: =+HSP!C36 -> A.2.3.1.11.a | H44: =+HSP!F36 -> 0 | I44: =+E44*H44 -> 0
I45: =SUM(I39:I44) -> 0
...

Sheet 4. BOQ ARS
A1: BILL OF QUANTITY (BOQ) PEKERJAAN ARSITEKTUR
B3: PEKERJAAN | D3: : PEMBANGUNAN RUMAH SEHAT BAZNAS
B4: LOKASI | D4: : MASJID IQTIQLAL JAKARTA
B5: TAHUN | D5: : 2025
A8: NO | B8: JENIS PEKERJAAN | E8: VOLUME | G8: ANALISA | H8: HARGA | I8: JUMLAH
H9: SATUAN | I9: HARGA
A10: B | B10: PEKERJAAN ARSITEKTUR LT.01
A11: I. | B11: Pekerjaan Beton Praktis | K11: Ket V = Sudah update gambar terbaru tgl 24/03/25
A12: 1 | B12: Pembuatan Kolom Praktis Beton Bertulang (11x11) | E12: =VOL.ARS!I227 -> 79 | F12: m' | G12: =HSP!C94 -> A.4.1.1.35 | H12: =HSP!F94 -> 0 | I12: =E12*H12 -> 0 | J12: v | K12: S
A13: 2 | B13: Pembuatan Balok Praktis Beton Bertulang (10x15) | E13: =VOL.ARS!E222 -> 41.769 | F13: m' | G13: =HSP!C95 -> A.4.1.1.36 | H13: =HSP!F95 -> 0 | I13: =E13*H13 -> 0 | J13: v
A15: II. | B15: Pekerjaan Pasangan Dinding
A16: 1 | B16: Pemasangan Dinding Bata Ringan tebal 10 cm dengan mortar siap pakai | E16: =VOL.ARS!I45 -> 659.87105 | F16: m2 | G16: =HSP!C174 -> A.4.4.1.26 | H16: =HSP!F174 -> 0 | I16: =E16*H16 -> 0 | J16: v
T17: =+E23+E86 -> 305.627
A18: III. | B18: Pekerjaan Plesteran & Acian
A19: 1 | B19: Pemasangan Plesteran Mortar | E19: =VOL.ARS!I47 -> 1518.9423 | F19: m2 | G19: =HSP!C204 -> A.4.4.2.28. | H19: =HSP!F204 -> 0 | I19: =E19*H19 -> 0 | J19: v
A20: 2 | B20: Pemasangan Acian Mortar | E20: =E49+E50 -> 1711.771 | F20: m2 | G20: =HSP!C205 -> A.4.4.2.29. | H20: =HSP!F205 -> 0 | I20: =E20*H20 -> 0
A22: IV. | B22: Pekerjaan Finishing Lantai
A23: 1 | B23: Pasang Lantai Marmer Tulung Agung uk.600mmx600mm - F1 | E23: =+((24*12)+(3*8))-E24 -> 302 | F23: m2 | G23: A.4.4.3.43. | H23: =+HSP!F254 -> 0 | I23: =E23*H23 -> 0 | J23: v
A24: =+A23+1 -> 2 | B24: Pasang Lantai Beton + Scred 5 cm | E24: =2.5*4 -> 10 | F24: m2 | G24: =HSP!C209 -> A.4.4.3.2. | H24: =+H19 -> 0 | I24: =E24*H24 -> 0 | J24: v
A25: 3 | B25: Waterprofing area basah | E25: =VOL.ARS!I89 -> 408.8176 | F25: m2 | G25: A.4.7.1.22.a | H25: =HSP!F435 -> 0 | I25: =E25*H25 -> 0 | J25: v
A27: V. | B27: Pekerjaan Penutup Dinding
A28: 1 | B28: Pasang Dinding marmer tulungagung uk.600 mm x 600 mm | E28: =VOL.ARS!I121 -> 82.16 | F28: m2 | G28: A.4.4.3.43. | H28: =+H23 -> 0 | I28: =E28*H28 -> 0 | J28: v
A29: 2 | B29: Pasang dinding batu andesit uk.15x30 cm - w3 dan c2 | E29: =+(((24+12+24)*3.5)-'AHS KUSEN'!M106)+(0.35*4*4*3.5) -> 229.6 | F29: m2 | G29: A.4.4.3.35.a | H29: =+HSP!F269 -> 0 | I29: =E29*H29 -> 0
A30: 3 | B30: Pasang dinding Parapet + rangka hollow uk.40x40 fin plat stainlesteel | E30: =+(14.65+14.65+26.65+26.65)*0.1 -> 8.26 | F30: m2 | G30: Hitung | H30: =+H16+H45 -> 0 | I30: =E30*H30 -> 0
A32: VI. | B32: Pekerjaan Pintu dan Jendela
A33: 1 | B33: Pasang Pintu P1 | E33: 2 | F33: unit | G33: =HSP!C401 -> Anls.1 | H33: =+HSP!F401 -> 0 | I33: =E33*H33 -> 0 | J33: v
A34: =+A33+1 -> 2 | B34: Pasang Pintu P2 | E34: 11 | F34: unit | G34: =HSP!C402 -> Anls.2 | H34: =HSP!F402 -> 0 | I34: =E34*H34 -> 0 | J34: v
A35: =+A34+1 -> 3 | B35: Pasang Pintu P3 | E35: 1 | F35: unit | G35: Anls.3 | H35: =+HSP!F403 -> 0 | I35: =E35*H35 -> 0 | J35: v
A36: =+A34+1 -> 3 | B36: Pasang Pintu PB1 | E36: 2 | F36: unit | G36: Anls.5 | H36: =+HSP!F405 -> 0 | I36: =E36*H36 -> 0 | J36: v
A37: =+A36+1 -> 4 | B37: pasang Pintu PT1 | E37: 3 | F37: unit | G37: Anls.4 | H37: =+HSP!F404 -> 0 | I37: =E37*H37 -> 0 | J37: v
A38: =+A37+1 -> 5 | B38: Pasang Jendela J1 | E38: 5 | F38: unit | G38: =HSP!C406 -> Anls.6 | H38: =HSP!F406 -> 0 | I38: =E38*H38 -> 0 | J38: v
A39: =+A38+1 -> 6 | B39: Pasang Jendela BV1 | E39: 3 | F39: unit | G39: Anls.7 | H39: =+HSP!F407 -> 0 | I39: =E39*H39 -> 0 | J39: v
A41: VII. | B41: Pekerjaan Langit-langit (plafond)
A42: 1 | B42: Pekerjaan Gypsum Board 9 mm (L1) | E42: =VOL.ARS!I137 -> 226.459 | F42: m2 | G42: =HSP!C288 -> A.4.5.1.7. | H42: =HSP!F288 -> 0 | I42: =E42*H42 -> 0 | J42: v
A43: =+A42+1 -> 2 | B43: Pekerjaan Kalsium Silica Board 4,5 mm (L2) | E43: =VOL.ARS!I142 -> 12.570675 | F43: m2 | G43: A.4.5.1.7.a | H43: =HSP!F289 -> 0 | I43: =E43*H43 -> 0 | J43: v
A44: =+A43+1 -> 3 | B44: Pekerjaan Aluminium Spandrel uk. 200mm | E44: =VOL.ARS!I145 -> 114.37505 | F44: m2 | G44: A.4.2.1.12. | H44: =HSP!F134 -> 0 | I44: =E44*H44 -> 0 | J44: v
A45: =+A44+1 -> 4 | B45: Pekerjaan Rangka besi hollow galvanish uk.40x40x0,35 mm | E45: =E42+E43+E44 -> 353.40472 | F45: m2 | G45: =HSP!C143 -> A.4.2.1.21. | H45: =HSP!F143 -> 0 | I45: =E45*H45 -> 0 | J45: v
A46: =+A45+1 -> 5 | B46: Pekerjaan Shadow Line | E46: =VOL.ARS!I164 -> 230.701 | F46: m' | G46: =HSP!C296 -> A.4.5.1.10.a | H46: =HSP!F296 -> 0 | I46: =E46*H46 -> 0 | J46: v
A48: VIII. | B48: Pekerjaan Pengecatan
A49: 1 | B49: Pengecatan 1 m2 tembok baru Interior ( 1 lapis cat dasar, 2 lapis cat penutup) | E49: =VOL.ARS!I206 -> 846.42469 | F49: m2 | G49: =HSP!C420 -> A.4.7.1.10.a | H49: =HSP!F420 -> 0 | I49: =E49*H49 -> 0 | J49: v
...

Sheet VOL.STR
B1: lantai kerja
S2: Hitungan Berat Tulangan
B3: # | C3: pondasi tiang pancang | F3: qty | G3: depth
E4: P1 | F4: =2*26 -> 52 | G4: 9 | H4: =F4*G4 -> 468 | S4: Tulangan Baja | U4: Diameter Nominal | V4: Luas Nominal | W4: Berat Nominal
E5: P2 | F5: 10 | G5: 9 | H5: =F5*G5 -> 90 | S5: Polos | T5: Deform | U5: (mm) | V5: (cm2) | W5: (Kg/m)
F7: =SUM(F4:F5) -> 62 | G7: titik | H7: =SUM(H4:H6) -> 558 | I7: m | S7: P 6 | T7: D 6 | U7: 6 | V7: =(0.25*22/7*(U7/10)^2) -> 0.28285714 | W7: =7850*22/7*0.25*(U7/1000)^2 -> 0.22204286
S8: P 8 | T8: D 8 | U8: 8 | V8: =(0.25*22/7*(U8/10)^2) -> 0.50285714 | W8: =7850*22/7*0.25*(U8/1000)^2 -> 0.39474286
B9: # | C9: pilecap | S9: P 9 | T9: D 9 | U9: 9 | V9: =(0.25*22/7*(U9/10)^2) -> 0.63642857 | W9: =7850*22/7*0.25*(U9/1000)^2 -> 0.49959643
C10: p1 | D10: beton | E10: lb | F10: lb | G10: tbl | H10: jml | S10: P 10 | T10: D 10 | U10: 10 | V10: =(0.25*22/7*(U10/10)^2) -> 0.78571429 | W10: =7850*22/7*0.25*(U10/1000)^2 -> 0.61678571
E11: 1 | F11: 1.6 | G11: 0.5 | H11: 26 | I11: =E11*F11*G11*H11 -> 20.8 | J11: m3 | S11: P 12 | T11: D 12 | U11: 12 | V11: =(0.25*22/7*(U11/10)^2) -> 1.1314286 | W11: =7850*22/7*0.25*(U11/1000)^2 -> 0.88817143
D12: lantai kerja | E12: =E11+0.3 -> 1.3 | F12: =F11+0.3 -> 1.9 | G12: 0.05 | H12: =H11 -> 26 | I12: =E12*F12*G12*H12 -> 3.211 | J12: m3
D13: pasir urug | E13: =E12 -> 1.3 | F13: =F12 -> 1.9 | G13: 0.1 | H13: =H12 -> 26 | I13: =E13*F13*G13*H13 -> 6.422 | J13: m3
D14: galian | E14: =E13 -> 1.3 | F14: =F13 -> 1.9 | G14: 1.25 | H14: =H13 -> 26 | I14: =E14*F14*G14*H14 -> 80.275 | J14: m3
S15: P 13 | T15: D 13 | U15: 13 | V15: =(0.25*22/7*(U15/10)^2) -> 1.3278571 | W15: =7850*22/7*0.25*(U15/1000)^2 -> 1.0423679
D16: besi | K16: =SUM(K18:K29) -> 3674.9647 | L16: KG | S16: P 14 | T16: D 14 | U16: 14 | V16: =(0.25*22/7*(U16/10)^2) -> 1.54 | W16: =7850*22/7*0.25*(U16/1000)^2 -> 1.2089
D17: melintang | E17: pj besi atas | F17: pj besi bawah | G17: jml | H17: jml | I17: D16 | S17: P 16 | T17: D 16 | U17: 16 | V17: =(0.25*22/7*(U17/10)^2) -> 2.0114286 | W17: =7850*22/7*0.25*(U17/1000)^2 -> 1.5789714
E18: 1.5 | G18: 11 | H18: =H11 -> 26 | I18: =W17 -> 1.5789714 | K18: =E18*G18*H18*I18 -> 677.37874 | L18: kg | S18: P 18 | T18: D 18 | U18: 18 | V18: =(0.25*22/7*(U18/10)^2) -> 2.5457143 | W18: =7850*22/7*0.25*(U18/1000)^2 -> 1.9983857
I19: D19 | S19: P 19 | T19: D 19 | U19: 19 | V19: =(0.25*22/7*(U19/10)^2) -> 2.8364286 | W19: =7850*22/7*0.25*(U19/1000)^2 -> 2.2265964
F20: 1.68 | G20: 11 | H20: =H18 -> 26 | I20: =W19 -> 2.2265964 | K20: =F20*G20*H20*I20 -> 1069.8351 | L20: kg | S20: P 20 | T20: D 20 | U20: 20 | V20: =(0.25*22/7*(U20/10)^2) -> 3.1428571 | W20: =7850*22/7*0.25*(U20/1000)^2 -> 2.4671429
S21: P 22 | T21: D 22 | U21: 22 | V21: =(0.25*22/7*(U21/10)^2) -> 3.8028571 | W21: =7850*22/7*0.25*(U21/1000)^2 -> 2.9852429
D22: memanjang | E22: pj besi atas | F22: pj besi bawah | G22: jml | H22: jml | I22: D16 | S22: P 25 | T22: D 25 | U22: 25 | V22: =(0.25*22/7*(U22/10)^2) -> 4.9107143 | W22: =7850*22/7*0.25*(U22/1000)^2 -> 3.8549107
E23: 2.1 | G23: 7 | H23: =H18 -> 26 | I23: =I18 -> 1.5789714 | K23: =E23*G23*H23*I23 -> 603.48288 | L23: kg | S23: P 28 | T23: D 28 | U23: 28 | V23: =(0.25*22/7*(U23/10)^2) -> 6.16 | W23: =7850*22/7*0.25*(U23/1000)^2 -> 4.8356
I24: D19 | T24: D 29 | U24: 29 | V24: =(0.25*22/7*(U24/10)^2) -> 6.6078571 | W24: =7850*22/7*0.25*(U24/1000)^2 -> 5.1871679
F25: 2.286 | G25: 7 | H25: =H20 -> 26 | I25: =I20 -> 2.2265964 | K25: =F25*G25*H25*I25 -> 926.3799 | L25: kg | S25: P 32 | T25: D 32 | U25: 32 | V25: =(0.25*22/7*(U25/10)^2) -> 8.0457143 | W25: =7850*22/7*0.25*(U25/1000)^2 -> 6.3158857
T26: D 36 | U26: 36 | V26: =(0.25*22/7*(U26/10)^2) -> 10.182857 | W26: =7850*22/7*0.25*(U26/1000)^2 -> 7.9935429
D27: tul tepi keliling | T27: D 40 | U27: 40 | V27: =(0.25*22/7*(U27/10)^2) -> 12.571429 | W27: =7850*22/7*0.25*(U27/1000)^2 -> 9.8685714
E28: jml | F28: pjg | G28: pjg | H28: jml | I28: D16 | T28: D 50 | U28: 50 | V28: =(0.25*22/7*(U28/10)^2) -> 19.642857 | W28: =7850*22/7*0.25*(U28/1000)^2 -> 15.419643
E29: 4 | F29: =1.52 -> 1.52 | G29: 0.903 | H29: =H23 -> 26 | I29: =I23 -> 1.5789714 | K29: =(G29+F29)*E29*H29*I29 -> 397.88817 | L29: kg
D32: bekist
E33: =E11 -> 1 | F33: =F11 -> 1.6 | G33: =G11 -> 0.5 | H33: =H11 -> 26 | I33: =G33*(F33+E33+F33+E33)*H33 -> 67.6 | J33: m2
C35: p2 | D35: beton | E35: lb | F35: lb | G35: tbl | H35: jml
C36: bangunan utama dan ramp | E36: 1 | F36: 1 | G36: 0.5 | H36: =7+5 -> 12 | I36: =E36*F36*G36*H36 -> 6 | J36: m3
D37: lantai kerja | E37: =E36+0.3 -> 1.3 | F37: =F36+0.3 -> 1.3 | G37: 0.05 | H37: =H36 -> 12 | I37: =E37*F37*G37*H37 -> 1.014 | J37: m3
D38: pasir urug | E38: =E37 -> 1.3 | F38: =F37 -> 1.3 | G38: 0.1 | H38: =H37 -> 12 | I38: =E38*F38*G38*H38 -> 2.028 | J38: m3
D39: galian | E39: =E38 -> 1.3 | F39: =F38 -> 1.3 | G39: 1.25 | H39: =H38 -> 12 | I39: =E39*F39*G39*H39 -> 25.35 | J39: m3
D41: besi | K41: =SUM(K43:K54) -> 1163.2133
D42: melintang | E42: pj besi atas | F42: pj besi bawah | G42: jml besi | H42: jml | I42: D16
E43: 1.5 | G43: 7 | H43: =H36 -> 12 | I43: =W17 -> 1.5789714 | K43: =E43*G43*H43*I43 -> 198.9504 | L43: kg
I44: D19
F45: 1.68 | G45: 7 | H45: =H43 -> 12 | I45: =W19 -> 2.2265964 | K45: =F45*G45*H45*I45 -> 314.21729 | L45: kg
...

Sheet 5. BOQ ME
A1: BILL OF QUANTITY (BOQ)
A2: MEKANIKAL, ELEKTRIKAL, ELEKTRONIKA DAN PLAMBING (MEEP)
B3: PEKERJAAN | D3: : PEMBANGUNAN RUMAH SEHAT BAZNAZ
B4: LOKASI | D4: : MASJID IQTIQLAL JAKARTA
B5: TAHUN | D5: : 2025
A7: NO | B7: JENIS PEKERJAAN | E7: VOLUME | G7: ANALISA | H7: HARGA | I7: JUMLAH
H8: SATUAN | I8: HARGA
A9: C | B9: PEKERJAAN MEKANIKAL, ELEKTRIKAL, ELEKTRONIKA DAN PLAMBING (MEEP)
B10: PEKERJAAN ELEKTRIKAL
A11: I. | B11: Pekerjaan Penyambungan Listrik Panel Eksisting (Kawasan Istiqlal)
B12: Kabel NYFGbY 4c x 35 mm2 + cnduit HDPE Ø2", Termasuk pekerjaan galian sedalam 60cm dan urugan kembali seperti semula | E12: 80 | F12: m | H12: ='ANALISA ME'!K363 -> 0 | I12: =H12*E12 -> 0
E13: Sub Jumlah | I13: =SUM(I12) -> 0
A14: II. | B14: Pekerjaan Generator Set (Genset)
B15: Genset kapasitas 60 kVA,3Ø,50 Hz,380V, 1500 Rpm, Silent Type Continuous / Prime Power, | E15: 1 | F15: unit | H15: ='ANALISA ME'!K875 -> 0 | I15: =H15*E15 -> 0
B16: include PKG(Panel Kontrol Genset), Accu + charger automatis, kabel kontrol,Tanki bahan bakar harian sesuai
B17: bawaan Engine dan accesories lainnya, Merk : Perkins, Cummins dengan Alternator Stamford
B18: di kopel oleh Agen Resmi rekomendasi Pabrik ( menyertakan surat )
B19: termasuk :
B20: Residential Silencer | E20: 1 | F20: unit | H20: 0 | I20: =H20*E20 -> 0
B21: SLO dan Perijinan instansi terkait | E21: 1 | F21: unit | H21: 0 | I21: =H21*E21 -> 0
E22: Sub Jumlah | I22: =SUM(I15:I21) -> 0
A23: III. | B23: Pekerjaan Panel
B24: Panel MDP | E24: 1 | F24: unit | H24: ='ANALISA ME'!K230 -> 0 | I24: =H24*E24 -> 0
B25: Panel lampu dan Stop kontak | E25: 1 | F25: unit | H25: ='ANALISA ME'!K257 -> 0 | I25: =H25*E25 -> 0
B26: Panel AC | E26: 1 | F26: unit | H26: ='ANALISA ME'!K283 -> 0 | I26: =H26*E26 -> 0
B27: Panel gas medis | E27: 1 | F27: unit | H27: ='ANALISA ME'!K313 -> 0 | I27: =H27*E27 -> 0
B28: Panel Elektronika | E28: 1 | F28: unit | H28: 0 | I28: =H28*E28 -> 0
E29: Sub Jumlah | I29: =SUM(I24:I28) -> 0
A30: IV. | B30: Pekerjaan Grounding
B31: Grounding Panel MDP, 2 Ohm dengan bak kontrol 40cm x 40cm | E31: 1 | F31: bh | H31: ='ANALISA ME'!K913 -> 0 | I31: =H31*E31 -> 0
B32: Kabel Gounding BC 16 mm2 | E32: 10 | F32: m | H32: 0 | I32: =H32*E32 -> 0
E33: Sub Jumlah | I33: =SUM(I31:I32) -> 0
A34: V. | B34: Pekerjaan Kabel Feeder
B35: Kabel NYY 4c x 35 mm2 (dari Panel MDP ke Genset) | E35: 7 | F35: m | H35: ='ANALISA ME'!K363 -> 0 | I35: =H35*E35 -> 0
B36: Kabel NYY 4c x 10 mm2 + BC 10 mm2 (dari Panel MDP ke Panel lampu dan stop kontak) | E36: 4 | F36: m | H36: ='ANALISA ME'!K456 -> 0 | I36: =H36*E36 -> 0
B37: Kabel NYY 4c x 16 mm2 + BC 16 mm2 (dari Panel MDP ke Panel AC) | E37: 5 | F37: m | H37: ='ANALISA ME'!K479 -> 0 | I37: =H37*E37 -> 0
B38: Kabel NYY 4c x 16 mm2 + BC 16 mm2 (dari Panel MDP ke Panel Gas medis) | E38: 42 | F38: m | H38: =H37 -> 0 | I38: =H38*E38 -> 0
B39: Kabel NYY 3c x 4 mm2 (dari Panel MDP ke Panel Elektronika) | E39: 28 | F39: m | H39: 0 | I39: =H39*E39 -> 0
B40: Tray kabel uk. 300x100 mm | E40: 33 | F40: m | H40: ='ANALISA ME'!K721 -> 0 | I40: =H40*E40 -> 0
E41: Sub Jumlah | I41: =SUM(I35:I40) -> 0
...

Sheet ANALISA ME
B2: ANALISA HARGA SATUAN PENERANGAN
D4: VA | E4: Biaya penyambungan daya PLN | K4: 0.1
B5: NO | C5: URAIAN | H5: SAT. | I5: KOEFISIEN | J5: HARGA
G6: KODE | J6: SATUAN | K6: JUMLAH
J7: ( Rp ) | K7: ( Rp )
B8: 1 | C8: 2 | G8: 3 | H8: 4 | I8: 5 | J8: 6 | K8: =J8+1 -> 7
B9: A | C9: PASANG BARU
B10: 1 | C10: Penyambungan Baru Daya 82.500 VA
C11: - Biaya Penyambungan | G11: Taksir | H11: VA | I11: 1 | J11: 0 | K11: =+I11*J11 -> 0
C12: - Jaminan Langganan (UJL) | G12: Taksir | H12: VA | I12: 1 | J12: 0 | K12: =+I12*J12 -> 0
H13: VA | I13: =I12 -> 1 | J13: 0 | K13: =+I13*J13 -> 0
C14: - Meterai | G14: Taksir | H14: Buah
B16: B | C16: Jumlah | K16: =SUM(K11:K15) -> 0
B17: C | C17: Overhead & Profit 15% | I17: =$K$4 -> 0.1 | K17: =K16*I17 -> 0
B18: D | C18: Harga Satuan Pekerjaan (D+E) | K18: =SUM(K15:K17) -> 0
B20: dihit. | E20: Saklar Tunggal dengan lampu indikator
B21: No | C21: Uraian | G21: Kode | H21: Satuan | I21: Koefisien | J21: Harga Satuan (Rp.) | K21: Jumlah Harga (Rp.)
B22: A | C22: TENAGA
B23: 1 | C23: Pekerja | G23: L.01 | H23: OH | I23: 0.031 | J23: ='UPAH (2)'!H4 -> 0 | K23: =J23*I23 -> 0
B24: 2 | C24: Tukang listrik | G24: L.02 | H24: OH | I24: 0.052 | J24: ='UPAH (2)'!H16 -> 0 | K24: =J24*I24 -> 0
B25: 3 | C25: Kepala tukang | G25: L.03 | H25: OH | I25: 0.005 | J25: ='UPAH (2)'!H19 -> 0 | K25: =J25*I25 -> 0
B26: 4 | C26: Mandor | G26: L.04 | H26: OH | I26: 0.002 | J26: ='UPAH (2)'!H20 -> 0 | K26: =J26*I26 -> 0
B27: JUMLAH TENAGA KERJA | K27: =SUM(K23:K26) -> 0
B28: B | C28: BAHAN
C29: inbow dus | H29: buah | I29: 1 | J29: 0 | K29: =J29*I29 -> 0
C30: Saklar Tunggal | G30: M.482.c | H30: M.482.c | I30: 1 | J30: 0 | K30: =J30*I30 -> 0
B31: JUMLAH HARGA BAHAN | K31: =SUM(K29:K30) -> 0
B32: C | C32: PERALATAN
B33: JUMLAH HARGA ALAT | K33: 0
B34: D | C34: Jumlah (A+B+C) | K34: =K31+K27 -> 0
B35: E | C35: Overhead & Profit 15% | I35: =$K$4 -> 0.1 | K35: =K34*I35 -> 0
B36: F | C36: Harga Satuan Pekerjaan (D+E) | K36: =SUM(K33:K35) -> 0
B38: dihit. | E38: Saklar Ganda dengan lampu indikator
B39: No | C39: Uraian | G39: Kode | H39: Satuan | I39: Koefisien | J39: Harga Satuan (Rp.) | K39: Jumlah Harga (Rp.)
B40: A | C40: TENAGA
B41: 1 | C41: Pekerja | G41: L.01 | H41: OH | I41: 0.031 | J41: =J23 -> 0 | K41: =J41*I41 -> 0
B42: 2 | C42: Tukang listrik | G42: L.02 | H42: OH | I42: 0.052 | J42: =J24 -> 0 | K42: =J42*I42 -> 0
B43: 3 | C43: Kepala tukang | G43: L.03 | H43: OH | I43: 0.005 | J43: =J25 -> 0 | K43: =J43*I43 -> 0
B44: 4 | C44: Mandor | G44: L.04 | H44: OH | I44: 0.002 | J44: =J26 -> 0 | K44: =J44*I44 -> 0
B45: JUMLAH TENAGA KERJA | K45: =SUM(K41:K44) -> 0
...

Sheet UPAH (2)
B1: DAFTAR HARGA SATUAN UPAH
B3: Kode | C3: Uraian | D3: Satuan | H3: Harga | I3: Ket
B4: L.01.01 | C4: PEKERJA | D4: OH | E4: 1 | F4: 1 | G4: 1 | H4: 0
B5: L.02.01 | C5: TUKANG | D5: OH | E5: 2 | F5: 2 | G5: 2 | H5: 0
B6: L.02.02 | C6: TUKANG ALUMUNIUM | D6: OH | E6: 3 | F6: 3 | G6: 3 | H6: 0
B7: L.02.03 | C7: TUKANG BATU | D7: OH | E7: 4 | F7: 4 | G7: 4 | H7: 0
B8: L.02.04 | C8: TUKANG KAYU | D8: OH | E8: 5 | F8: 5 | G8: 5 | H8: 0
B9: L.02.05 | C9: TUKANG BESI | D9: OH | E9: 6 | F9: 6 | G9: 6 | H9: 0
B10: L.02.06 | C10: TUKANG BESI KONSTRUKSI | D10: OH | E10: 7 | F10: 7 | G10: 7 | H10: 0
B11: L.02.07 | C11: TUKANG BESI PROFIL | D11: OH | E11: 8 | F11: 8 | G11: 8 | H11: 0
B12: L.02.08 | C12: TUKANG CAT | D12: OH | E12: 9 | F12: 9 | G12: 9 | H12: 0
B13: L.02.09 | C13: TUKANG EREKSI | D13: OH | E13: 10 | F13: 10 | G13: 10 | H13: 0
B14: L.02.10 | C14: TUKANG LAS KONSTRUKSI | D14: OH | E14: 11 | F14: 11 | G14: 11 | H14: 0
B15: L.02.11 | C15: TUKANG LAS | D15: OH | E15: 12 | F15: 12 | G15: 12 | H15: 0
... B29: L.13 | C29: OPERATOR ALAT ELEKTRONIK | D29: OH | E29: 26 | F29: 26 | G29: 26 | H29: 0
C30: PENJAGA MALAM | D30: OH | E30: 27 | F30: 27 | G30: 27 | H30: 0
C31: TUKANG PASANG KERAMIK | D31: OH | E31: 28 | F31: 28 | G31: 28 | H31: 0

Sheet HARGA ME
A2: HARGA BAHAN
A4: NO. | B4: JENIS URAIAN | C4: SATUAN | D4: HARGA SATUAN | E4: KET.
B8: MATERIAL PIPA
A9: 1 | B9: Pipa PVC tipe AW Ø 1/2" panjang 4 m | C9: m | D9: 0 | E9: survei
A10: =A9+1 -> 2 | B10: Pipa PVC tipe AW Ø 3/4" panjang 4 m | C10: m' | D10: 0 | E10: survei
A11: =A10+1 -> 3 | B11: Pipa PVC tipe AW Ø 1" panjang 4 m | C11: m' | D11: 0 | E11: survei
A12: =A11+1 -> 4 | B12: Pipa PVC tipe AW Ø 2" panjang 4 m | C12: m' | D12: 0 | E12: survei
A13: =A12+1 -> 5 | B13: Pipa PVC tipe AW Ø 3" panjang 4 m | C13: m' | D13: 0 | E13: survei
A14: =A13+1 -> 6 | B14: Pipa PVC tipe AW Ø 4" panjang 4 m | C14: m' | D14: 0 | E14: survei
A15: =A14+1 -> 7 | B15: Pipa PVC tipe AW Ø 6" panjang 4 m | C15: m' | D15: 0 | E15: survei
A16: =A15+1 -> 8 | B16: Pipa PVC tipe AW Ø 8" panjang 4 m | C16: m' | D16: 0 | E16: survei
A17: =A16+1 -> 9 | B17: Pipa PVC tipe AW Ø 10" panjang 4 m | C17: m' | D17: 0 | E17: survei
A19: =A17+1 -> 10 | B19: Pipa PPR PN 10 Ø 1/2" panjang 4 m | C19: m' | D19: 0 | E19: survei
A20: =A19+1 -> 11 | B20: Pipa PPR PN 10 Ø 3/4" panjang 4 m | C20: m' | D20: 0 | E20: survei
A21: =A20+1 -> 12 | B21: Pipa PPR PN 10 Ø 1" panjang 4 m | C21: m' | D21: 0 | E21: survei
A22: =A21+1 -> 13 | B22: Pipa PPR PN 10 Ø1 1/2" panjang 4 m | C22: m' | D22: 0 | E22: survei
A23: =A22+1 -> 14 | B23: Pipa PPR PN 10 Ø 2" panjang 4 m | C23: m' | D23: 0 | E23: survei
A24: =A23+1 -> 15 | B24: Pipa PPR PN 10 Ø 2 1/2" panjang 4 m | C24: m' | D24: 0 | E24: survei
B26: MATERIAL LISTRIK
A27: 1 | B27: T Dus (biasa) | C27: bh | D27: 0 | E27: survei
A28: =A27+1 -> 2 | B28: Saklar Tunggal | C28: bh | D28: 0 | E28: survei
A29: =A28+1 -> 3 | B29: Saklar Ganda | C29: bh | D29: 0 | E29: survei
A30: =A29+1 -> 4 | B30: Saklar Triple | C30: bh | D30: 0 | E30: survei
A31: =A30+1 -> 5 | B31: Saklar Tunggal tukar | C31: bh | D31: 0 | E31: survei
A32: =A31+1 -> 6 | B32: Stop Kontak umum | C32: bh | D32: 0 | E32: survei
A33: =A32+1 -> 7 | B33: Stop Kontak AC, 3kaki | C33: bh | D33: 0 | E33: survei
A34: =A33+1 -> 8 | B34: L Bow | C34: bh | D34: 0 | E34: survei
A35: =A34+1 -> 9 | B35: Las Dop | C35: bh | D35: 0 | E35: survei
A36: =A35+1 -> 10 | B36: Surge Arrester 3P+N 25kA | C36: bh | D36: 0 | E36: survei
A37: =A36+1 -> 11 | B37: Amperemeter | C37: bh | D37: 0 | E37: survei
A38: =A37+1 -> 12 | B38: Voltmeter | C38: bh | D38: 0 | E38: survei
A39: =A38+1 -> 13 | B39: Pilot Lamp | C39: bh | D39: 0 | E39: survei
... A60: =A59+1 -> 34 | B60: Led DOWNLIGHT RECESSED 7W, 6500K | C60: bh | D60: 0 | E60: survei
A61: =A58+1 -> 33 | B61: Led strip 6500K | C61: bh | D61: 0 | E61: survei
A62: =A61+1 -> 34 | B62: Lampu taman led bulb 15 watt + tiang galvanis 1 meter | C62: bh | D62: 0 | E62: survei
A63: =A62+1 -> 35 | B63: Wall Lamp Up Down Led 15W, 6500K | C63: bh | D63: 0 | E63: survei
A64: =A63+1 -> 36 | B64: Celling exhaust fan 100 cfm | C64: bh | D64: 0 | E64: survei
A65: =A64+1 -> 37 | B65: Kabel tray uk 300 mm² x 100 mm² | C65: m | D65: 0 | E65: survei
A66: =A65+1 -> 38 | B66: Kabel tray uk 200 mm² x 100 mm² | C66: m | D66: 0 | E66: survei
A67: =A66+1 -> 39 | B67: Kabel ladder uk 300 mm² x 100 mm² | C67: m | D67: 0 | E67: survei
...

Sheet HSP
A2: DAFTAR HARGA SATUAN JADI
A4: No | B4: Kode | D4: : PEMBANGUNAN RUMAH SEHAT BAZNAS | F4: Harga
B6: A.2.2.1 | C6: HARGA SATUAN PEKERJAAN PERSIAPAN
A7: 1 | C7: A.2.2.1.1. | D7: (K3) Pembuatan 1 m2 pagar sementara dari kayu tinggi 2 meter | F7: =ANL!J27 -> 0
A8: =A7+1 -> 2 | C8: A.2.2.1.2 | D8: (K3) Pembuatan 1 m2 pagar sementara dari seng gelombang tinggi 2 meter | F8: =ANL!J51 -> 0
A9: =A8+1 -> 3 | C9: A.2.2.1.3. | D9: Pembuatan 1 m2 pagar sementara dari kawat duri tinggi 1,8 meter | F9: =ANL!J73 -> 0
A10: =A9+1 -> 4 | C10: A.2.2.1.4. | D10: Pengukuran dan pemasangan 1 m’ Bouwplank | F10: =ANL!J92 -> 0
A11: =A10+1 -> 5 | C11: A.2.2.1.5. | D11: (K3) Pembuatan 1 m2 kantor sementara lantai plesteran | F11: =ANL!J123 -> 0
A12: =A11+1 -> 6 | C12: A.2.2.1.6. | D12: (K3) Pembuatan 1 m2 rumah jaga (konstruksi kayu ) | F12: =ANL!J143 -> 0
A13: =A12+1 -> 7 | B13: (K3) Pembersihan 1 m2 lapangan dan perataan | C13: A.2.2.1.7. | D13: (K3) Pembuatan 1 m2 gudang semen dan peralatan | F13: =ANL!J167 -> 0
A14: =A13+1 -> 8 | B14: Air & listrik kerja | C14: A.2.2.1.8. | D14: (K3) Pembuatan 1 m2 bedeng pekerja | F14: =ANL!J191 -> 0
A15: =A14+1 -> 9 | C15: A.2.2.1.9. | D15: (K3) Pembersihan 1 m2 lapangan dan perataan | F15: =ANL!J205 -> 0
A16: =A15+1 -> 10 | C16: A.2.2.1.10. | D16: (K3) Pembuatan 1 m2 steger/perancah dari bambu | F16: =ANL!J223 -> 0
A17: =A16+1 -> 11 | C17: A.2.2.1.11. | D17: Pembuatan 1 buah kotak adukan ukuran 40cm x50cm x25cm | F17: =ANL!J240 -> 0
A18: =A17+1 -> 12 | C18: A.2.2.1.12. | D18: Pembuatan 1 m2 jalan sementara | F18: =ANL!J257 -> 0
A19: =A18+1 -> 13 | C19: A.2.2.1.13. | D19: Pembongkaran 1 m3 beton bertulang | F19: =ANL!J271 -> 0
A20: =A19+1 -> 14 | C20: A.2.2.1.14. | D20: Pembongkaran 1 m3 dinding tembok bata | F20: =ANL!J285 -> 0
A21: =A20+1 -> 15 | C21: A.2.2.1.15. | D21: Pemasangan 1 m2 pagar kawat jaring galvanis panjang 240 cm | F21: =ANL!J302 -> 0
A22: =A21+1 -> 16 | C22: A.2.2.1.16. | D22: Pemasangan 1 m2 panel beton pracetak 5x50x240 cm | F22: =ANL!J323 -> 0
B24: A.2.3.1 | C24: HARGA SATUAN PEKERJAAN TANAH
A25: 17 | C25: A.2.3.1.1. | D25: Penggalian 1 m3 tanah biasa sedalam 1 m | F25: =ANL!J339 -> 0
A26: =A25+1 -> 18 | C26: A.2.3.1.2. | D26: Penggalian 1 m3 tanah biasa sedalam 2 m | F26: =ANL!J353 -> 0
A27: =A26+1 -> 19 | C27: A.2.3.1.3. | D27: Menggali 1 m3 tanah biasa sedalam 3 m | F27: =ANL!J367 -> 0
A28: =A27+1 -> 20 | C28: A.2.3.1.4. | D28: Menggali 1 m3 tanah keras sedalam 1 m | F28: =ANL!J381 -> 0
A29: =A28+1 -> 21 | C29: A.2.3.1.5. | D29: Menggali 1 m3 tanah cadas sedalam 1 m | F29: =ANL!J395 -> 0
A30: =A29+1 -> 22 | C30: A.2.3.1.6. | D30: Menggali 1 m3 tanah lumpur sedalam 1 m | F30: =ANL!J409 -> 0
A31: =A30+1 -> 23 | C31: A.2.3.1.7. | D31: Pengerjaan stripping 1 m2 tanah tebing setinggi 1 meter | F31: =ANL!J423 -> 0
A32: =A31+1 -> 24 | C32: A.2.3.1.8. | D32: (K3) Pembuangan 1 m3 tanah sejauh 30 meter | F32: =ANL!J437 -> 0
A33: =A32+1 -> 25 | C33: A.2.3.1.9. | D33: Pengurugan kembali 1 m3 galian tanah (1/3 Galian;-Tanah Biasa Sedalam 1 M) | F33: =ANL!J452 -> 0
A34: =A33+1 -> 26 | C34: A.2.3.1.10. | D34: (K3) Pemadatan tanah 1 m3 tanah ( per 20 cm) | F34: =ANL!J466 -> 0
A35: =A34+1 -> 27 | C35: A.2.3.1.11. | D35: Pengurugan 1 m3 dengan pasir urug | F35: =ANL!J481 -> 0
A36: =A35+1 -> 28 | C36: A.2.3.1.11.a | D36: =+ANL!D483 -> Pengurugan 1 m3 dengan tanah urug | F36: =+ANL!J496 -> 0
A37: =A36+1 -> 29 | C37: A.2.3.1.12. | D37: Pemasangan 1 m3 lapisan pudel campuran 1KP:3PP:7TL | F37: =ANL!J515 -> 0
A38: =A37+1 -> 30 | C38: A.2.3.1.13. | D38: Pemasangan 1 m2 lapisan ijuk tebal 10 cm untuk bidang resapan | F38: =ANL!J530 -> 0
A39: =A38+1 -> 31 | C39: A.2.3.1.14. | D39: Pengurugan 1 m3 sirtu padat | F39: =ANL!J545 -> 0
B41: A.3.2.2 | C41: HARGA SATUAN PEKERJAAN PONDASI
A42: 31 | C42: A.3.2.1.1. | D42: Pemasangan 1 m3 pondasi batu belah campuran 1SP : 3PP | F42: =ANL!J565 -> 0
A43: =A42+1 -> 32 | C43: A.3.2.1.2. | D43: Pemasangan 1 m3 pondasi batu belah campuran 1SP : 4PP | F43: =ANL!J584 -> 0
A44: =A43+1 -> 33 | C44: A.3.2.1.3. | D44: Pemasangan 1 m3 pondasi batu belah campuran 1SP : 5PP | F44: =ANL!J603 -> 0
A45: =A44+1 -> 34 | C45: A.3.2.1.4. | D45: Pemasangan 1 m3 pondasi batu belah campuran 1SP : 6PP | F45: =ANL!J622 -> 0
...

Sheet AHS KUSEN
B1: ANALISA KUSEN
C3: volume | D3: satuan | E3: harga satuan | F3: jumlah
B4: Pintu P1
B5: kusen stainlessteel t= 3mm | C5: =1.8+1.8+2.6+2.6 -> 8.8 | D5: m' | E5: 0 | F5: =+C5*E5 -> 0
B6: Daun Pintu Kaca Tempered 12 mm | C6: =1.8*2.6 -> 4.68 | D6: m2 | E6: 0 | F6: =+C6*E6 -> 0
B7: Pull handle stainless steel SUS 304 | C7: 1 | D7: set | E7: 0 | F7: =+C7*E7 -> 0
B8: Patch Lock | C8: 1 | D8: unit | E8: 0 | F8: =+C8*E8 -> 0
B9: Floor hinge | C9: 1 | D9: Set | E9: 0 | F9: =+C9*E9 -> 0
B10: Patch Fitting | C10: 2 | D10: set | E10: 0 | F10: =+C10*E10 -> 0
B11: Covering plate | C11: 1 | D11: Set | E11: 0 | F11: =+C11*E11 -> 0
B12: stiker sunblast | C12: =1.18*1.8 -> 2.124 | D12: m2 | E12: 0 | F12: =+C12*E12 -> 0
E13: TOTAL | F13: =SUM(F5:F12) -> 0
B15: Pintu P2
B16: Pemasangan Kusen Alumunium 4" Tebal 1.2 mm Fin. Powder Coating | C16: =(2.6*2)+0.9+0.9 -> 7 | D16: m' | E16: =+HSP!F133 -> 0 | F16: =+E16*C16 -> 0
B17: Pemasangan Daun Pintu Engineering Door | C17: =2.06*0.8 -> 1.648 | D17: m2 | E17: 0 | F17: =+E17*C17 -> 0
B18: kaca bening 5 mm | C18: =0.32*0.68 -> 0.2176 | D18: m2 | E18: =+HSP!F394 -> 0 | F18: =+E18*C18 -> 0
B19: Pemasangan Engsel | C19: 5 | D19: buah | E19: =+HSP!F382 -> 0 | F19: =+E19*C19 -> 0
B20: Pemasangan Lever Handle | C20: 1 | D20: buah | E20: 0 | F20: =+E20*C20 -> 0
B21: Pemasangan Lockcase | C21: 1 | D21: buah | E21: 0 | F21: =+E21*C21 -> 0
B22: Pemasangan Cylinder | C22: 1 | D22: buah | E22: 0 | F22: =+E22*C22 -> 0
B23: Pemasangan Door Closer | C23: 2 | D23: buah | E23: =+HSP!F387 -> 0 | F23: =+E23*C23 -> 0
B24: Pemasangan Flush Bolt | C24: 1 | D24: buah
E25: TOTAL | F25: =SUM(F16:F24) -> 0
B26: Pintu P3
B27: Pemasangan Kusen UPVC | C27: =(2.1*2)+1.29 -> 5.49 | D27: m' | E27: 0 | F27: =+E27*C27 -> 0
B28: Pemasangan Daun Pintu UPVC | C28: =2.05*1.2 -> 2.46 | D28: m2 | E28: 0 | F28: =+E28*C28 -> 0
B29: Pemasangan Engsel | C29: 6 | D29: buah | E29: =+E19 -> 0 | F29: =+E29*C29 -> 0
B30: Pemasangan Pull Handle Stainless Steel | C30: 1 | D30: buah | E30: 0 | F30: =+E30*C30 -> 0
B31: Pemasangan Lockcase | C31: 1 | D31: buah | E31: 0 | F31: =+E31*C31 -> 0
B32: Pemasangan Cylinder | C32: 1 | D32: buah | E32: 0 | F32: =+E32*C32 -> 0
B33: Pemasangan Door Closer | C33: 0 | D33: buah | E33: 0 | F33: =+E33*C33 -> 0
E34: TOTAL | F34: =SUM(F27:F33) -> 0
B36: Pintu PT1
B37: Pemasangan Kusen Alumunium 4" Tebal 1.2 mm Fin. Powder Coating | C37: =(2.6*2)+0.9+0.9 -> 7 | D37: m' | E37: =E16 -> 0 | F37: =+E37*C37 -> 0
B38: Pemasangan Daun Pintu Alumunium 4" Tebal 1.2 mm (Powder Coating) | C38: =2.1*0.8 -> 1.68 | D38: m2 | E38: 0 | F38: =+E38*C38 -> 0
B39: kaca bening 5 mm | C39: =0.32*0.68 -> 0.2176 | D39: m2 | E39: =+E18 -> 0 | F39: =+E39*C39 -> 0
B40: Pemasangan Engsel | C40: 5 | D40: buah | E40: =E19 -> 0 | F40: =+E40*C40 -> 0
B41: Pemasangan Lever Handle | C41: 1 | D41: buah | E41: =+E20 -> 0 | F41: =+E41*C41 -> 0
B42: Pemasangan Lockcase | C42: 1 | D42: buah | E42: =E21 -> 0 | F42: =+E42*C42 -> 0
B43: Pemasangan Cylinder | C43: 1 | D43: buah | E43: =E22 -> 0 | F43: =+E43*C43 -> 0
...

Sheet ANL
C1: DAFTAR ANALISA BIAYA KONSTRUKSI
C2: BANGUNAN GEDUNG DAN PERUMAHAN
C6: A.2.2.1.1. | D6: (K3) Pembuatan 1 m2 pagar sementara dari kayu tinggi 2 meter
D7: No | E7: Uraian | F7: Kode | G7: Satuan | H7: Koefisien | I7: Harga Satuan (Rp.) | J7: Jumlah Harga (Rp.)
D8: A | E8: TENAGA
E9: Pekerja | F9: L.01.01 | G9: OH | H9: 0.4 | I9: =IF(AND(E9<>"",G9<>""),IF(D9="",IF(G9="OH",VLOOKUP(F9,UPAH!$B$4:$H$101,7,0),0),0),0) -> 0 | J9: =H9*I9 -> 0
E10: Tukang Kayu | F10: L.02.04 | G10: OH | H10: 0.2 | I10: =IF(AND(E10<>"",G10<>""),IF(D10="",IF(G10="OH",VLOOKUP(F10,UPAH!$B$4:$H$101,7,0),VLOOKUP(E10,#REF!,4,0)),0),0) -> 0 | J10: =H10*I10 -> 0
E11: Kepala Tukang | F11: L.03.01 | G11: OH | H11: 0.02 | I11: =IF(AND(E11<>"",G11<>""),IF(D11="",IF(G11="OH",VLOOKUP(F11,UPAH!$B$4:$H$101,7,0),VLOOKUP(E11,#REF!,4,0)),0),0) -> 0 | J11: =H11*I11 -> 0
E12: Mandor | F12: L.04.01 | G12: OH | H12: 0.02 | I12: =IF(AND(E12<>"",G12<>""),IF(D12="",IF(G12="OH",VLOOKUP(F12,UPAH!$B$4:$H$101,7,0),VLOOKUP(E12,#REF!,4,0)),0),0) -> 0 | J12: =H12*I12 -> 0
B13: (K3) Pembersihan 1 m2 lapangan dan perataan | H13: JUMLAH TENAGA KERJA | J13: =SUM(J9:J12) -> 0
B14: Air & listrik kerja | D14: B | E14: BAHAN
E15: Dolken kayu Ø 8-10/400 cm | G15: Batang | H15: 1.25 | I15: ='BAHAN '!G794 -> 0 | J15: =H15*I15 -> 0
E16: Semen portland | G16: Kg | H16: 5 | I16: ='BAHAN '!G72 -> 0 | J16: =H16*I16 -> 0
E17: Pasir beton | G17: m3 | H17: 0.005 | I17: ='BAHAN '!G59 -> 0 | J17: =H17*I17 -> 0
E18: Koral beton | G18: m3 | H18: 0.009 | I18: ='BAHAN '!G49 -> 0 | J18: =H18*I18 -> 0
E19: Kayu 5/7 kls III | G19: m3 | H19: 0.072 | I19: ='BAHAN '!G200 -> 0 | J19: =H19*I19 -> 0
E20: Paku biasa | G20: Kg | H20: 0.06 | I20: ='BAHAN '!G127 -> 0 | J20: =H20*I20 -> 0
E21: Residu | G21: Liter | H21: 0.4 | I21: ='BAHAN '!G158 -> 0 | J21: =H21*I21 -> 0
H22: JUMLAH HARGA BAHAN | J22: =SUM(J14:J21) -> 0
D23: C | E23: PERALATAN
H24: JUMLAH HARGA ALAT | J24: =J23 -> 0
D25: D | E25: Jumlah (A+B+C) | J25: =SUM(J9:J24)/2 -> 0
D26: E | E26: Overhead & Profit 10% | H26: 0.1 | J26: =H26*J25 -> 0
D27: F | E27: Harga Satuan Pekerjaan (D+E) | I27: =IF(AND(E27<>"",G27<>""),IF(D27="",IF(G27="OH",VLOOKUP(E27,UPAH!$C$4:$H$31,7,0),VLOOKUP(E27,#REF!,4,0)),0),0) -> 0 | J27: =ROUNDDOWN(J25+J26,0) -> 0
C29: A.2.2.1.2 | D29: (K3) Pembuatan 1 m2 pagar sementara dari seng gelombang tinggi 2 meter
D30: No | E30: Uraian | F30: Kode | G30: Satuan | H30: Koefisien | I30: Harga Satuan (Rp.) | J30: Jumlah Harga (Rp.)
D31: A | E31: TENAGA | I31: =IF(AND(E31<>"",G31<>""),IF(D31="",IF(G31="OH",VLOOKUP(E31,UPAH!$C$4:$H$31,7,0),VLOOKUP(E31,#REF!,4,0)),0),0) -> 0 | J31: =H31*I31 -> 0
E32: Pekerja | F32: L.01.01 | G32: OH | H32: 0.2 | I32: =IF(AND(E32<>"",G32<>""),IF(D32="",IF(G32="OH",VLOOKUP(F32,UPAH!$B$4:$H$101,7,0),VLOOKUP(E32,#REF!,4,0)),0),0) -> 0 | J32: =H32*I32 -> 0
E33: Tukang Kayu | F33: L.02.04 | G33: OH | H33: 0.4 | I33: =IF(AND(E33<>"",G33<>""),IF(D33="",IF(G33="OH",VLOOKUP(F33,UPAH!$B$4:$H$101,7,0),VLOOKUP(E33,#REF!,4,0)),0),0) -> 0 | J33: =H33*I33 -> 0
E34: Kepala Tukang | F34: L.03.01 | G34: OH | H34: 0.02 | I34: =IF(AND(E34<>"",G34<>""),IF(D34="",IF(G34="OH",VLOOKUP(F34,UPAH!$B$4:$H$101,7,0),VLOOKUP(E34,#REF!,4,0)),0),0) -> 0 | J34: =H34*I34 -> 0
E35: Mandor | F35: L.04.01 | G35: OH | H35: 0.02 | I35: =IF(AND(E35<>"",G35<>""),IF(D35="",IF(G35="OH",VLOOKUP(F35,UPAH!$B$4:$H$101,7,0),VLOOKUP(E35,#REF!,4,0)),0),0) -> 0 | J35: =H35*I35 -> 0
H36: JUMLAH TENAGA KERJA | J36: =SUM(J31:J35) -> 0
D37: B | E37: BAHAN
E38: Dolken kayu Ø 8-10/400 cm | G38: Batang | H38: 1.25 | I38: ='BAHAN '!G794 -> 0 | J38: =H38*I38 -> 0
E39: Semen portland | G39: Kg | H39: 2.5 | I39: ='BAHAN '!G72 -> 0 | J39: =H39*I39 -> 0
E40: Seng gelombang | G40: Lbr | H40: 1.2 | I40: ='BAHAN '!G241 -> 0 | J40: =H40*I40 -> 0
E41: Pasir beton | G41: m3 | H41: 0.005 | I41: ='BAHAN '!G59 -> 0 | J41: =H41*I41 -> 0
E42: Koral beton | G42: m3 | H42: 0.009 | I42: ='BAHAN '!G49 -> 0 | J42: =H42*I42 -> 0
E43: Kayu 5/7 | G43: m3 | H43: 0.072 | I43: ='BAHAN '!G200 -> 0 | J43: =H43*I43 -> 0
E44: Paku biasa | G44: Kg | H44: 0.06 | I44: ='BAHAN '!G127 -> 0 | J44: =H44*I44 -> 0
...

Sheet UPAH
B1: DAFTAR HARGA SATUAN UPAH
B3: Kode | C3: Uraian | D3: Satuan | H3: Harga | I3: Ket
B4: L.01.01 | C4: PEKERJA | D4: : PEMBANGUNAN RUMAH SEHAT BAZNAS | E4: 1 | F4: 1 | G4: 1 | H4: 0
B5: L.02.01 | C5: TUKANG | D5: OH | E5: 2 | F5: 2 | G5: 2 | H5: 0
B6: L.02.02 | C6: TUKANG ALUMUNIUM | D6: OH | E6: 3 | F6: 3 | G6: 3 | H6: 0
B7: L.02.03 | C7: TUKANG BATU | D7: OH | E7: 4 | F7: 4 | G7: 4 | H7: 0
B8: L.02.04 | C8: TUKANG KAYU | D8: OH | E8: 5 | F8: 5 | G8: 5 | H8: 0
B9: L.02.05 | C9: TUKANG BESI | D9: OH | E9: 6 | F9: 6 | G9: 6 | H9: 0
B10: L.02.06 | C10: TUKANG BESI KONSTRUKSI | D10: OH | E10: 7 | F10: 7 | G10: 7 | H10: 0
B11: L.02.07 | C11: TUKANG BESI PROFIL | D11: OH | E11: 8 | F11: 8 | G11: 8 | H11: 0
B12: L.02.08 | C12: TUKANG CAT | D12: OH | E12: 9 | F12: 9 | G12: 9 | H12: 0
B13: L.02.09 | C13: TUKANG EREKSI | D13: OH | E13: 10 | F13: 10 | G13: 10 | H13: 0
B14: L.02.10 | C14: TUKANG LAS KONSTRUKSI | D14: OH | E14: 11 | F14: 11 | G14: 11 | H14: 0
B15: L.02.11 | C15: TUKANG LAS | D15: OH | E15: 12 | F15: 12 | G15: 12 | H15: 0
... B29: L.13 | C29: OPERATOR ALAT ELEKTRONIK | D29: OH | E29: 26 | F29: 26 | G29: 26 | H29: 0
C30: PENJAGA MALAM | D30: OH | E30: 27 | F30: 27 | G30: 27 | H30: 0
C31: TUKANG PASANG KERAMIK | D31: OH | E31: 28 | F31: 28 | G31: 28 | H31: 0

Sheet BAHAN 
C1: DAFTAR HARGA SATUAN BAHAN
C3: NO. | D3: NO. | E3: JENIS BAHAN | F3: SATUAN | G3: HARGA | H3: KET
G4: (Rp.)
A6: 1 | B6: 1 | C6: 1 | D6: 1 | E6: Agregat Base Kelas A | F6: M³ | G6: 525555.33
A7: 1 | B7: 1 | C7: 1 | D7: 2 | E7: Agregat Base Kelas B | F7: M³ | G7: 452603.62
A8: 1 | B8: 1 | C8: 1 | D8: 3 | E8: Agregat Base Kelas C | F8: M³ | G8: 371229.69
B9: 1 | C9: 1 | D9: 4 | E9: Agg. Halus LPA | F9: M³ | G9: 0
B10: 1 | C10: =+C9+1 -> 2 | D10: 5 | E10: Agregat Pecah Kasar | F10: M³ | G10: 0
B11: 1 | C11: =+C10+1 -> 3 | D11: 6 | E11: Air | F11: Ltr | G11: 0
B12: 1 | C12: =+C11+1 -> 4 | D12: 7 | E12: Alang-alang | F12: Ikat | G12: 0
B13: (K3) Pembersihan 1 m2 lapangan dan perataan | C13: =+C12+1 -> 5 | D13: 8 | E13: Aspal | F13: Kg | G13: 0
B14: Air & listrik kerja | C14: =+C13+1 -> 6 | D14: 9 | E14: Aspal Hotmix (Ready Mix) | F14: Ton | G14: 0
B15: 1 | C15: =+C14+1 -> 7 | D15: 10 | E15: Bata merah | F15: Bh | G15: 0
B16: 1 | C16: =+C15+1 -> 8 | D16: 11 | E16: Batako Uk. 20 x 40 x 10 | F16: Bh | G16: 0
B17: 1 | C17: =+C16+1 -> 9 | D17: 12 | E17: Batu Alam 10 x 20 | F17: M² | G17: 0
B18: 1 | C18: =+C17+1 -> 10 | D18: 13 | E18: Batu apung | F18: Kg | G18: 0
B19: 1 | C19: =+C18+1 -> 11 | D19: 14 | E19: Batu Bata Klinker Uk. 5 x 5 x 25 | F19: Bh | G19: 0
B20: 1 | C20: =+C19+1 -> 12 | D20: 15 | E20: Batu Belah / Batu Kali / Batu Gunung | F20: M³ | G20: 0
B21: 1 | C21: =+C20+1 -> 13 | D21: 16 | E21: Batu Belah Uk. 15 - 20 | F21: M³ | G21: 0
B22: 1 | C22: =+C21+1 -> 14 | D22: 17 | E22: Batu Boulder | F22: M³ | G22: 0
B23: 1 | C23: =+C22+1 -> 15 | D23: 18 | E23: Batu Bunga (Alam) | F23: M² | G23: 0
B24: 1 | C24: =+C23+1 -> 16 | D24: 19 | E24: Batu Candi 10 x 20 | F24: M² | G24: 0
B25: 1 | C25: =+C24+1 -> 17 | D25: 20 | E25: Batu Candi 30 x 30 | F25: M² | G25: 0
B26: 1 | C26: =+C25+1 -> 18 | D26: 21 | E26: Batu Green Bally 15 x 30 | F26: M² | G26: 0
... B60: 1 | C60: =+C59+1 -> 52 | D60: 55 | E60: Pasir Pasang / Beton (Kg) | F60: Kg | G60: 0
A61: 1 | B61: 1 | C61: =+C60+1 -> 53 | D61: 56 | E61: Pasir Pasang (Sedang) | F61: M³ | G61: 0
B62: 1 | C62: =+C61+1 -> 54 | D62: 57 | E62: Paving Stone t=6 cm | F62: Bh | G62: 0
B63: 1 | C63: =+C62+1 -> 55 | D63: 58 | E63: Paving Stone t=6 cm | F63: M2 | G63: 0
B64: 1 | C64: =+C63+1 -> 56 | D64: 59 | E64: Paving Stone warna t=6 cm | F64: Bh | G64: 0
B65: 1 | C65: =+C64+1 -> 57 | D65: 60 | E65: Paving Stone warna t=6 cm | F65: M2 | G65: 0
B66: 1 | C66: =+C65+1 -> 58 | D66: 61 | E66: Paving Stone t=8 cm | F66: Bh | G66: 0
B67: 1 | C67: =+C66+1 -> 59 | D67: 62 | E67: Paving Stone t=8 cm | F67: M2 | G67: 0
B68: 1 | C68: =+C67+1 -> 60 | D68: 63 | E68: Paving Stone warna t=8 cm | F68: Bh | G68: 0
B69: 1 | C69: =+C68+1 -> 61 | D69: 64 | E69: Paving Stone warna t=8 cm | F69: M2 | G69: 0
B70: 1 | C70: =+C69+1 -> 62 | D70: 65 | E70: S o l a r (HET) | F70: Ltr | G70: 0
B71: 1 | C71: =+C70+1 -> 63 | D71: 66 | E71: S o l a r (Industri) | F71: Ltr | G71: 0
B72: 1 | C72: =+C71+1 -> 64 | D72: 67 | E72: Semen PC | F72: Kg | G72: 0
B73: 1 | C73: =+C72+1 -> 65 | D73: 68 | E73: Semen Putih | F73: Kg | G73: 0
... B118: 1 | C118: =+C117+1 -> 110 | D118: 113 | E118: Kawat jaring galvanis | F118: M¹ | G118: 0
B119: 1 | C119: =+C118+1 -> 111 | D119: 113.a | E119: Kawat jaring galvanis | F119: Lbr | G119: 0
...

Sheet Alat
A1: DAFTAR HARGA SATUAN ALAT
H3: Harga | J3: Spesifikasi | K3: Harga | M3: Deskripsi | O3: 2019 | W3: Harga | Y3: Spesifikasi
A4: No | C4: Uraian | D4: Satuan | E4: Kode | H4: Satuan Dasar | I4: Ket. | J4: Kinerja | K4: Pembelian | M4: Teknis | P4: No | R4: Uraian | S4: Satuan | T4: Kode | W4: Satuan Dasar | X4: Ket. | Y4: Kinerja
H5: ( Rp. ) | K5: ( Rp. ) | M5: Peralatan | W5: ( Rp. )
A6: 1 | C6: 2 | D6: 3 | E6: 4 | H6: 5 | I6: 6 | K6: 7 | M6: 8 | P6: 1 | R6: 2 | S6: 3 | T6: 4 | W6: 5 | X6: 6
A9: A. | C9: Peralatan dan Alat Berat | P9: A. | R9: Peralatan dan Alat Berat
A10: 1 | C10: Alat (pancang) Hammer 0,5 ton (manual) | D10: Sewa-jam | E10: E.01.a | H10: 0 | K10: =50*H10 -> 0 | P10: 1 | R10: Alat (pancang) Hammer 0,5 ton (manual) | S10: Sewa-hari | T10: E.01.a | W10: 123600
A11: 2 | C11: Alat (pancang) Hammer 1 ton (manual) | D11: Sewa-jam | E11: E.01.b | H11: 0 | K11: =50*H11 -> 0 | P11: 2 | R11: Alat (pancang) Hammer 1 ton (manual) | S11: Sewa-hari | T11: E.01.b | W11: 247200
A12: 3 | C12: Alat (pancang) Hammer 2 ton (manual) | D12: Sewa-jam | E12: E.01.c | H12: 0 | K12: =50*H12 -> 0 | P12: 3 | R12: Alat (pancang) Hammer 2 ton (manual) | S12: Sewa-hari | T12: E.01.c | W12: 357142.86
A13: 4 | C13: Alat (mesin pancang diesel) Hammer 0,5 ton | D13: Sewa-jam | E13: E.01.d | H13: 0 | K13: 325000000 | P13: 4 | R13: Alat (mesin pancang diesel) Hammer 0,5 ton | S13: Sewa-jam | T13: E.01.d | W13: 103000
A14: 5 | C14: Alat (mesin pancang diesel) Hammer 1 ton | D14: Sewa-jam | E14: E.01.e | H14: 0 | K14: 500000000 | P14: 5 | R14: Alat (mesin pancang diesel) Hammer 1 ton | S14: Sewa-jam | T14: E.01.e | W14: 154500
A15: 6 | C15: Alat (mesin pancang diesel) Hammer 2 ton | D15: Sewa-jam | E15: E.01.f | H15: 0 | K15: 750000000 | P15: 6 | R15: Alat (mesin pancang diesel) Hammer 2 ton | S15: Sewa-jam | T15: E.01.f | W15: 231750
A16: 7 | C16: Alat (mesin pancang diesel) Hammer 3 ton | D16: Sewa-jam | E16: E.01.g | H16: 0 | K16: 1000000000 | P16: 7 | R16: Alat (mesin pancang diesel) Hammer 3 ton | S16: Sewa-jam | T16: E.01.g | W16: 334750
A17: 8 | C17: Alat (mesin pancang kompresor udara) Hammer 3 ton | D17: Sewa-jam | E17: E.01.h | H17: 0 | K17: =2500*H17 -> 0 | P17: 8 | R17: Alat (mesin pancang kompresor udara) Hammer 3 ton | S17: Sewa-jam | T17: E.01.h | W17: 257500
A18: 9 | C18: Alat (mesin pancang tenaga uap) Hammer 3 ton | D18: Sewa-jam | E18: E.01.i | H18: 0 | K18: =2500*H18 -> 0 | P18: 9 | R18: Alat (mesin pancang tenaga uap) Hammer 3 ton | S18: Sewa-jam | T18: E.01.i | W18: 257500
A19: 10 | C19: Boat, Speedboat, Motor 10 HP | D19: Sewa-hari | E19: E.03.a | H19: 0 | K19: =500*H19 -> 0 | M19: 1,5 juta per - 1 x jalan | P19: 10 | R19: Boat, Speedboat, Motor 10 HP | S19: Sewa-hari | T19: E.03.a | W19: 875500
A20: 11 | C20: Tug-boat, Motor 50 HP | D20: Sewa-hari | E20: E.03.b | H20: 0 | K20: =1500*H20 -> 0 | M20: 1500000 | N20: per - 1 x jalan | P20: 11 | R20: Tug-boat, Motor 50 HP | S20: Sewa-hari | T20: E.03.b | W20: 2575000
A21: 12 | C21: Bore Pile Machine, dia. 60 cm | D21: Sewa-jam | E21: E.04.a | H21: 0 | K21: 1170000000 | P21: 12 | R21: Bore Pile Machine, dia. 60 cm | S21: Sewa-jam | T21: E.04.a | W21: 1170000
A22: 13 | C22: Bore Pile Machine, dia. 100 cm | D22: Sewa-jam | E22: E.04.b | H22: 0 | K22: 3795000000 | P22: 13 | R22: Bore Pile Machine, dia. 100 cm | S22: Sewa-jam | T22: E.04.b | W22: =W21+(3%*W21) -> 1205100
A23: 14 | C23: Bulldozer 50-60 HP | D23: Sewa-jam | E23: E.05.a | H23: 0 | K23: 1875000000 | P23: 14 | R23: Bulldozer 50-60 HP | S23: Sewa-jam | T23: E.05.a | W23: 360500
A24: 15 | C24: Bulldozer 100-120 HP | D24: Sewa-jam | E24: E.05.b | H24: 0 | K24: 2875000000 | P24: 15 | R24: Bulldozer 100-120 HP | S24: Sewa-jam | T24: E.05.b | W24: 489607.97
A25: 16 | C25: Bulldozer 180-220 HP | D25: Sewa-jam | E25: E.05.c | H25: 0 | K25: 4125000000 | P25: 16 | R25: Bulldozer 180-220 HP | S25: Sewa-jam | T25: E.05.c | W25: 847080.58
A26: 17 | C26: Chainsaw | D26: Sewa-hari | E26: E.06 | H26: 0 | K26: =50*H26 -> 0 | P26: 17 | R26: Chainsaw | S26: Sewa-hari | T26: E.06 | W26: 150000
A27: 18 | C27: Crane 2.5 ton | D27: Sewa-hari | E27: E.07.a | H27: 0 | K27: 450000000 | P27: 18 | R27: Crane 2.5 ton | S27: Sewa-hari | T27: E.07.a | W27: =W28-(3%*W28) -> 672743.5
A28: 19 | C28: Crane 5 ton | D28: Sewa-jam | E28: E.07.b | H28: 0 | K28: 750000000 | P28: 19 | R28: Crane 5 ton | S28: Sewa-jam | T28: E.07.b | W28: =W29-(3%*W29) -> 693550
A29: 20 | C29: Crane 10 ton | D29: Sewa-jam | E29: E.07.c | H29: 0 | K29: 1250000000 | P29: 20 | R29: Crane 10 ton | S29: Sewa-jam | T29: E.07.c | W29: 715000
A30: 21 | C30: Crane 25 ton | D30: Sewa-jam | E30: E.07.d | H30: 0 | K30: 2750000000 | P30: 21 | R30: Crane 25 ton | S30: Sewa-jam | T30: E.07.d | W30: =W29+(3%*W29) -> 736450
A31: 22 | C31: Dump truck 3,5 ton | D31: Sewa-hari | E31: E.08.a | H31: 0 | K31: 335000000 | P31: 22 | R31: Dump truck 3,5 ton | S31: Sewa-hari | T31: E.08.a | W31: 2746340.9
A32: 23 | C32: Dump truck 5 ton | D32: Sewa-hari | E32: E.08.b | H32: 0 | K32: 368750000 | P32: 23 | R32: Dump truck 5 ton | S32: Sewa-hari | T32: E.08.b | W32: =W31+(3%*W31) -> 2828731.1
A33: 24 | C33: Dump truck 7 ton | D33: Sewa-hari | E33: E.08.b | H33: 0 | K33: =+H33*2000 -> 0 | P33: 24 | R33: Dump truck 7 ton | S33: Sewa-hari | T33: E.08.b | W33: =W32+(3%*W32) -> 2913593
A34: 25 | C34: Dump truck 10 ton | D34: Sewa-hari | E34: E.08.b | H34: 0 | K34: =+H34*2000 -> 0 | P34: 25 | R34: Dump truck 10 ton | S34: Sewa-hari | T34: E.08.b | W34: 4680873
A35: 26 | C35: Drilling Rig (kecil) | D35: Sewa-jam | E35: E.09.a | H35: 0 | K35: =7500*H35 -> 0 | P35: 26 | R35: Drilling Rig (kecil) | S35: Sewa-jam | T35: E.09.a | W35: 82400
A36: 27 | C36: Drilling Rig (sedang) | D36: Sewa-jam | E36: E.09.b | H36: 0 | K36: =7500*H36 -> 0 | P36: 27 | R36: Drilling Rig (sedang) | S36: Sewa-jam | T36: E.09.b | W36: 154500 | Z36: =O38/O40 -> #DIV/0!
A37: 28 | C37: Drilling Rig (besar) | D37: Sewa-jam | E37: E.09.c | H37: 0 | K37: =7500*H37 -> 0 | P37: 28 | R37: Drilling Rig (besar) | S37: Sewa-jam | T37: E.09.c | W37: 288400 | Z37: =O39/O40 -> #DIV/0!
A38: 29 | C38: Excavator (kecil)/Backhoe kecil | D38: Sewa-jam | E38: E.11.a | H38: 0 | K38: =7500*H38 -> 0 | P38: 29 | R38: Excavator (kecil)/Backhoe kecil | S38: Sewa-hari | T38: E.11.a | W38: 208766.94 | Z38: =O41/O40 -> #DIV/0!
A39: 30 | C39: Excavator (standar)/Backhoe | D39: Sewa-jam | E39: E.11.b | H39: 0 | I39: * | K39: 800000000 | P39: 30 | R39: Excavator (standar)/Backhoe | S39: Sewa-hari | T39: E.11.b | W39: 321179.9
A40: 31 | C40: Excavator (long arm) | D40: Sewa-jam | E40: E.11.c | H40: 0 | I40: * | K40: 900000000 | P40: 31 | R40: Excavator (long arm) | S40: Sewa-hari | T40: E.11.c | W40: 698988.77 | X40: *
A41: 32 | C41: Excavator besar (long arm) | D41: Sewa-jam | E41: E.11.d | H41: 0 | K41: =7500*H41 -> 0 | P41: 32 | R41: Excavator besar (long arm) | S41: Sewa-hari | T41: E.11.d | W41: =W40+(3%*W40) -> 719958.43 | X41: 155hp
A42: 33 | C42: Generator set | D42: Sewa-jam | E42: E.12 | H42: 0 | K42: 529000000 | P42: 33 | R42: Generator set | S42: Sewa-hari | T42: E.12 | W42: 564541.87
A43: 34 | C43: Geo Listrik | D43: Sewa-hari | E43: E.13 | H43: 0 | K43: =50*H43 -> 0 | P43: 34 | R43: Geo Listrik | S43: Sewa-hari | T43: E.13 | W43: 2575000
...

Sheet VOL STR
B1: BACK UP VOLUME
B3: KEGIATAN | E3: :
B4: PEKERJAAN | E4: :
B5: TAHUN | E5: :
B6: LOKASI | E6: :
B7: NO SPK | E7: :
B8: NO SPMK | E8: :
B9: NO | C9: ITEM PEKERJAAN | G9: PERHITUNGAN
J10: Panjang | L10: Lebar | N10: Tinggi | P10: Jumlah | R10: Koef | T10: Sub Total | V10: Total | W10: Sat
B11: I. | C11: PEKERJAAN PERSIAPAN
B12: 1. | C12: Penebangan Pohon | V12: 1 | W12: ls
B13: 2. | C13: Perataan dan Pembersihan Lahan | V13: 1 | W13: ls
B14: 3. | C14: Uitzet dan Pemasangan Bouwplank | V14: 1 | W14: ls
B15: 4. | C15: Papan Nama Proyek | V15: 1 | W15: unit
B16: 5. | C16: Penyiapan Dokumen RKK, RMPK | V16: 1 | W16: set
B17: 6. | C17: Peralatan P3k | V17: 1 | W17: set
B18: 7. | C18: Rambu dan Perlengkapan Lalu Lintas yang Diperlukan atau Manajemen Lalu Lintas | V18: 1 | W18: ls
B21: II. | C21: PEKERJAAN MANAJEMEN K3
B22: 1. | C22: Alat Pelindung Diri
C23: a. Topi Pelindung | V23: 10 | W23: bh
C24: b. Sarung Tangan | V24: 2 | W24: dus
C25: c. Sepatu Keselamatan | V25: 10 | W25: psg
C26: d. Rompi Keselamatan | V26: 10 | W26: psg
B27: 2. | C27: Rambu-rambu K3 | V27: 1 | W27: ls
B29: III. | C29: PEKERJAAN TANAH | G29: PERHITUNGAN
B30: 1. | C30: Penggalian 1 m3 tanah Pondasi Footplat | J30: Panjang | L30: Lebar | N30: Tinggi | P30: Jumlah | R30: Koef | T30: Sub Total | V30: Total | W30: Sat
I31: bongkar beton existing | J31: 24 | L31: 12 | N31: 0.05 | S31: = | T31: =+J31*L31*N31 -> 14.4 | V31: =+T31 -> 14.4 | W31: m3
V32: =+SUM(T33:T35) -> 234.624 | W32: m3
I33: FP1 | J33: 1.6 | K33: x | L33: 1.6 | M33: x | N33: 2.15 | O33: x | P33: 28 | S33: = | T33: =J33*L33*N33*P33 -> 154.112
I34: pondasi batu belah pot.2 | J34: 36.8 | K34: x | L34: 0.8 | M34: x | N34: 1.3 | O34: x | P34: 1 | S34: = | T34: =J34*L34*N34*P34 -> 38.272
I35: ramp dan parkir | J35: 16 | K35: x | L35: =3.3+5.5 -> 8.8 | M35: x | N35: 0.3 | O35: x | P35: 1 | S35: = | T35: =J35*L35*N35*P35 -> 42.24
B37: 2. | C37: Urugan Tanah Kembali | G37: PERHITUNGAN
J38: Panjang | L38: Lebar | N38: Tinggi | P38: Jumlah | R38: Koef | T38: Sub Total | V38: Total | W38: Sat
V40: =+V32/3 -> 78.208 | W40: m'
B43: 4. | C43: pembongkaran beton existing | G43: PERHITUNGAN
J44: Panjang | L44: Lebar | N44: Tinggi | P44: Jumlah | R44: Koef | T44: Sub Total | V44: Total | W44: Sat
V46: =T47-T49 -> 0 | W46: m3
J47: 0 | K47: x | L47: 1 | M47: x | N47: =0.77+0.45 -> 1.22 | S47: = | T47: =+J47*L47*N47 -> 0
B53: 5. | C53: Pemadatan Tanah 1 m3 per 20 cm, dengan Stamper | G53: PERHITUNGAN
J54: Panjang | L54: Lebar | N54: Tinggi | P54: Jumlah | R54: Koef | T54: Sub Total | V54: Total | W54: Sat
...

Sheet VOL.ARS
D3: p | E3: l | F3: t | G3: jml | H3: berat | I3: volume
A4: 1 | B4: PASANGAN BATA RINGAN LT.1
B5: v | C5: R GENSET | D5: =2.265+3.88+0.38+1.765+3.65 -> 11.94 | F5: 4.318 | I5: =D5*F5 -> 51.55692
B6: v | C6: SATPAM LOKER | D6: =5.88+2.765+0.765 -> 9.41 | F6: 3.818 | I6: =D6*F6 -> 35.92738
B7: v | C7: Kamar Mandi | D7: =1.88*4 -> 7.52 | F7: 3.818 | I7: =D7*F7 -> 28.71136
B8: v | C8: R FARMASI | D8: =3.65+2.765+3.995 -> 10.41 | F8: 3.15 | I8: =D8*F8 -> 32.7915
B9: v | C9: KANTOR KLINIK | D9: =3.65 -> 3.65 | F9: 3.937 | I9: =D9*F9 -> 14.37005
B10: v | D10: =1.465+2.065+0.765 -> 4.295 | F10: 3 | I10: =D10*F10 -> 12.885
B11: v | C11: PANTRY | D11: =2.14+1.505+1.465+3.65 -> 8.76 | F11: 3 | I11: =D11*F11 -> 26.28
B12: v | C12: R PANEL & SERVER | D12: =1.58+1.505+1.58+0.365 -> 5.03 | F12: 3 | I12: =D12*F12 -> 15.09
B13: v | C13: R TINDAKAN + LOBBY + ADMINISTRASI | D13: =3.65*4 -> 14.6 | F13: =1.65+2.7-0.4 -> 3.95 | I13: =D13*F13 -> 57.67
B14: v | C14: POLI UMUM | D14: =3.65+3.65+3.65 -> 10.95 | F14: 3 | I14: =D14*F14 -> 32.85
B15: v | D15: 3.65 | F15: 3.95 | I15: =D15*F15 -> 14.4175
B16: v | C16: R JENAZAH | D16: =3.65+1.265 -> 4.915 | F16: 3 | I16: =D16*F16 -> 14.745
B17: v | D17: =3.65*2 -> 7.3 | F17: 3.95 | I17: =D17*F17 -> 28.835
B18: v | C18: TOILET | D18: =2.265+1.88+2.38 -> 6.525 | F18: 3 | I18: =D18*F18 -> 19.575
B19: v | D19: 1.765 | F19: 3.95 | I19: =D19*F19 -> 6.97175
B20: v | C20: TOILET DISABILITAS | D20: =2.265+1.88+2.38 -> 6.525 | F20: 3 | I20: =D20*F20 -> 19.575
B21: v | D21: 1.765 | F21: 3.95 | I21: =D21*F21 -> 6.97175
B22: v | C22: R LAKTASI | D22: =2.38*3+2.265 -> 9.405 | F22: 3 | I22: =D22*F22 -> 28.215
B23: v | C23: POLI GIGI | D23: =3.65*2+1.262 -> 8.562 | F23: 3 | I23: =D23*F23 -> 25.686
B24: v | D24: 3.65 | F24: 3.95 | I24: =D24*F24 -> 14.4175
B25: v | C25: LAB | D25: 1.265 | F25: 3 | I25: =D25*F25 -> 3.795
B26: v | D26: =3.65*2 -> 7.3 | F26: 3.95 | I26: =D26*F26 -> 28.835
C27: R.GAS MEDIS | D27: =2.65+2.65+4+4 -> 13.3 | F27: 2.55 | I27: =D27*F27 -> 33.915
C28: R. TANDON | D28: =3.65+2.65 -> 6.3 | F28: 2.55 | I28: =D28*F28 -> 16.065
B29: v | C29: Penebalan kolom | D29: =1.135*10 -> 11.35 | F29: 3.95 | I29: =D29*F29 -> 44.8325
B30: v | C30: Dinding depan pos jaga | D30: =3.65*3 -> 10.95 | F30: 1.728 | I30: =D30*F30 -> 18.9216
B31: v | C31: Dinding taman | D31: =4.96*2+12 -> 21.92 | F31: 0.5 | I31: =D31*F31 -> 10.96
B32: v | C32: Dinding bata gas medis | D32: 3.65 | F32: 2.15 | I32: =D32*F32 -> 7.8475
B33: v | C33: Dinding VG | I33: 60.739
B34: v | C34: kusen eksterior
B35: v | C35: PB1 | D35: 1.7 | F35: 2.1 | G35: -2 | I35: =D35*F35*G35 -> -7.14
B36: v | C36: BV1 | D36: 0.589 | F36: 0.389 | G36: -3 | I36: =D36*F36*G36 -> -0.687363
B37: v | C37: BV2 | D37: 1.8 | F37: 0.389 | G37: -2 | I37: =D37*F37*G37 -> -1.4004
B38: v | C38: P1 | D38: 1.889 | F38: 2.1 | G38: -2 | I38: =D38*F38*G38 -> -7.9338
B39: v | C39: P2 | D39: 0.889 | F39: 2.1 | G39: -1 | I39: =D39*F39*G39 -> -1.8669
B40: v | C40: J1 | D40: 1.8 | F40: 1.35 | G40: -5 | I40: =D40*F40*G40 -> -12.15
B41: v | C41: PT1 | D41: 0.889 | F41: 2.1 | G41: -1 | I41: =D41*F41*G41 -> -1.8669
C42: kusen interior
...

Sheet AHS FURNITURE
C3: volume | D3: satuan | E3: harga satuan | F3: jumlah
B4: Loker 1
B5: Plywood 9mm lapis Melamic Finished | C5: =(0.5*0.35*25)+(2.5*0.5*6)+(1.85*0.5*6)+(2.5*1.85) -> 22.05 | D5: m2 | F5: =+E5*C5 -> 0
B6: Engsel sendok | C6: =25*2 -> 50 | D6: buah | F6: =+E6*C6 -> 0
B7: Kunci loker | C7: 25 | D7: buah | F7: =+E7*C7 -> 0
B8: Plint Metal Fin Duco | C8: =2.5*0.1 -> 0.25 | D8: m2 | F8: =+E8*C8 -> 0
E9: TOTAL | F9: =SUM(F5:F8) -> 0
B11: Loker 2
B12: Plywood 9mm lapis Melamic Finished | C12: =(0.5*0.35*45)+(4.5*0.5*6)+(1.85*0.5*6)+(4.5*1.85) -> 35.25 | D12: m2 | E12: =E5 -> 0 | F12: =+E12*C12 -> 0
B13: Engsel sendok | C13: =45*2 -> 90 | D13: buah | E13: =E6 -> 0 | F13: =+E13*C13 -> 0
B14: Kunci loker | C14: 45 | D14: buah | E14: =E7 -> 0 | F14: =+E14*C14 -> 0
B15: Plint Metal | C15: =4.5*0.1 -> 0.45 | D15: m2 | E15: =E8 -> 0 | F15: =+E15*C15 -> 0
E16: TOTAL | F16: =SUM(F12:F15) -> 0
B18: Credenza
B19: Plywood 9mm lapis HPL Motif Kayu | C19: =0.5*1.6 -> 0.8 | D19: m2 | F19: =+E19*C19 -> 0
B20: Plywood 9mm lapis Melamic Finished | C20: =(0.64*5)+(0.4*10)+(0.4*6.5*2)+(0.4*1.65*8)+(1.6*0.8)+((0.123*0.38)+(0.38*0.123)+(0.38*0.45)*8) -> 20.42148 | D20: m2 | F20: =+E20*C20 -> 0
B21: Plywood 9mm Fin cat duco hitam | C21: =0.1*1.6 -> 0.16 | D21: m2 | F21: =+E21*C21 -> 0
B22: Pemasangan Engsel | C22: 4 | D22: buah | F22: =+E22*C22 -> 0
B23: Pemasangan Drawer accesoris termasuk kunci | C23: 1 | D23: ls | F23: =+E23*C23 -> 0
E24: TOTAL | F24: =SUM(F19:F23) -> 0
B26: Meja Dokter
B27: Rangka hollow 20x40mm | C27: =(1.7*0.75)+((1.3+1.55)/2*0.69*2)+(0.672*0.55*2)+(0.55*0.69) -> 4.3602 | D27: m2 | F27: =+E27*C27 -> 0
B28: Plywood 9mm Fin solid surface | C28: =1.27+0.781 -> 2.051 | D28: m2 | F28: =+E28*C28 -> 0
B29: Plywood 9mm lapis Melamic Finished | C29: =(0.41*0.45)+(0.14*0.45*2)+(0.302*0.14) -> 0.35278 | D29: m2 | F29: =+E29*C29 -> 0
B30: Plywood 9mm lapis satin glass 5mm | C30: =(0.675*0.55*2)+0.619+0.359 -> 1.7205 | D30: m2 | F30: =+E30*C30 -> 0
B31: Plywood 9mm Fin HPL | C31: =1.27+(0.45*0.69*2)+(0.14*0.38) -> 1.9442 | D31: m2 | F31: =+E31*C31 -> 0
B32: Pemasangan Drawer accesoris termasuk kunci | C32: 1 | D32: ls | F32: =+E32*C32 -> 0
B33: Plint Metal Fin Duco | C33: =(0.55+1.55)*0.1 -> 0.21 | D33: m2 | F33: =+E33*C33 -> 0
E34: TOTAL | F34: =SUM(F27:F33) -> 0
B36: Meja Counter
B37: MDF 12 mm Fin solid surface | C37: =4.715*0.8 -> 3.772 | D37: m2 | F37: =+E37*C37 -> 0
B38: MDF 12 mm Fin HPL | C38: =(4.715*0.7*2)+(4.715*0.1*5)+(0.67*10)+(0.5*4*0.41) -> 16.4785 | D38: m2 | F38: =+E38*C38 -> 0
B39: MDF 12 mm Glass Stone | C39: =4.175*0.63 -> 2.63025 | D39: m2 | F39: =+E39*C39 -> 0
B40: Stainless Steel Hairline | C40: 4.715 | D40: m' | F40: =+E40*C40 -> 0
B41: LED Strip Light | C41: =C40 -> 4.715 | D41: m' | F41: =+E41*C41 -> 0
B42: Pemasangan keyboard accesoris | C42: 1 | D42: ls | F42: =+E42*C42 -> 0
E43: TOTAL | F43: =SUM(F37:F42) -> 0
B45: Meja Rapat
B46: Plywood 9mm Fin HPL | C46: =(0.6*1.2)+(2.4*1.2) -> 3.6 | D46: m2 | F46: =+E46*C46 -> 0
B47: MDF 12 mm Fin HPL | C47: =(0.09*0.57*5) -> 0.2565 | D47: m2 | F47: =+E47*C47 -> 0
...
